Workbook

Sheet VERİ GİRİŞİ
A1: İLÇE ADI: | B1: ÇİVRİL | D1: ÖDEME TİPİ SEÇİNİZ: | E1: FAİZLİ | J1: ÖDEME TARİHİ: | M1: =TODAY() -> 46142 | Q1: GERÇEKLEŞTİRME GÖR: | Z1: HARCAMA YETKİLİSİ: | AI1: VERGİ ORANI | AK1: 15
Q2: ÜNVANI: | Z2: ÜNVANI:
B3: ** Fazla kişi olan Satırlarıgizleyerek yazdırabilirsiniz
Q4: MUTEMET:
B5: ** BU BORDRODA FAİZDEN KESİNTİ YAPILMAMAKTADIR !!! | Q5: ÜNVANI:
A6: ***HESAPLAMA TABLOLARINA DOKUNMANIZ FORMÜLLERİ BOZABİLİR SADECE BU SAYFAYA BİLGİ GİŞMENİZ YETERLİ!!!
A9: =CONCATENATE('VERİ GİRİŞİ'!$B$1&" İLÇE TARIM VE ORMAN MÜDÜRLÜĞÜ GERİYE DÖNÜK EK ÖZEL HİZMET PUANTAJ TABLOSU") -> ÇİVRİL İLÇE TARIM VE ORMAN MÜDÜRLÜĞÜ GERİYE DÖNÜK EK ÖZEL HİZMET PUANTAJ TABLOSU
A10: S.NO | B10: T.C NO | C10: ADI SOYADI | D10: IBAN | E10: 2023 | O10: 2024 | AA10: 2025
E11: MART | F11: NİSAN | G11: MAYIS | H11: HAZİRAN | I11: TEMMUZ | J11: AĞUSTOS | K11: EYLÜL | L11: EKİM | M11: KASIM | N11: ARALIK | O11: OCAK | P11: ŞUBAT | Q11: MART | R11: NİSAN | S11: MAYIS | T11: HAZİRAN | U11: TEMMUZ | V11: AĞUSTOS | W11: EYLÜL | X11: EKİM | Y11: KASIM | Z11: ARALIK | AA11: OCAK | AB11: ŞUBAT | AC11: MART | AD11: NİSAN | AE11: MAYIS | AF11: HAZİRAN | AG11: TEMMUZ | AH11: AĞUSTOS | AI11: EYLÜL | AJ11: EKİM | AK11: KASIM | AL11: ARALIK
A12: 1
A13: 2
A14: 3
A15: 4
A16: 5
A17: 6
A18: 7
A19: 8
A20: 9
A21: 10
A22: 11
A23: 12
... A36: 25
D38: Mutemet | O38: Gerçekleştirme Görevlisi | AF38: Harcama Yetkilisi
A39: Tarih: | D39: ='VERİ GİRİŞİ'!$M$1 -> 46142 | L39: Tarih: | O39: ='VERİ GİRİŞİ'!$M$1 -> 46142 | AB39: Tarih: | AF39: ='VERİ GİRİŞİ'!$M$1 -> 46142
A40: Adı Soydı: | D40: ='VERİ GİRİŞİ'!$U$4 -> 0 | L40: Adı Soydı: | O40: ='VERİ GİRİŞİ'!$U$1 -> 0 | AB40: Adı Soydı: | AF40: ='VERİ GİRİŞİ'!$AD$1 -> 0
A41: Ünvanı: | D41: ='VERİ GİRİŞİ'!$U$5 -> 0 | L41: Ünvanı: | O41: ='VERİ GİRİŞİ'!$U$2 -> 0 | AB41: Ünvanı: | AF41: ='VERİ GİRİŞİ'!$AD$2 -> 0

Sheet Ayarlar
A1: Faiz Bitiş Tarihi | B1: =IF('HESAPLAMA SAYFASI'!D3="FAİZSİZ",0,'HESAPLAMA SAYFASI'!N3) -> 46142
A2: Damga Vergisi Oranı | B2: 0.00759
A3: SGK İşçi Oranı (sadece 4/B) | B3: 0.375
A4: ="Gelir Vergisi Oranı"&" ("&B4&")" -> Gelir Vergisi Oranı (0,15) | B4: =VALUE('VERİ GİRİŞİ'!AK1&"%") -> 0.15

Sheet Katsayilar
A1: Dönem Başlangıç | B1: Dönem Bitiş | C1: Memur Aylık Katsayısı
A2: 44927 | B2: 45107 | C2: 0.433684
A3: 45108 | B3: 45291 | C3: 0.509796
A4: 45292 | B4: 45473 | C4: 0.760871
A5: 45474 | B5: 45657 | C5: 0.907796
A6: 45658 | B6: 45838 | C6: 1.012556
A7: 45839 | B7: 46022 | C7: 1.170211

Sheet HESAPLAMA SAYFASI
A1: Buradaki bilgiler hesaplamada esas alınır dikkatli giriniz!!!!!!!!!!!!
C3: ÖDEME TİPİ SEÇİNİZ | D3: ='VERİ GİRİŞİ'!E1 -> FAİZLİ | J3: Faiz Başlangıç | N3: ='VERİ GİRİŞİ'!$M$1 -> 46142 | S3: ***Ödeme tarihine göre değişiklik yapılabilir
S4: ***Gelir Vergisi %15 baz alınmıştır isterseniz Ayarlar Sayfasından 20 yapabilirsiniz.
A7: S.NO | B7: T.C | C7: ADI SOYADI | D7: Yıl | E7: 2023 | O7: 2024 | AA7: 2025 | AM7: TOPLAM
D8: Ay | E8: 3 | F8: 4 | G8: 5 | H8: 6 | I8: 7 | J8: 8 | K8: 9 | L8: 10 | M8: 11 | N8: 12 | O8: 1 | P8: 2 | Q8: 3 | R8: 4 | S8: 5 | T8: 6 | U8: 7 | V8: 8 | W8: 9 | X8: 10 | Y8: 11 | Z8: 12 | AA8: 1 | AB8: 2 | AC8: 3 | AD8: 4 | AE8: 5 | AF8: 6 | AG8: 7 | AH8: 8 | AI8: 9 | AJ8: 10 | AK8: 11
A9: 1 | B9: ='VERİ GİRİŞİ'!B12 -> 0 | C9: ='VERİ GİRİŞİ'!C12 -> 0 | D9: AY | E9: 45016 | F9: 45044 | G9: 45047 | H9: 45078 | I9: 45108 | J9: 45139 | K9: 45170 | L9: 45200 | M9: 45231 | N9: 45261 | O9: 45292 | P9: 45323 | Q9: 45352 | R9: 45383 | S9: 45413 | T9: 45444 | U9: 45474 | V9: 45505 | W9: 45536 | X9: 45566 | Y9: 45597 | Z9: 45627 | AA9: 45658 | AB9: 45689 | AC9: 45717 | AD9: 45748 | AE9: 45778 | AF9: 45809 | AG9: 45839 | AH9: 45870 | AI9: 45901 | AJ9: 45931 | AK9: 45962 | AL9: 45992
D10: Gün Sayısı | E10: ='VERİ GİRİŞİ'!E12 -> 0 | F10: ='VERİ GİRİŞİ'!F12 -> 0 | G10: ='VERİ GİRİŞİ'!G12 -> 0 | H10: ='VERİ GİRİŞİ'!H12 -> 0 | I10: ='VERİ GİRİŞİ'!I12 -> 0 | J10: ='VERİ GİRİŞİ'!J12 -> 0 | K10: ='VERİ GİRİŞİ'!K12 -> 0 | L10: ='VERİ GİRİŞİ'!L12 -> 0 | ... AM10: ='VERİ GİRİŞİ'!AM12 -> 0
D11: Katsayı | E11: =SUMIFS(Katsayilar!$C$2:$C$50,Katsayilar!$A$2:$A$50,"<="&DATE(YEAR(E9),MONTH(E9),1),Katsayilar!$B$2:$B$50,">="&DATE(YEAR(E9),MONTH(E9),1)) -> 0.433684 | F11: =SUMIFS(Katsayilar!$C$2:$C$50,Katsayilar!$A$2:$A$50,"<="&DATE(YEAR(F9),MONTH(F9),1),Katsayilar!$B$2:$B$50,">="&DATE(YEAR(F9),MONTH(F9),1)) -> 0.433684 | G11: =SUMIFS(Katsayilar!$C$2:$C$50,Katsayilar!$A$2:$A$50,"<="&DATE(YEAR(G9),MONTH(G9),1),Katsayilar!$B$2:$B$50,">="&DATE(YEAR(G9),MONTH(G9),1)) -> 0.433684 | H11: =SUMIFS(Katsayilar!$C$2:$C$50,Katsayilar!$A$2:$A$50,"<="&DATE(YEAR(H9),MONTH(H9),1),Katsayilar!$B$2:$B$50,">="&DATE(YEAR(H9),MONTH(H9),1)) -> 0.433684 | I11: =SUMIFS(Katsayilar!$C$2:$C$50,Katsayilar!$A$2:$A$50,"<="&DATE(YEAR(I9),MONTH(I9),1),Katsayilar!$B$2:$B$50,">="&DATE(YEAR(I9),MONTH(I9),1)) -> 0.509796 | J11: =SUMIFS(Katsayilar!$C$2:$C$50,Katsayilar!$A$2:$A$50,"<="&DATE(YEAR(J9),MONTH(J9),1),Katsayilar!$B$2:$B$50,">="&DATE(YEAR(J9),MONTH(J9),1)) -> 0.509796 | K11: =SUMIFS(Katsayilar!$C$2:$C$50,Katsayilar!$A$2:$A$50,"<="&DATE(YEAR(K9),MONTH(K9),1),Katsayilar!$B$2:$B$50,">="&DATE(YEAR(K9),MONTH(K9),1)) -> 0.509796 | L11: =SUMIFS(Katsayilar!$C$2:$C$50,Katsayilar!$A$2:$A$50,"<="&DATE(YEAR(L9),MONTH(L9),1),Katsayilar!$B$2:$B$50,">="&DATE(YEAR(L9),MONTH(L9),1)) -> 0.509796 | ... AL11: =SUMIFS(Katsayilar!$C$2:$C$50,Katsayilar!$A$2:$A$50,"<="&DATE(YEAR(AL9),MONTH(AL9),1),Katsayilar!$B$2:$B$50,">="&DATE(YEAR(AL9),MONTH(AL9),1)) -> 1.170211
D12: Brüt Kontrol Ödemesi | E12: =IF(OR(E11="",E10=""),"",200*E11*E10) -> 0 | F12: =IF(OR(F11="",F10=""),"",200*F11*F10) -> 0 | G12: =IF(OR(G11="",G10=""),"",200*G11*G10) -> 0 | H12: =IF(OR(H11="",H10=""),"",200*H11*H10) -> 0 | I12: =IF(OR(I11="",I10=""),"",200*I11*I10) -> 0 | J12: =IF(OR(J11="",J10=""),"",200*J11*J10) -> 0 | K12: =IF(OR(K11="",K10=""),"",200*K11*K10) -> 0 | L12: =IF(OR(L11="",L10=""),"",200*L11*L10) -> 0 | ... AL12: =IF(OR(AL11="",AL10=""),"",200*AL11*AL10) -> 0
D13: =Ayarlar!A4 -> Gelir Vergisi Oranı (0,15) | E13: =IF(E12="","",E12*Ayarlar!$B$4) -> 0 | F13: =IF(F12="","",F12*Ayarlar!$B$4) -> 0 | G13: =IF(G12="","",G12*Ayarlar!$B$4) -> 0 | H13: =IF(H12="","",H12*Ayarlar!$B$4) -> 0 | I13: =IF(I12="","",I12*Ayarlar!$B$4) -> 0 | J13: =IF(J12="","",J12*Ayarlar!$B$4) -> 0 | K13: =IF(K12="","",K12*Ayarlar!$B$4) -> 0 | L13: =IF(L12="","",L12*Ayarlar!$B$4) -> 0 | ... AL13: =IF(AL12="","",AL12*Ayarlar!$B$4) -> 0
D14: Damga Vergisi | E14: =IF(E12="","",E12*Ayarlar!$B$2) -> 0 | F14: =IF(F12="","",F12*Ayarlar!$B$2) -> 0 | G14: =IF(G12="","",G12*Ayarlar!$B$2) -> 0 | H14: =IF(H12="","",H12*Ayarlar!$B$2) -> 0 | I14: =IF(I12="","",I12*Ayarlar!$B$2) -> 0 | J14: =IF(J12="","",J12*Ayarlar!$B$2) -> 0 | K14: =IF(K12="","",K12*Ayarlar!$B$2) -> 0 | L14: =IF(L12="","",L12*Ayarlar!$B$2) -> 0 | ... AL14: =IF(AL12="","",AL12*Ayarlar!$B$2) -> 0
D15: SGK Kesintisi (4/B) | E15: =IF(D2="4/B",IFERROR(E12*Ayarlar!$B$3,""),"") | F15: =IF(E2="4/B",IFERROR(F12*Ayarlar!$B$3,""),"") | G15: =IF(F2="4/B",IFERROR(G12*Ayarlar!$B$3,""),"") | H15: =IF(G2="4/B",IFERROR(H12*Ayarlar!$B$3,""),"") | I15: =IF(H2="4/B",IFERROR(I12*Ayarlar!$B$3,""),"") | J15: =IF(I2="4/B",IFERROR(J12*Ayarlar!$B$3,""),"") | K15: =IF(J2="4/B",IFERROR(K12*Ayarlar!$B$3,""),"") | L15: =IF(K2="4/B",IFERROR(L12*Ayarlar!$B$3,""),"") | ... AL15: =IF(AK2="4/B",IFERROR(AL12*Ayarlar!$B$3,""),"")
D16: Net (Faiz Öncesi) | E16: =IF(E12="","",E12-E13-E14) -> 0 | F16: =IF(F12="","",F12-F13-F14) -> 0 | G16: =IF(G12="","",G12-G13-G14) -> 0 | H16: =IF(H12="","",H12-H13-H14) -> 0 | I16: =IF(I12="","",I12-I13-I14) -> 0 | J16: =IF(J12="","",J12-J13-J14) -> 0 | K16: =IF(K12="","",K12-K13-K14) -> 0 | L16: =IF(L12="","",L12-L13-L14) -> 0 | ... AL16: =IF(AL12="","",AL12-AL13-AL14) -> 0
D17: Faiz Bitiş | E17: =IF(E9="","",Ayarlar!$B$1) -> 46142 | F17: =IF(F9="","",Ayarlar!$B$1) -> 46142 | G17: =IF(G9="","",Ayarlar!$B$1) -> 46142 | H17: =IF(H9="","",Ayarlar!$B$1) -> 46142 | I17: =IF(I9="","",Ayarlar!$B$1) -> 46142 | J17: =IF(J9="","",Ayarlar!$B$1) -> 46142 | K17: =IF(K9="","",Ayarlar!$B$1) -> 46142 | L17: =IF(L9="","",Ayarlar!$B$1) -> 46142 | ... AL17: =IF(AL9="","",Ayarlar!$B$1) -> 46142
D18: Faiz Başlangıç | E18: =IF(E9="","",EOMONTH(E9,0)) -> 45016 | F18: =IF(F9="","",EOMONTH(F9,0)) -> 45046 | G18: =IF(G9="","",EOMONTH(G9,0)) -> 45077 | H18: =IF(H9="","",EOMONTH(H9,0)) -> 45107 | I18: =IF(I9="","",EOMONTH(I9,0)) -> 45138 | J18: =IF(J9="","",EOMONTH(J9,0)) -> 45169 | K18: =IF(K9="","",EOMONTH(K9,0)) -> 45199 | L18: =IF(L9="","",EOMONTH(L9,0)) -> 45230 | ... AL18: =IF(AL9="","",EOMONTH(AL9,0)) -> 46022
D19: %9 Gün | E19: =IF(E17="","",MAX(0,MIN(E17,DATE(2024,6,1)) - E18)) -> 428 | F19: =IF(F17="","",MAX(0,MIN(F17,DATE(2024,6,1)) - F18)) -> 398 | G19: =IF(G17="","",MAX(0,MIN(G17,DATE(2024,6,1)) - G18)) -> 367 | H19: =IF(H17="","",MAX(0,MIN(H17,DATE(2024,6,1)) - H18)) -> 337 | I19: =IF(I17="","",MAX(0,MIN(I17,DATE(2024,6,1)) - I18)) -> 306 | J19: =IF(J17="","",MAX(0,MIN(J17,DATE(2024,6,1)) - J18)) -> 275 | K19: =IF(K17="","",MAX(0,MIN(K17,DATE(2024,6,1)) - K18)) -> 245 | L19: =IF(L17="","",MAX(0,MIN(L17,DATE(2024,6,1)) - L18)) -> 214 | ... AL19: =IF(AL17="","",MAX(0,MIN(AL17,DATE(2024,6,1)) - AL18)) -> 0
D20: %24 Gün | E20: =IF(E17="","",MAX(0,E17 - MAX(E18,DATE(2024,6,1)))) -> 698 | F20: =IF(F17="","",MAX(0,F17 - MAX(F18,DATE(2024,6,1)))) -> 698 | G20: =IF(G17="","",MAX(0,G17 - MAX(G18,DATE(2024,6,1)))) -> 698 | H20: =IF(H17="","",MAX(0,H17 - MAX(H18,DATE(2024,6,1)))) -> 698 | I20: =IF(I17="","",MAX(0,I17 - MAX(I18,DATE(2024,6,1)))) -> 698 | J20: =IF(J17="","",MAX(0,J17 - MAX(J18,DATE(2024,6,1)))) -> 698 | K20: =IF(K17="","",MAX(0,K17 - MAX(K18,DATE(2024,6,1)))) -> 698 | L20: =IF(L17="","",MAX(0,L17 - MAX(L18,DATE(2024,6,1)))) -> 698 | ... AL20: =IF(AL17="","",MAX(0,AL17 - MAX(AL18,DATE(2024,6,1)))) -> 120
D21: Faiz Oranı | E21: =IF(E17="","",0.09*E19/365+0.24*E20/365) -> 0.56449315 | F21: =IF(F17="","",0.09*F19/365+0.24*F20/365) -> 0.55709589 | G21: =IF(G17="","",0.09*G19/365+0.24*G20/365) -> 0.54945205 | H21: =IF(H17="","",0.09*H19/365+0.24*H20/365) -> 0.54205479 | I21: =IF(I17="","",0.09*I19/365+0.24*I20/365) -> 0.53441096 | J21: =IF(J17="","",0.09*J19/365+0.24*J20/365) -> 0.52676712 | K21: =IF(K17="","",0.09*K19/365+0.24*K20/365) -> 0.51936986 | L21: =IF(L17="","",0.09*L19/365+0.24*L20/365) -> 0.51172603 | ... AL21: =IF(AL17="","",0.09*AL19/365+0.24*AL20/365) -> 0.07890411
D22: Faiz Tutarı (Net üzerinden) | E22: =IF(E$16="","",E16*E21) -> 0 | F22: =IF(F$16="","",F16*F21) -> 0 | G22: =IF(G$16="","",G16*G21) -> 0 | H22: =IF(H$16="","",H16*H21) -> 0 | I22: =IF(I$16="","",I16*I21) -> 0 | J22: =IF(J$16="","",J16*J21) -> 0 | K22: =IF(K$16="","",K16*K21) -> 0 | L22: =IF(L$16="","",L16*L21) -> 0 | ... AL22: =IF(AL$16="","",AL16*AL21) -> 0
D23: Anapara (Brüt) + Faiz Toplamı | E23: =IF(E12="","",E12+E22) -> 0 | F23: =IF(F12="","",F12+F22) -> 0 | G23: =IF(G12="","",G12+G22) -> 0 | H23: =IF(H12="","",H12+H22) -> 0 | I23: =IF(I12="","",I12+I22) -> 0 | J23: =IF(J12="","",J12+J22) -> 0 | K23: =IF(K12="","",K12+K22) -> 0 | L23: =IF(L12="","",L12+L22) -> 0 | ... AL23: =IF(AL12="","",AL12+AL22) -> 0
D24: Ödenecek Toplam (Net + Faiz) | E24: =IF(E16="","",E16+E22) -> 0 | F24: =IF(F16="","",F16+F22) -> 0 | G24: =IF(G16="","",G16+G22) -> 0 | H24: =IF(H16="","",H16+H22) -> 0 | I24: =IF(I16="","",I16+I22) -> 0 | J24: =IF(J16="","",J16+J22) -> 0 | K24: =IF(K16="","",K16+K22) -> 0 | L24: =IF(L16="","",L16+L22) -> 0 | ... AL24: =IF(AL16="","",AL16+AL22) -> 0
D25: Katsayı | E25: =SUMIFS(Katsayilar!$C$2:$C$50,Katsayilar!$A$2:$A$50,"<="&DATE(YEAR(E9),MONTH(E9),1),Katsayilar!$B$2:$B$50,">="&DATE(YEAR(E9),MONTH(E9),1)) -> 0.433684 | I25: =SUMIFS(Katsayilar!$C$2:$C$50,Katsayilar!$A$2:$A$50,"<="&DATE(YEAR(I9),MONTH(I9),1),Katsayilar!$B$2:$B$50,">="&DATE(YEAR(I9),MONTH(I9),1)) -> 0.509796 | O25: =SUMIFS(Katsayilar!$C$2:$C$50,Katsayilar!$A$2:$A$50,"<="&DATE(YEAR(O9),MONTH(O9),1),Katsayilar!$B$2:$B$50,">="&DATE(YEAR(O9),MONTH(O9),1)) -> 0.760871 | U25: =SUMIFS(Katsayilar!$C$2:$C$50,Katsayilar!$A$2:$A$50,"<="&DATE(YEAR(U9),MONTH(U9),1),Katsayilar!$B$2:$B$50,">="&DATE(YEAR(U9),MONTH(U9),1)) -> 0.907796 | AA25: =SUMIFS(Katsayilar!$C$2:$C$50,Katsayilar!$A$2:$A$50,"<="&DATE(YEAR(AA9),MONTH(AA9),1),Katsayilar!$B$2:$B$50,">="&DATE(YEAR(AA9),MONTH(AA9),1)) -> 1.012556 | AG25: =SUMIFS(Katsayilar!$C$2:$C$50,Katsayilar!$A$2:$A$50,"<="&DATE(YEAR(AG9),MONTH(AG9),1),Katsayilar!$B$2:$B$50,">="&DATE(YEAR(AG9),MONTH(AG9),1)) -> 1.170211
D26: Brüt Kontrol Ödemesi | E26: =SUM(E12:H12) -> 0 | I26: =SUM(I12:N12) -> 0 | O26: =SUM(O12:T12) -> 0 | U26: =SUM(U12:Z12) -> 0 | AA26: =SUM(AA12:AF12) -> 0 | AG26: =SUM(AG12:AL12) -> 0 | AM26: =SUM(E26:AL26) -> 0
D27: Gelir Vergisi % 15 | E27: =SUM(E13:H13) -> 0 | I27: =SUM(I13:N13) -> 0 | O27: =SUM(O13:T13) -> 0 | U27: =SUM(U13:Z13) -> 0 | AA27: =SUM(AA13:AF13) -> 0 | AG27: =SUM(AG13:AL13) -> 0 | AM27: =SUM(E27:AL27) -> 0
D28: Damga Vergisi | E28: =SUM(E14:H14) -> 0 | I28: =SUM(I14:N14) -> 0 | O28: =SUM(O14:T14) -> 0 | U28: =SUM(U14:Z14) -> 0 | AA28: =SUM(AA14:AF14) -> 0 | AG28: =SUM(AG14:AL14) -> 0 | AM28: =SUM(E28:AL28) -> 0
D29: SGK Kesintisi (4/B) | E29: =SUM(E15:H15) -> 0 | I29: =SUM(I15:N15) -> 0 | O29: =SUM(O15:T15) -> 0 | U29: =SUM(U15:Z15) -> 0 | AA29: =SUM(AA15:AF15) -> 0 | AG29: =SUM(AG15:AL15) -> 0 | AM29: =SUM(E29:AL29) -> 0
D30: Net (Faiz Öncesi) | E30: =SUM(E16:H16) -> 0 | I30: =SUM(I16:N16) -> 0 | O30: =SUM(O16:T16) -> 0 | U30: =SUM(U16:Z16) -> 0 | AA30: =SUM(AA16:AF16) -> 0 | AG30: =SUM(AG16:AL16) -> 0 | AM30: =SUM(E30:AL30) -> 0
D31: Faiz Tutarı (Net üzerinden) | E31: =SUM(E22:H22) -> 0 | I31: =SUM(I22:N22) -> 0 | O31: =SUM(O22:T22) -> 0 | U31: =SUM(U22:Z22) -> 0 | AA31: =SUM(AA22:AF22) -> 0 | AG31: =SUM(AG22:AL22) -> 0 | AM31: =SUM(E31:AL31) -> 0
D32: Anapara (Brüt) + Faiz Toplamı | E32: =SUM(E23:H23) -> 0 | I32: =SUM(I23:N23) -> 0 | O32: =SUM(O23:T23) -> 0 | U32: =SUM(U23:Z23) -> 0 | AA32: =SUM(AA23:AF23) -> 0 | AG32: =SUM(AG23:AL23) -> 0 | AM32: =SUM(E32:AL32) -> 0
D33: Ödenecek Toplam (Net + Faiz) | E33: =SUM(E24:H24) -> 0 | I33: =SUM(I24:N24) -> 0 | O33: =SUM(O24:T24) -> 0 | U33: =SUM(U24:Z24) -> 0 | AA33: =SUM(AA24:AF24) -> 0 | AG33: =SUM(AG24:AL24) -> 0 | AM33: =SUM(E33:AL33) -> 0
A34: 2 | B34: ='VERİ GİRİŞİ'!B13 -> 0 | C34: ='VERİ GİRİŞİ'!C13 -> 0 | D34: AY | E34: 45016 | F34: 45044 | G34: 45047 | H34: 45078 | I34: 45108 | J34: 45139 | K34: 45170 | L34: 45200 | M34: 45231 | N34: 45261 | O34: 45292 | P34: 45323 | Q34: 45352 | R34: 45383 | S34: 45413 | T34: 45444 | U34: 45474 | V34: 45505 | W34: 45536 | X34: 45566 | Y34: 45597 | Z34: 45627 | AA34: 45658 | AB34: 45689 | AC34: 45717 | AD34: 45748 | AE34: 45778 | AF34: 45809 | AG34: 45839 | AH34: 45870 | AI34: 45901 | AJ34: 45931 | AK34: 45962 | AL34: 45992
D35: Gün Sayısı | E35: ='VERİ GİRİŞİ'!E13 -> 0 | F35: ='VERİ GİRİŞİ'!F13 -> 0 | G35: ='VERİ GİRİŞİ'!G13 -> 0 | H35: ='VERİ GİRİŞİ'!H13 -> 0 | I35: ='VERİ GİRİŞİ'!I13 -> 0 | J35: ='VERİ GİRİŞİ'!J13 -> 0 | K35: ='VERİ GİRİŞİ'!K13 -> 0 | L35: ='VERİ GİRİŞİ'!L13 -> 0 | ... AL35: ='VERİ GİRİŞİ'!AL13 -> 0
D36: Katsayı | E36: =SUMIFS(Katsayilar!$C$2:$C$50,Katsayilar!$A$2:$A$50,"<="&DATE(YEAR(E34),MONTH(E34),1),Katsayilar!$B$2:$B$50,">="&DATE(YEAR(E34),MONTH(E34),1)) -> 0.433684 | F36: =SUMIFS(Katsayilar!$C$2:$C$50,Katsayilar!$A$2:$A$50,"<="&DATE(YEAR(F34),MONTH(F34),1),Katsayilar!$B$2:$B$50,">="&DATE(YEAR(F34),MONTH(F34),1)) -> 0.433684 | G36: =SUMIFS(Katsayilar!$C$2:$C$50,Katsayilar!$A$2:$A$50,"<="&DATE(YEAR(G34),MONTH(G34),1),Katsayilar!$B$2:$B$50,">="&DATE(YEAR(G34),MONTH(G34),1)) -> 0.433684 | H36: =SUMIFS(Katsayilar!$C$2:$C$50,Katsayilar!$A$2:$A$50,"<="&DATE(YEAR(H34),MONTH(H34),1),Katsayilar!$B$2:$B$50,">="&DATE(YEAR(H34),MONTH(H34),1)) -> 0.433684 | I36: =SUMIFS(Katsayilar!$C$2:$C$50,Katsayilar!$A$2:$A$50,"<="&DATE(YEAR(I34),MONTH(I34),1),Katsayilar!$B$2:$B$50,">="&DATE(YEAR(I34),MONTH(I34),1)) -> 0.509796 | J36: =SUMIFS(Katsayilar!$C$2:$C$50,Katsayilar!$A$2:$A$50,"<="&DATE(YEAR(J34),MONTH(J34),1),Katsayilar!$B$2:$B$50,">="&DATE(YEAR(J34),MONTH(J34),1)) -> 0.509796 | K36: =SUMIFS(Katsayilar!$C$2:$C$50,Katsayilar!$A$2:$A$50,"<="&DATE(YEAR(K34),MONTH(K34),1),Katsayilar!$B$2:$B$50,">="&DATE(YEAR(K34),MONTH(K34),1)) -> 0.509796 | L36: =SUMIFS(Katsayilar!$C$2:$C$50,Katsayilar!$A$2:$A$50,"<="&DATE(YEAR(L34),MONTH(L34),1),Katsayilar!$B$2:$B$50,">="&DATE(YEAR(L34),MONTH(L34),1)) -> 0.509796 | ... AL36: =SUMIFS(Katsayilar!$C$2:$C$50,Katsayilar!$A$2:$A$50,"<="&DATE(YEAR(AL34),MONTH(AL34),1),Katsayilar!$B$2:$B$50,">="&DATE(YEAR(AL34),MONTH(AL34),1)) -> 1.170211
D37: Brüt Kontrol Ödemesi | E37: =IF(OR(E36="",E35=""),"",200*E36*E35) -> 0 | F37: =IF(OR(F36="",F35=""),"",200*F36*F35) -> 0 | G37: =IF(OR(G36="",G35=""),"",200*G36*G35) -> 0 | H37: =IF(OR(H36="",H35=""),"",200*H36*H35) -> 0 | I37: =IF(OR(I36="",I35=""),"",200*I36*I35) -> 0 | J37: =IF(OR(J36="",J35=""),"",200*J36*J35) -> 0 | K37: =IF(OR(K36="",K35=""),"",200*K36*K35) -> 0 | L37: =IF(OR(L36="",L35=""),"",200*L36*L35) -> 0 | ... AL37: =IF(OR(AL36="",AL35=""),"",200*AL36*AL35) -> 0
D38: Gelir Vergisi % 15 | E38: =IF(E37="","",E37*Ayarlar!$B$4) -> 0 | F38: =IF(F37="","",F37*Ayarlar!$B$4) -> 0 | G38: =IF(G37="","",G37*Ayarlar!$B$4) -> 0 | H38: =IF(H37="","",H37*Ayarlar!$B$4) -> 0 | I38: =IF(I37="","",I37*Ayarlar!$B$4) -> 0 | J38: =IF(J37="","",J37*Ayarlar!$B$4) -> 0 | K38: =IF(K37="","",K37*Ayarlar!$B$4) -> 0 | L38: =IF(L37="","",L37*Ayarlar!$B$4) -> 0 | ... AL38: =IF(AL37="","",AL37*Ayarlar!$B$4) -> 0
D39: Damga Vergisi | E39: =IF(E37="","",E37*Ayarlar!$B$2) -> 0 | F39: =IF(F37="","",F37*Ayarlar!$B$2) -> 0 | G39: =IF(G37="","",G37*Ayarlar!$B$2) -> 0 | H39: =IF(H37="","",H37*Ayarlar!$B$2) -> 0 | I39: =IF(I37="","",I37*Ayarlar!$B$2) -> 0 | J39: =IF(J37="","",J37*Ayarlar!$B$2) -> 0 | K39: =IF(K37="","",K37*Ayarlar!$B$2) -> 0 | L39: =IF(L37="","",L37*Ayarlar!$B$2) -> 0 | ... AL39: =IF(AL37="","",AL37*Ayarlar!$B$2) -> 0
D40: SGK Kesintisi (4/B) | E40: =IF(D27="4/B",IFERROR(E37*Ayarlar!$B$3,""),"") | F40: =IF(E27="4/B",IFERROR(F37*Ayarlar!$B$3,""),"") | G40: =IF(F27="4/B",IFERROR(G37*Ayarlar!$B$3,""),"") | H40: =IF(G27="4/B",IFERROR(H37*Ayarlar!$B$3,""),"") | I40: =IF(H27="4/B",IFERROR(I37*Ayarlar!$B$3,""),"") | J40: =IF(I27="4/B",IFERROR(J37*Ayarlar!$B$3,""),"") | K40: =IF(J27="4/B",IFERROR(K37*Ayarlar!$B$3,""),"") | L40: =IF(K27="4/B",IFERROR(L37*Ayarlar!$B$3,""),"") | ... AL40: =IF(AK27="4/B",IFERROR(AL37*Ayarlar!$B$3,""),"")
D41: Net (Faiz Öncesi) | E41: =IF(E37="","",E37-E38-E39) -> 0 | F41: =IF(F37="","",F37-F38-F39) -> 0 | G41: =IF(G37="","",G37-G38-G39) -> 0 | H41: =IF(H37="","",H37-H38-H39) -> 0 | I41: =IF(I37="","",I37-I38-I39) -> 0 | J41: =IF(J37="","",J37-J38-J39) -> 0 | K41: =IF(K37="","",K37-K38-K39) -> 0 | L41: =IF(L37="","",L37-L38-L39) -> 0 | ... AL41: =IF(AL37="","",AL37-AL38-AL39) -> 0
D42: Faiz Bitiş | E42: =IF(E34="","",Ayarlar!$B$1) -> 46142 | F42: =IF(F34="","",Ayarlar!$B$1) -> 46142 | G42: =IF(G34="","",Ayarlar!$B$1) -> 46142 | H42: =IF(H34="","",Ayarlar!$B$1) -> 46142 | I42: =IF(I34="","",Ayarlar!$B$1) -> 46142 | J42: =IF(J34="","",Ayarlar!$B$1) -> 46142 | K42: =IF(K34="","",Ayarlar!$B$1) -> 46142 | L42: =IF(L34="","",Ayarlar!$B$1) -> 46142 | ... AL42: =IF(AL34="","",Ayarlar!$B$1) -> 46142
D43: Faiz Başlangıç | E43: =IF(E34="","",EOMONTH(E34,0)) -> 45016 | F43: =IF(F34="","",EOMONTH(F34,0)) -> 45046 | G43: =IF(G34="","",EOMONTH(G34,0)) -> 45077 | H43: =IF(H34="","",EOMONTH(H34,0)) -> 45107 | I43: =IF(I34="","",EOMONTH(I34,0)) -> 45138 | J43: =IF(J34="","",EOMONTH(J34,0)) -> 45169 | K43: =IF(K34="","",EOMONTH(K34,0)) -> 45199 | L43: =IF(L34="","",EOMONTH(L34,0)) -> 45230 | ... AL43: =IF(AL34="","",EOMONTH(AL34,0)) -> 46022
...

Sheet ÇÖB Bordrosu
A5: =CONCATENATE('VERİ GİRİŞİ'!$B$1&" İLÇE TARIM VE ORMAN MÜDÜRLÜĞÜ GERİYE DÖNÜK EK ÖZEL HİZMET TAZMİNATI ÇEŞİTLİ ÖDEMELER BORDROSU") -> ÇİVRİL İLÇE TARIM VE ORMAN MÜDÜRLÜĞÜ GERİYE DÖNÜK EK ÖZEL HİZMET TAZMİNATI ÇEŞİTLİ ÖDEMELER BORDROSU
AH6: Tarih: | AK6: ='HESAPLAMA SAYFASI'!N3 -> 46142
A7: SIRA | B7: T.C NO | C7: ADI SOYADI | D7: Yıl | E7: 2023 | O7: 2024 | AA7: 2025 | AM7: TOPLAM
D8: Ay | E8: 3 | F8: 4 | G8: 5 | H8: 6 | I8: 7 | J8: 8 | K8: 9 | L8: 10 | M8: 11 | N8: 12 | O8: 1 | P8: 2 | Q8: 3 | R8: 4 | S8: 5 | T8: 6 | U8: 7 | V8: 8 | W8: 9 | X8: 10 | Y8: 11 | Z8: 12 | AA8: 1 | AB8: 2 | AC8: 3 | AD8: 4 | AE8: 5 | AF8: 6 | AG8: 7 | AH8: 8 | AI8: 9 | AJ8: 10 | AK8: 11 | AL8: 12
D9: KATSAYI | E9: =Katsayilar!C2 -> 0.433684 | I9: =Katsayilar!C3 -> 0.509796 | O9: =Katsayilar!C4 -> 0.760871 | U9: =Katsayilar!C5 -> 0.907796 | AA9: =Katsayilar!C6 -> 1.012556 | AG9: =Katsayilar!C7 -> 1.170211
D10: Günlük Gösterge Puanı | E10: 200 | I10: 200 | O10: 200 | U10: 200 | AA10: 200 | AG10: 200
D11: Faiz %9 Gün | E11: ='HESAPLAMA SAYFASI'!E19 -> 428 | F11: ='HESAPLAMA SAYFASI'!F19 -> 398 | G11: ='HESAPLAMA SAYFASI'!G19 -> 367 | H11: ='HESAPLAMA SAYFASI'!H19 -> 337 | I11: ='HESAPLAMA SAYFASI'!I19 -> 306 | J11: ='HESAPLAMA SAYFASI'!J19 -> 275 | K11: ='HESAPLAMA SAYFASI'!K19 -> 245 | L11: ='HESAPLAMA SAYFASI'!L19 -> 214 | ... AL11: ='HESAPLAMA SAYFASI'!AL19 -> 0
D12: Faiz %24 Gün | E12: ='HESAPLAMA SAYFASI'!E20 -> 698 | F12: ='HESAPLAMA SAYFASI'!F20 -> 698 | G12: ='HESAPLAMA SAYFASI'!G20 -> 698 | H12: ='HESAPLAMA SAYFASI'!H20 -> 698 | I12: ='HESAPLAMA SAYFASI'!I20 -> 698 | J12: ='HESAPLAMA SAYFASI'!J20 -> 698 | K12: ='HESAPLAMA SAYFASI'!K20 -> 698 | L12: ='HESAPLAMA SAYFASI'!L20 -> 698 | ... AL12: ='HESAPLAMA SAYFASI'!AL20 -> 120
D13: Faiz Oranı | E13: 0.50334247 | F13: 0.49594521 | G13: 0.48830137 | H13: 0.48090411 | I13: 0.47326027 | J13: 0.46561644 | K13: 0.45821918 | L13: 0.45057534 | M13: 0.44317808 | N13: 0.43553425 | O13: 0.42789041 | P13: 0.42073973 | Q13: 0.41309589 | R13: 0.40569863 | S13: 0.39805479 | T13: 0.37873973 | U13: 0.35835616 | V13: 0.3379726 | W13: 0.31824658 | X13: 0.29786301 | Y13: 0.27813699 | Z13: 0.25775342 | AA13: 0.23736986 | AB13: 0.2189589 | AC13: 0.19857534 | AD13: 0.17884932 | AE13: 0.15846575 | AF13: 0.13873973 | AG13: 0.11835616 | AH13: 0.097972603 | AI13: 0.078246575 | AJ13: 0.057863014 | AK13: 0.038136986 | AL13: 0.017753425
A14: ='HESAPLAMA SAYFASI'!A9 -> 1 | B14: ='HESAPLAMA SAYFASI'!B9 -> 0 | C14: ='HESAPLAMA SAYFASI'!C9 -> 0 | D14: Gün Sayısı | E14: ='HESAPLAMA SAYFASI'!E10 -> 0 | F14: ='HESAPLAMA SAYFASI'!F10 -> 0 | G14: ='HESAPLAMA SAYFASI'!G10 -> 0 | H14: ='HESAPLAMA SAYFASI'!H10 -> 0 | I14: ='HESAPLAMA SAYFASI'!I10 -> 0 | J14: ='HESAPLAMA SAYFASI'!J10 -> 0 | K14: ='HESAPLAMA SAYFASI'!K10 -> 0 | L14: ='HESAPLAMA SAYFASI'!L10 -> 0 | ... AL14: ='HESAPLAMA SAYFASI'!AL10 -> 0
D15: Brüt Kontrol Ödemesi | E15: ='HESAPLAMA SAYFASI'!E26 -> 0 | I15: ='HESAPLAMA SAYFASI'!I26 -> 0 | O15: ='HESAPLAMA SAYFASI'!O26 -> 0 | U15: ='HESAPLAMA SAYFASI'!U26 -> 0 | AA15: ='HESAPLAMA SAYFASI'!AA26 -> 0 | AG15: ='HESAPLAMA SAYFASI'!AG26 -> 0 | AM15: =SUM(E15:AL15) -> 0
D16: =Ayarlar!$A$4 -> Gelir Vergisi Oranı (0,15) | E16: ='HESAPLAMA SAYFASI'!E27 -> 0 | I16: ='HESAPLAMA SAYFASI'!I27 -> 0 | O16: ='HESAPLAMA SAYFASI'!O27 -> 0 | U16: ='HESAPLAMA SAYFASI'!U27 -> 0 | AA16: ='HESAPLAMA SAYFASI'!AA27 -> 0 | AG16: ='HESAPLAMA SAYFASI'!AG27 -> 0 | AM16: =SUM(E16:AL16) -> 0
D17: Damga Vergisi | E17: ='HESAPLAMA SAYFASI'!E28 -> 0 | I17: ='HESAPLAMA SAYFASI'!I28 -> 0 | O17: ='HESAPLAMA SAYFASI'!O28 -> 0 | U17: ='HESAPLAMA SAYFASI'!U28 -> 0 | AA17: ='HESAPLAMA SAYFASI'!AA28 -> 0 | AG17: ='HESAPLAMA SAYFASI'!AG28 -> 0 | AM17: =SUM(E17:AL17) -> 0
D18: Net (Faiz Öncesi) | E18: ='HESAPLAMA SAYFASI'!E30 -> 0 | I18: ='HESAPLAMA SAYFASI'!I30 -> 0 | O18: ='HESAPLAMA SAYFASI'!O30 -> 0 | U18: ='HESAPLAMA SAYFASI'!U30 -> 0 | AA18: ='HESAPLAMA SAYFASI'!AA30 -> 0 | AG18: ='HESAPLAMA SAYFASI'!AG30 -> 0 | AM18: =SUM(E18:AL18) -> 0
D19: Faiz Tutarı (Net üzerinden) | E19: ='HESAPLAMA SAYFASI'!E31 -> 0 | I19: ='HESAPLAMA SAYFASI'!I31 -> 0 | O19: ='HESAPLAMA SAYFASI'!O31 -> 0 | U19: ='HESAPLAMA SAYFASI'!U31 -> 0 | AA19: ='HESAPLAMA SAYFASI'!AA31 -> 0 | AG19: ='HESAPLAMA SAYFASI'!AG31 -> 0 | AM19: =SUM(E19:AL19) -> 0
D20: Ödenecek Toplam (Net + Faiz) | E20: ='HESAPLAMA SAYFASI'!E33 -> 0 | I20: ='HESAPLAMA SAYFASI'!I33 -> 0 | O20: ='HESAPLAMA SAYFASI'!O33 -> 0 | U20: ='HESAPLAMA SAYFASI'!U33 -> 0 | AA20: ='HESAPLAMA SAYFASI'!AA33 -> 0 | AG20: ='HESAPLAMA SAYFASI'!AG33 -> 0 | AM20: =SUM(E20:AL20) -> 0
A21: ='HESAPLAMA SAYFASI'!A34 -> 2 | B21: ='HESAPLAMA SAYFASI'!B34 -> 0 | C21: ='HESAPLAMA SAYFASI'!C34 -> 0 | D21: Gün Sayısı | E21: ='HESAPLAMA SAYFASI'!E35 -> 0 | F21: ='HESAPLAMA SAYFASI'!F35 -> 0 | G21: ='HESAPLAMA SAYFASI'!G35 -> 0 | H21: ='HESAPLAMA SAYFASI'!H35 -> 0 | I21: ='HESAPLAMA SAYFASI'!I35 -> 0 | J21: ='HESAPLAMA SAYFASI'!J35 -> 0 | K21: ='HESAPLAMA SAYFASI'!K35 -> 0 | L21: ='HESAPLAMA SAYFASI'!L35 -> 0 | ... AL21: ='HESAPLAMA SAYFASI'!AL35 -> 0
D22: Brüt Kontrol Ödemesi | E22: ='HESAPLAMA SAYFASI'!E51 -> 0 | I22: ='HESAPLAMA SAYFASI'!I51 -> 0 | O22: ='HESAPLAMA SAYFASI'!O51 -> 0 | U22: ='HESAPLAMA SAYFASI'!U51 -> 0 | AA22: ='HESAPLAMA SAYFASI'!AA51 -> 0 | AG22: ='HESAPLAMA SAYFASI'!AG51 -> 0 | AM22: =SUM(E22:AL22) -> 0
D23: =Ayarlar!$A$4 -> Gelir Vergisi Oranı (0,15) | E23: ='HESAPLAMA SAYFASI'!E52 -> 0 | I23: ='HESAPLAMA SAYFASI'!I52 -> 0 | O23: ='HESAPLAMA SAYFASI'!O52 -> 0 | U23: ='HESAPLAMA SAYFASI'!U52 -> 0 | AA23: ='HESAPLAMA SAYFASI'!AA52 -> 0 | AG23: ='HESAPLAMA SAYFASI'!AG52 -> 0 | AM23: =SUM(E23:AL23) -> 0
D24: Damga Vergisi | E24: ='HESAPLAMA SAYFASI'!E53 -> 0 | I24: ='HESAPLAMA SAYFASI'!I53 -> 0 | O24: ='HESAPLAMA SAYFASI'!O53 -> 0 | U24: ='HESAPLAMA SAYFASI'!U53 -> 0 | AA24: ='HESAPLAMA SAYFASI'!AA53 -> 0 | AG24: ='HESAPLAMA SAYFASI'!AG53 -> 0 | AM24: =SUM(E24:AL24) -> 0
D25: Net (Faiz Öncesi) | E25: ='HESAPLAMA SAYFASI'!E55 -> 0 | I25: ='HESAPLAMA SAYFASI'!I55 -> 0 | O25: ='HESAPLAMA SAYFASI'!O55 -> 0 | U25: ='HESAPLAMA SAYFASI'!U55 -> 0 | AA25: ='HESAPLAMA SAYFASI'!AA55 -> 0 | AG25: ='HESAPLAMA SAYFASI'!AG55 -> 0 | AM25: =SUM(E25:AL25) -> 0
D26: Faiz Tutarı (Net üzerinden) | E26: ='HESAPLAMA SAYFASI'!E56 -> 0 | I26: ='HESAPLAMA SAYFASI'!I56 -> 0 | O26: ='HESAPLAMA SAYFASI'!O56 -> 0 | U26: ='HESAPLAMA SAYFASI'!U56 -> 0 | AA26: ='HESAPLAMA SAYFASI'!AA56 -> 0 | AG26: ='HESAPLAMA SAYFASI'!AG56 -> 0 | AM26: =SUM(E26:AL26) -> 0
D27: Ödenecek Toplam (Net + Faiz) | E27: ='HESAPLAMA SAYFASI'!E58 -> 0 | I27: ='HESAPLAMA SAYFASI'!I58 -> 0 | O27: ='HESAPLAMA SAYFASI'!O58 -> 0 | U27: ='HESAPLAMA SAYFASI'!U58 -> 0 | AA27: ='HESAPLAMA SAYFASI'!AA58 -> 0 | AG27: ='HESAPLAMA SAYFASI'!AG58 -> 0 | AM27: =SUM(E27:AL27) -> 0
A28: ='HESAPLAMA SAYFASI'!A59 -> 3 | B28: ='HESAPLAMA SAYFASI'!B59 -> 0 | C28: ='HESAPLAMA SAYFASI'!C59 -> 0 | D28: Gün Sayısı | E28: ='HESAPLAMA SAYFASI'!E60 -> 0 | F28: ='HESAPLAMA SAYFASI'!F60 -> 0 | G28: ='HESAPLAMA SAYFASI'!G60 -> 0 | H28: ='HESAPLAMA SAYFASI'!H60 -> 0 | I28: ='HESAPLAMA SAYFASI'!I60 -> 0 | J28: ='HESAPLAMA SAYFASI'!J60 -> 0 | K28: ='HESAPLAMA SAYFASI'!K60 -> 0 | L28: ='HESAPLAMA SAYFASI'!L60 -> 0 | ... AL28: ='HESAPLAMA SAYFASI'!AL60 -> 0
D29: Brüt Kontrol Ödemesi | E29: ='HESAPLAMA SAYFASI'!E76 -> 0 | I29: ='HESAPLAMA SAYFASI'!I76 -> 0 | O29: ='HESAPLAMA SAYFASI'!O76 -> 0 | U29: ='HESAPLAMA SAYFASI'!U76 -> 0 | AA29: ='HESAPLAMA SAYFASI'!AA76 -> 0 | AG29: ='HESAPLAMA SAYFASI'!AG76 -> 0 | AM29: =SUM(E29:AL29) -> 0
D30: =Ayarlar!$A$4 -> Gelir Vergisi Oranı (0,15) | E30: ='HESAPLAMA SAYFASI'!E77 -> 0 | I30: ='HESAPLAMA SAYFASI'!I77 -> 0 | O30: ='HESAPLAMA SAYFASI'!O77 -> 0 | U30: ='HESAPLAMA SAYFASI'!U77 -> 0 | AA30: ='HESAPLAMA SAYFASI'!AA77 -> 0 | AG30: ='HESAPLAMA SAYFASI'!AG77 -> 0 | AM30: =SUM(E30:AL30) -> 0
D31: Damga Vergisi | E31: ='HESAPLAMA SAYFASI'!E78 -> 0 | I31: ='HESAPLAMA SAYFASI'!I78 -> 0 | O31: ='HESAPLAMA SAYFASI'!O78 -> 0 | U31: ='HESAPLAMA SAYFASI'!U78 -> 0 | AA31: ='HESAPLAMA SAYFASI'!AA78 -> 0 | AG31: ='HESAPLAMA SAYFASI'!AG78 -> 0 | AM31: =SUM(E31:AL31) -> 0
D32: Net (Faiz Öncesi) | E32: ='HESAPLAMA SAYFASI'!E80 -> 0 | I32: ='HESAPLAMA SAYFASI'!I80 -> 0 | O32: ='HESAPLAMA SAYFASI'!O80 -> 0 | U32: ='HESAPLAMA SAYFASI'!U80 -> 0 | AA32: ='HESAPLAMA SAYFASI'!AA80 -> 0 | AG32: ='HESAPLAMA SAYFASI'!AG80 -> 0 | AM32: =SUM(E32:AL32) -> 0
D33: Faiz Tutarı (Net üzerinden) | E33: ='HESAPLAMA SAYFASI'!E81 -> 0 | I33: ='HESAPLAMA SAYFASI'!I81 -> 0 | O33: ='HESAPLAMA SAYFASI'!O81 -> 0 | U33: ='HESAPLAMA SAYFASI'!U81 -> 0 | AA33: ='HESAPLAMA SAYFASI'!AA81 -> 0 | AG33: ='HESAPLAMA SAYFASI'!AG81 -> 0 | AM33: =SUM(E33:AL33) -> 0
D34: Ödenecek Toplam (Net + Faiz) | E34: ='HESAPLAMA SAYFASI'!E83 -> 0 | I34: ='HESAPLAMA SAYFASI'!I83 -> 0 | O34: ='HESAPLAMA SAYFASI'!O83 -> 0 | U34: ='HESAPLAMA SAYFASI'!U83 -> 0 | AA34: ='HESAPLAMA SAYFASI'!AA83 -> 0 | AG34: ='HESAPLAMA SAYFASI'!AG83 -> 0 | AM34: =SUM(E34:AL34) -> 0
A35: ='HESAPLAMA SAYFASI'!A84 -> 4 | B35: ='HESAPLAMA SAYFASI'!B84 -> 0 | C35: ='HESAPLAMA SAYFASI'!C84 -> 0 | D35: Gün Sayısı | E35: ='HESAPLAMA SAYFASI'!E85 -> 0 | F35: ='HESAPLAMA SAYFASI'!F85 -> 0 | G35: ='HESAPLAMA SAYFASI'!G85 -> 0 | H35: ='HESAPLAMA SAYFASI'!H85 -> 0 | I35: ='HESAPLAMA SAYFASI'!I85 -> 0 | J35: ='HESAPLAMA SAYFASI'!J85 -> 0 | K35: ='HESAPLAMA SAYFASI'!K85 -> 0 | L35: ='HESAPLAMA SAYFASI'!L85 -> 0 | ... AL35: ='HESAPLAMA SAYFASI'!AL85 -> 0
D36: Brüt Kontrol Ödemesi | E36: ='HESAPLAMA SAYFASI'!E101 -> 0 | I36: ='HESAPLAMA SAYFASI'!I101 -> 0 | O36: ='HESAPLAMA SAYFASI'!O101 -> 0 | U36: ='HESAPLAMA SAYFASI'!U101 -> 0 | AA36: ='HESAPLAMA SAYFASI'!AA101 -> 0 | AG36: ='HESAPLAMA SAYFASI'!AG101 -> 0 | AM36: =SUM(E36:AL36) -> 0
D37: =Ayarlar!$A$4 -> Gelir Vergisi Oranı (0,15) | E37: ='HESAPLAMA SAYFASI'!E102 -> 0 | I37: ='HESAPLAMA SAYFASI'!I102 -> 0 | O37: ='HESAPLAMA SAYFASI'!O102 -> 0 | U37: ='HESAPLAMA SAYFASI'!U102 -> 0 | AA37: ='HESAPLAMA SAYFASI'!AA102 -> 0 | AG37: ='HESAPLAMA SAYFASI'!AG102 -> 0 | AM37: =SUM(E37:AL37) -> 0
D38: Damga Vergisi | E38: ='HESAPLAMA SAYFASI'!E103 -> 0 | I38: ='HESAPLAMA SAYFASI'!I103 -> 0 | O38: ='HESAPLAMA SAYFASI'!O103 -> 0 | U38: ='HESAPLAMA SAYFASI'!U103 -> 0 | AA38: ='HESAPLAMA SAYFASI'!AA103 -> 0 | AG38: ='HESAPLAMA SAYFASI'!AG103 -> 0 | AM38: =SUM(E38:AL38) -> 0
D39: Net (Faiz Öncesi) | E39: ='HESAPLAMA SAYFASI'!E105 -> 0 | I39: ='HESAPLAMA SAYFASI'!I105 -> 0 | O39: ='HESAPLAMA SAYFASI'!O105 -> 0 | U39: ='HESAPLAMA SAYFASI'!U105 -> 0 | AA39: ='HESAPLAMA SAYFASI'!AA105 -> 0 | AG39: ='HESAPLAMA SAYFASI'!AG105 -> 0 | AM39: =SUM(E39:AL39) -> 0
D40: Faiz Tutarı (Net üzerinden) | E40: ='HESAPLAMA SAYFASI'!E106 -> 0 | I40: ='HESAPLAMA SAYFASI'!I106 -> 0 | O40: ='HESAPLAMA SAYFASI'!O106 -> 0 | U40: ='HESAPLAMA SAYFASI'!U106 -> 0 | AA40: ='HESAPLAMA SAYFASI'!AA106 -> 0 | AG40: ='HESAPLAMA SAYFASI'!AG106 -> 0 | AM40: =SUM(E40:AL40) -> 0
D41: Ödenecek Toplam (Net + Faiz) | E41: ='HESAPLAMA SAYFASI'!E108 -> 0 | I41: ='HESAPLAMA SAYFASI'!I108 -> 0 | O41: ='HESAPLAMA SAYFASI'!O108 -> 0 | U41: ='HESAPLAMA SAYFASI'!U108 -> 0 | AA41: ='HESAPLAMA SAYFASI'!AA108 -> 0 | AG41: ='HESAPLAMA SAYFASI'!AG108 -> 0 | AM41: =SUM(E41:AL41) -> 0
A42: ='HESAPLAMA SAYFASI'!A109 -> 5 | B42: ='HESAPLAMA SAYFASI'!B109 -> 0 | C42: ='HESAPLAMA SAYFASI'!C109 -> 0 | D42: Gün Sayısı | E42: ='HESAPLAMA SAYFASI'!E110 -> 0 | F42: ='HESAPLAMA SAYFASI'!F110 -> 0 | G42: ='HESAPLAMA SAYFASI'!G110 -> 0 | H42: ='HESAPLAMA SAYFASI'!H110 -> 0 | I42: ='HESAPLAMA SAYFASI'!I110 -> 0 | J42: ='HESAPLAMA SAYFASI'!J110 -> 0 | K42: ='HESAPLAMA SAYFASI'!K110 -> 0 | L42: ='HESAPLAMA SAYFASI'!L110 -> 0 | ... AL42: ='HESAPLAMA SAYFASI'!AL110 -> 0
D43: Brüt Kontrol Ödemesi | E43: ='HESAPLAMA SAYFASI'!E126 -> 0 | I43: ='HESAPLAMA SAYFASI'!I126 -> 0 | O43: ='HESAPLAMA SAYFASI'!O126 -> 0 | U43: ='HESAPLAMA SAYFASI'!U126 -> 0 | AA43: ='HESAPLAMA SAYFASI'!AA126 -> 0 | AG43: ='HESAPLAMA SAYFASI'!AG126 -> 0 | AM43: =SUM(E43:AL43) -> 0
D44: =Ayarlar!$A$4 -> Gelir Vergisi Oranı (0,15) | E44: ='HESAPLAMA SAYFASI'!E127 -> 0 | I44: ='HESAPLAMA SAYFASI'!I127 -> 0 | O44: ='HESAPLAMA SAYFASI'!O127 -> 0 | U44: ='HESAPLAMA SAYFASI'!U127 -> 0 | AA44: ='HESAPLAMA SAYFASI'!AA127 -> 0 | AG44: ='HESAPLAMA SAYFASI'!AG127 -> 0 | AM44: =SUM(E44:AL44) -> 0
...

Sheet Banka Listesi
A1: =CONCATENATE('VERİ GİRİŞİ'!$B$1&" İLÇE TARIM VE ORMAN MÜDÜRLÜĞÜ") -> ÇİVRİL İLÇE TARIM VE ORMAN MÜDÜRLÜĞÜ
A3: GERİYE DÖNÜK EK ÖZEL HİZMET TAZMİNATI BANKA LİSTESİ DÖKÜMÜ
A8: Sıra No | B8: TC Kimlik No | C8: Ad Soyad | D8: İban | E8: Net Ödeme (₺)
A9: 1 | B9: =IF('VERİ GİRİŞİ'!B12="","",'VERİ GİRİŞİ'!B12) | C9: =IF('VERİ GİRİŞİ'!C12="","",'VERİ GİRİŞİ'!C12) | D9: =IF('VERİ GİRİŞİ'!D12="","",'VERİ GİRİŞİ'!D12) | E9: ='ÇÖB Bordrosu'!AM20 -> 0
A10: 2 | B10: =IF('VERİ GİRİŞİ'!B13="","",'VERİ GİRİŞİ'!B13) | C10: =IF('VERİ GİRİŞİ'!C13="","",'VERİ GİRİŞİ'!C13) | D10: =IF('VERİ GİRİŞİ'!D13="","",'VERİ GİRİŞİ'!D13) | E10: ='ÇÖB Bordrosu'!AM27 -> 0
A11: 3 | B11: =IF('VERİ GİRİŞİ'!B14="","",'VERİ GİRİŞİ'!B14) | C11: =IF('VERİ GİRİŞİ'!C14="","",'VERİ GİRİŞİ'!C14) | D11: =IF('VERİ GİRİŞİ'!D14="","",'VERİ GİRİŞİ'!D14) | E11: ='ÇÖB Bordrosu'!AM34 -> 0
A12: 4 | B12: =IF('VERİ GİRİŞİ'!B15="","",'VERİ GİRİŞİ'!B15) | C12: =IF('VERİ GİRİŞİ'!C15="","",'VERİ GİRİŞİ'!C15) | D12: =IF('VERİ GİRİŞİ'!D15="","",'VERİ GİRİŞİ'!D15) | E12: ='ÇÖB Bordrosu'!AM41 -> 0
A13: 5 | B13: =IF('VERİ GİRİŞİ'!B16="","",'VERİ GİRİŞİ'!B16) | C13: =IF('VERİ GİRİŞİ'!C16="","",'VERİ GİRİŞİ'!C16) | D13: =IF('VERİ GİRİŞİ'!D16="","",'VERİ GİRİŞİ'!D16) | E13: ='ÇÖB Bordrosu'!AM48 -> 0
A14: 6 | B14: =IF('VERİ GİRİŞİ'!B17="","",'VERİ GİRİŞİ'!B17) | C14: =IF('VERİ GİRİŞİ'!C17="","",'VERİ GİRİŞİ'!C17) | D14: =IF('VERİ GİRİŞİ'!D17="","",'VERİ GİRİŞİ'!D17) | E14: ='ÇÖB Bordrosu'!AM55 -> 0
A15: 7 | B15: =IF('VERİ GİRİŞİ'!B18="","",'VERİ GİRİŞİ'!B18) | C15: =IF('VERİ GİRİŞİ'!C18="","",'VERİ GİRİŞİ'!C18) | D15: =IF('VERİ GİRİŞİ'!D18="","",'VERİ GİRİŞİ'!D18) | E15: ='ÇÖB Bordrosu'!AM62 -> 0
A16: 8 | B16: =IF('VERİ GİRİŞİ'!B19="","",'VERİ GİRİŞİ'!B19) | C16: =IF('VERİ GİRİŞİ'!C19="","",'VERİ GİRİŞİ'!C19) | D16: =IF('VERİ GİRİŞİ'!D19="","",'VERİ GİRİŞİ'!D19) | E16: ='ÇÖB Bordrosu'!AM69 -> 0
A17: 9 | B17: =IF('VERİ GİRİŞİ'!B20="","",'VERİ GİRİŞİ'!B20) | C17: =IF('VERİ GİRİŞİ'!C20="","",'VERİ GİRİŞİ'!C20) | D17: =IF('VERİ GİRİŞİ'!D20="","",'VERİ GİRİŞİ'!D20) | E17: ='ÇÖB Bordrosu'!AM76 -> 0
A18: 10 | B18: =IF('VERİ GİRİŞİ'!B21="","",'VERİ GİRİŞİ'!B21) | C18: =IF('VERİ GİRİŞİ'!C21="","",'VERİ GİRİŞİ'!C21) | D18: =IF('VERİ GİRİŞİ'!D21="","",'VERİ GİRİŞİ'!D21) | E18: ='ÇÖB Bordrosu'!AM83 -> 0
A19: 11 | B19: =IF('VERİ GİRİŞİ'!B22="","",'VERİ GİRİŞİ'!B22) | C19: =IF('VERİ GİRİŞİ'!C22="","",'VERİ GİRİŞİ'!C22) | D19: =IF('VERİ GİRİŞİ'!D22="","",'VERİ GİRİŞİ'!D22) | E19: ='ÇÖB Bordrosu'!AM90 -> 0
A20: 12 | B20: =IF('VERİ GİRİŞİ'!B23="","",'VERİ GİRİŞİ'!B23) | C20: =IF('VERİ GİRİŞİ'!C23="","",'VERİ GİRİŞİ'!C23) | D20: =IF('VERİ GİRİŞİ'!D23="","",'VERİ GİRİŞİ'!D23) | E20: ='ÇÖB Bordrosu'!AM97 -> 0
A21: 13 | B21: =IF('VERİ GİRİŞİ'!B24="","",'VERİ GİRİŞİ'!B24) | C21: =IF('VERİ GİRİŞİ'!C24="","",'VERİ GİRİŞİ'!C24) | D21: =IF('VERİ GİRİŞİ'!D24="","",'VERİ GİRİŞİ'!D24) | E21: ='ÇÖB Bordrosu'!AM104 -> 0
A22: 14 | B22: =IF('VERİ GİRİŞİ'!B25="","",'VERİ GİRİŞİ'!B25) | C22: =IF('VERİ GİRİŞİ'!C25="","",'VERİ GİRİŞİ'!C25) | D22: =IF('VERİ GİRİŞİ'!D25="","",'VERİ GİRİŞİ'!D25) | E22: ='ÇÖB Bordrosu'!AM111 -> 0
A23: 15 | B23: =IF('VERİ GİRİŞİ'!B26="","",'VERİ GİRİŞİ'!B26) | C23: =IF('VERİ GİRİŞİ'!C26="","",'VERİ GİRİŞİ'!C26) | D23: =IF('VERİ GİRİŞİ'!D26="","",'VERİ GİRİŞİ'!D26) | E23: ='ÇÖB Bordrosu'!AM118 -> 0
A24: 16 | B24: =IF('VERİ GİRİŞİ'!B27="","",'VERİ GİRİŞİ'!B27) | C24: =IF('VERİ GİRİŞİ'!C27="","",'VERİ GİRİŞİ'!C27) | D24: =IF('VERİ GİRİŞİ'!D27="","",'VERİ GİRİŞİ'!D27) | E24: ='ÇÖB Bordrosu'!AM125 -> 0
A25: 17 | B25: =IF('VERİ GİRİŞİ'!B28="","",'VERİ GİRİŞİ'!B28) | C25: =IF('VERİ GİRİŞİ'!C28="","",'VERİ GİRİŞİ'!C28) | D25: =IF('VERİ GİRİŞİ'!D28="","",'VERİ GİRİŞİ'!D28) | E25: ='ÇÖB Bordrosu'!AM132 -> 0
A26: 18 | B26: =IF('VERİ GİRİŞİ'!B29="","",'VERİ GİRİŞİ'!B29) | C26: =IF('VERİ GİRİŞİ'!C29="","",'VERİ GİRİŞİ'!C29) | D26: =IF('VERİ GİRİŞİ'!D29="","",'VERİ GİRİŞİ'!D29) | E26: ='ÇÖB Bordrosu'!AM139 -> 0
A27: 19 | B27: =IF('VERİ GİRİŞİ'!B30="","",'VERİ GİRİŞİ'!B30) | C27: =IF('VERİ GİRİŞİ'!C30="","",'VERİ GİRİŞİ'!C30) | D27: =IF('VERİ GİRİŞİ'!D30="","",'VERİ GİRİŞİ'!D30) | E27: ='ÇÖB Bordrosu'!AM146 -> 0
A28: 20 | B28: =IF('VERİ GİRİŞİ'!B31="","",'VERİ GİRİŞİ'!B31) | C28: =IF('VERİ GİRİŞİ'!C31="","",'VERİ GİRİŞİ'!C31) | D28: =IF('VERİ GİRİŞİ'!D31="","",'VERİ GİRİŞİ'!D31) | E28: ='ÇÖB Bordrosu'!AM153 -> 0
A29: 21 | B29: =IF('VERİ GİRİŞİ'!B32="","",'VERİ GİRİŞİ'!B32) | C29: =IF('VERİ GİRİŞİ'!C32="","",'VERİ GİRİŞİ'!C32) | D29: =IF('VERİ GİRİŞİ'!D32="","",'VERİ GİRİŞİ'!D32) | E29: ='ÇÖB Bordrosu'!AM160 -> 0
A30: 22 | B30: =IF('VERİ GİRİŞİ'!B33="","",'VERİ GİRİŞİ'!B33) | C30: =IF('VERİ GİRİŞİ'!C33="","",'VERİ GİRİŞİ'!C33) | D30: =IF('VERİ GİRİŞİ'!D33="","",'VERİ GİRİŞİ'!D33) | E30: ='ÇÖB Bordrosu'!AM167 -> 0
A31: 23 | B31: =IF('VERİ GİRİŞİ'!B34="","",'VERİ GİRİŞİ'!B34) | C31: =IF('VERİ GİRİŞİ'!C34="","",'VERİ GİRİŞİ'!C34) | D31: =IF('VERİ GİRİŞİ'!D34="","",'VERİ GİRİŞİ'!D34) | E31: ='ÇÖB Bordrosu'!AM174 -> 0
A32: 24 | B32: =IF('VERİ GİRİŞİ'!B35="","",'VERİ GİRİŞİ'!B35) | C32: =IF('VERİ GİRİŞİ'!C35="","",'VERİ GİRİŞİ'!C35) | D32: =IF('VERİ GİRİŞİ'!D35="","",'VERİ GİRİŞİ'!D35) | E32: ='ÇÖB Bordrosu'!AM181 -> 0
A33: 25 | B33: =IF('VERİ GİRİŞİ'!B36="","",'VERİ GİRİŞİ'!B36) | C33: =IF('VERİ GİRİŞİ'!C36="","",'VERİ GİRİŞİ'!C36) | D33: =IF('VERİ GİRİŞİ'!D36="","",'VERİ GİRİŞİ'!D36) | E33: ='ÇÖB Bordrosu'!AM188 -> 0
A34: TOPLAM | E34: =SUM(E9:E33) -> 0
C36: Gerçekleştirme Görevlisi | E36: Harcama Yetkilisi
B37: Tarih: | D37: Tarih:
B38: Adı Soyadı: | D38: Adı Soyadı:
B39: İmza: | D39: İmza:

Sheet HARCAMA TALİMATI
A1: HARCAMA TALİMATI
A3: SAYI : | H3: =TODAY() -> 46142
A4: =CONCATENATE("Harcama Talebinde Bulunan Birim: "&PROPER('VERİ GİRİŞİ'!B1)&" İlçe Tarım ve Orman Müdürlüğü") -> Harcama Talebinde Bulunan Birim: Çivril İlçe Tarım ve Orman Müdürlüğü
A8: =CONCATENATE('VERİ GİRİŞİ'!B1&" İLÇE TARIM VE ORMAN MÜDÜRLÜĞÜ" ) -> ÇİVRİL İLÇE TARIM VE ORMAN MÜDÜRLÜĞÜ
A9: Y A P I L A C A K H A R C A M A N I N | B9: Gerekçesi ve Hukuki Dayanağı | F9: 2006/10344 Sayılı Bakanlar Kururu Kararı
B11: Konusu/Nev'i | F11: 2023-2024-2025 Yılı Kontrol Görevi Ödemesi
B12: Niteliği | F12: =F11 -> 2023-2024-2025 Yılı Kontrol Görevi Ödemesi
B15: Miktarı | F15: =CONCATENATE(COUNTA('VERİ GİRİŞİ'!$C$12:$C$36)," personel") -> 0 personel
B17: Gerçekleştirme Süresi | F17: 2026
B20: Tutarı veya Belirlenmişse Yaklaşık Bedeli | F20: ='ÇÖB Bordrosu'!AM189+'ÇÖB Bordrosu'!AM193 -> 0 | J20: 20
F22: Mevcuutur
B23: Kullanılabilir Ödenek Tutarı | F23: Mevcuttur
B25: Ödeneğin Bütçe Tertibi | F25: 39.108.563.653.23.67.01.01.01.20.01
B27: Gerçekleştirme Görevlisi Adı Soyad | F27: ='VERİ GİRİŞİ'!$U$1 -> 0
B29: Gerçekleştirme Görevlisi Ünvanı | F29: ='VERİ GİRİŞİ'!$U$2 -> 0
A30: AÇIKLAMALAR
A31: 2006/10344 Sayılı Bakanlar Kururu Kararı Devlet Memurlarına Ödenecek Zam ve Tazminatlara ilişkin karar uyarınca Özel Hizmet Tazminatı II Sayılı Cetvel E bendi Teknik Hizmetler sınıfı 6. maddesi gereği Bakanlar Kurulu Kararı ile Teknik Hizmetler sınıfı kadrolarında fiilen çalışanlar için geçmişe dönük ödenmeyen Ek Özel Hizmet Tazminatlarının Danıştay 12. Dairesi nezdinde açılan dava sonucunda Danıştay 12. Dairesi tarafından (Esas No: 2023/1980, Karar No:2025/3371) “Tarım ve Orman Bakanlığı Rehberlik ve Teftiş Başkanlığının, Bakan oluruyla yürürlüğe konulan 15/02/2023 tarih ve 238/31 sayılı Genel Yazısı'nın, kontrol hizmetleri ilave ödemesiyle ilgili hususları düzenleyen (3) numaralı maddesinin (b) bendindeki, “ek özel hizmet (arazi) tazminatından yararlanılan günler için kontrol hizmetleri ilave ödemesinin yapılmaması” ibaresinin İPTALİNE Karar verilmiştir. Bu nedenle Kontrol Görevi ve Ek Özel Hizmet Tazminaatının Faizli olarak dilekçe ile talep edene Faizli olarak, Faizsiz olarak dilekçe ile talep edene faizsiz olarak ödenmesi hususunu;
A38: Yukarıda belirtilen harcamanın yaptırılması hususunda olurlarınıza arz ederim.
G39: OLUR
G40: =TODAY() -> 46142
B42: Teklif Eden Yetkilinin | G42: Harcama Yetkilisi
B43: Gerçekleştirme Görevlisi
F44: İmzası :
A45: =CONCATENATE("Adı Soyadı : "&F27) -> Adı Soyadı : 0
A46: İmzası : | F46: Adı Soyadı : | H46: ='VERİ GİRİŞİ'!$AD$1 -> 0
A48: =CONCATENATE("Ünvanı: "&F29) -> Ünvanı: 0 | F48: Ünvanı : | H48: ='VERİ GİRİŞİ'!$AD$2 -> 0
