Workbook

Sheet VERİ GİRİŞİ
A1: İLÇE ADI: | B1: ÇİVRİL | D1: ÖDEME TİPİ SEÇİNİZ: | E1: FAİZLİ | J1: ÖDEME TARİHİ: | M1: =TODAY() -> 46142 | Q1: GERÇEKLEŞTİRME GÖR: | Z1: HARCAMA YETKİLİSİ: | AI1: VERGİ ORANI | AK1: 15
Q2: ÜNVANI: | Z2: ÜNVANI:
B3: ** Fazla kişi olan Satırlarıgizleyerek yazdırabilirsiniz
Q4: MUTEMET:
B5: ** BU BORDRODA FAİZDEN KESİNTİ YAPILMAMAKTADIR !!! | Q5: ÜNVANI:
A6: ***HESAPLAMA TABLOLARINA DOKUNMANIZ FORMÜLLERİ BOZABİLİR SADECE BU SAYFAYA BİLGİ GİŞMENİZ YETERLİ!!!
A9: =CONCATENATE('VERİ GİRİŞİ'!$B$1&" İLÇE TARIM VE ORMAN MÜDÜRLÜĞÜ GERİYE DÖNÜK EK ÖZEL HİZMET PUANTAJ TABLOSU") -> ÇİVRİL İLÇE TARIM VE ORMAN MÜDÜRLÜĞÜ GERİYE DÖNÜK EK ÖZEL HİZMET PUANTAJ TABLOSU
A10: S.NO | B10: T.C NO | C10: ADI SOYADI | D10: IBAN | E10: 2023 | O10: 2024 | AA10: 2025
E11: MART | F11: NİSAN | G11: MAYIS | H11: HAZİRAN | I11: TEMMUZ | J11: AĞUSTOS | K11: EYLÜL | L11: EKİM | M11: KASIM | N11: ARALIK | O11: OCAK | P11: ŞUBAT | Q11: MART | R11: NİSAN | S11: MAYIS | T11: HAZİRAN | U11: TEMMUZ | V11: AĞUSTOS | W11: EYLÜL | X11: EKİM | Y11: KASIM | Z11: ARALIK | AA11: OCAK | AB11: ŞUBAT | AC11: MART | AD11: NİSAN | AE11: MAYIS | AF11: HAZİRAN | AG11: TEMMUZ | AH11: AĞUSTOS | AI11: EYLÜL | AJ11: EKİM | AK11: KASIM | AL11: ARALIK
A12: 1
A13: 2
A14: 3
A15: 4
A16: 5
A17: 6
A18: 7
A19: 8
A20: 9
A21: 10
A22: 11
A23: 12
... A36: 25
D38: Mutemet | O38: Gerçekleştirme Görevlisi | AF38: Harcama Yetkilisi
A39: Tarih: | D39: ='VERİ GİRİŞİ'!$M$1 -> 46142 | L39: Tarih: | O39: ='VERİ GİRİŞİ'!$M$1 -> 46142 | AB39: Tarih: | AF39: ='VERİ GİRİŞİ'!$M$1 -> 46142
A40: Adı Soydı: | D40: ='VERİ GİRİŞİ'!$U$4 -> 0 | L40: Adı Soydı: | O40: ='VERİ GİRİŞİ'!$U$1 -> 0 | AB40: Adı Soydı: | AF40: ='VERİ GİRİŞİ'!$AD$1 -> 0
A41: Ünvanı: | D41: ='VERİ GİRİŞİ'!$U$5 -> 0 | L41: Ünvanı: | O41: ='VERİ GİRİŞİ'!$U$2 -> 0 | AB41: Ünvanı: | AF41: ='VERİ GİRİŞİ'!$AD$2 -> 0

Sheet Ayarlar
A1: Faiz Bitiş Tarihi | B1: =IF('HESAPLAMA SAYFASI'!D3="FAİZSİZ",0,'HESAPLAMA SAYFASI'!N3) -> 46142
A2: Damga Vergisi Oranı | B2: 0.00759
A3: SGK İşçi Oranı (sadece 4/B) | B3: 0.375
A4: ="Gelir Vergisi Oranı"&" ("&B4&")" -> Gelir Vergisi Oranı (0,15) | B4: =VALUE('VERİ GİRİŞİ'!AK1&"%") -> 0.15

Sheet Katsayilar
A1: Dönem Başlangıç | B1: Dönem Bitiş | C1: Memur Aylık Katsayısı
A2: 44927 | B2: 45107 | C2: 0.433684
A3: 45108 | B3: 45291 | C3: 0.509796
A4: 45292 | B4: 45473 | C4: 0.760871
A5: 45474 | B5: 45657 | C5: 0.907796
A6: 45658 | B6: 45838 | C6: 1.012556
A7: 45839 | B7: 46022 | C7: 1.170211

Sheet HESAPLAMA SAYFASI
A1: Buradaki bilgiler hesaplamada esas alınır dikkatli giriniz!!!!!!!!!!!!
C3: ÖDEME TİPİ SEÇİNİZ | D3: ='VERİ GİRİŞİ'!E1 -> FAİZLİ | J3: Faiz Başlangıç | N3: ='VERİ GİRİŞİ'!$M$1 -> 46142 | S3: ***Ödeme tarihine göre değişiklik yapılabilir
S4: ***Gelir Vergisi %15 baz alınmıştır isterseniz Ayarlar Sayfasından 20 yapabilirsiniz.
A7: S.NO | B7: T.C | C7: ADI SOYADI | D7: Yıl | E7: 2023 | O7: 2024 | AA7: 2025 | AM7: TOPLAM
D8: Ay | E8: 3 | F8: 4 | G8: 5 | H8: 6 | I8: 7 | J8: 8 | K8: 9 | L8: 10 | M8: 11 | N8: 12 | O8: 1 | P8: 2 | Q8: 3 | R8: 4 | S8: 5 | T8: 6 | U8: 7 | V8: 8 | W8: 9 | X8: 10 | Y8: 11 | Z8: 12 | AA8: 1 | AB8: 2 | AC8: 3 | AD8: 4 | AE8: 5 | AF8: 6 | AG8: 7 | AH8: 8 | AI8: 9 | AJ8: 10 | AK8: 11
A9: 1 | B9: ='VERİ GİRİŞİ'!B12 -> 0 | C9: ='VERİ GİRİŞİ'!C12 -> 0 | D9: AY | E9: 45016 | F9: 45044 | G9: 45047 | H9: 45078 | I9: 45108 | J9: 45139 | K9: 45170 | L9: 45200 | M9: 45231 | N9: 45261 | O9: 45292 | P9: 45323 | Q9: 45352 | R9: 45383 | S9: 45413 | T9: 45444 | U9: 45474 | V9: 45505 | W9: 45536 | X9: 45566 | Y9: 45597 | Z9: 45627 | AA9: 45658 | AB9: 45689 | AC9: 45717 | AD9: 45748 | AE9: 45778 | AF9: 45809 | AG9: 45839 | AH9: 45870 | AI9: 45901 | AJ9: 45931 | AK9: 45962 | AL9: 45992
D10: Gün Sayısı | E10: ='VERİ GİRİŞİ'!E12 -> 0 | F10: ='VERİ GİRİŞİ'!F12 -> 0 | G10: ='VERİ GİRİŞİ'!G12 -> 0 | H10: ='VERİ GİRİŞİ'!H12 -> 0 | I10: ='VERİ GİRİŞİ'!I12 -> 0 | J10: ='VERİ GİRİŞİ'!J12 -> 0 | K10: ='VERİ GİRİŞİ'!K12 -> 0 | L10: ='VERİ GİRİŞİ'!L12 -> 0 | ... AM10: ='VERİ GİRİŞİ'!AM12 -> 0
D11: Katsayı | E11: =SUMIFS(Katsayilar!$C$2:$C$50,Katsayilar!$A$2:$A$50,"<="&DATE(YEAR(E9),MONTH(E9),1),Katsayilar!$B$2:$B$50,">="&DATE(YEAR(E9),MONTH(E9),1)) -> 0.433684 | F11: =SUMIFS(Katsayilar!$C$2:$C$50,Katsayilar!$A$2:$A$50,"<="&DATE(YEAR(F9),MONTH(F9),1),Katsayilar!$B$2:$B$50,">="&DATE(YEAR(F9),MONTH(F9),1)) -> 0.433684 | G11: =SUMIFS(Katsayilar!$C$2:$C$50,Katsayilar!$A$2:$A$50,"<="&DATE(YEAR(G9),MONTH(G9),1),Katsayilar!$B$2:$B$50,">="&DATE(YEAR(G9),MONTH(G9),1)) -> 0.433684 | H11: =SUMIFS(Katsayilar!$C$2:$C$50,Katsayilar!$A$2:$A$50,"<="&DATE(YEAR(H9),MONTH(H9),1),Katsayilar!$B$2:$B$50,">="&DATE(YEAR(H9),MONTH(H9),1)) -> 0.433684 | I11: =SUMIFS(Katsayilar!$C$2:$C$50,Katsayilar!$A$2:$A$50,"<="&DATE(YEAR(I9),MONTH(I9),1),Katsayilar!$B$2:$B$50,">="&DATE(YEAR(I9),MONTH(I9),1)) -> 0.509796 | J11: =SUMIFS(Katsayilar!$C$2:$C$50,Katsayilar!$A$2:$A$50,"<="&DATE(YEAR(J9),MONTH(J9),1),Katsayilar!$B$2:$B$50,">="&DATE(YEAR(J9),MONTH(J9),1)) -> 0.509796 | K11: =SUMIFS(Katsayilar!$C$2:$C$50,Katsayilar!$A$2:$A$50,"<="&DATE(YEAR(K9),MONTH(K9),1),Katsayilar!$B$2:$B$50,">="&DATE(YEAR(K9),MONTH(K9),1)) -> 0.509796 | L11: =SUMIFS(Katsayilar!$C$2:$C$50,Katsayilar!$A$2:$A$50,"<="&DATE(YEAR(L9),MONTH(L9),1),Katsayilar!$B$2:$B$50,">="&DATE(YEAR(L9),MONTH(L9),1)) -> 0.509796 | ... AL11: =SUMIFS(Katsayilar!$C$2:$C$50,Katsayilar!$A$2:$A$50,"<="&DATE(YEAR(AL9),MONTH(AL9),1),Katsayilar!$B$2:$B$50,">="&DATE(YEAR(AL9),MONTH(AL9),1)) -> 1.170211
D12: Brüt Kontrol Ödemesi | E12: =IF(OR(E11="",E10=""),"",200*E11*E10) -> 0 | F12: =IF(OR(F11="",F10=""),"",200*F11*F10) -> 0 | G12: =IF(OR(G11="",G10=""),"",200*G11*G10) -> 0 | H12: =IF(OR(H11="",H10=""),"",200*H11*H10) -> 0 | I12: =IF(OR(I11="",I10=""),"",200*I11*I10) -> 0 | J12: =IF(OR(J11="",J10=""),"",200*J11*J10) -> 0 | K12: =IF(OR(K11="",K10=""),"",200*K11*K10) -> 0 | L12: =IF(OR(L11="",L10=""),"",200*L11*L10) -> 0 | ... AL12: =IF(OR(AL11="",AL10=""),"",200*AL11*AL10) -> 0
D13: =Ayarlar!A4 -> Gelir Vergisi Oranı (0,15) | E13: =IF(E12="","",E12*Ayarlar!$B$4) -> 0 | F13: =IF(F12="","",F12*Ayarlar!$B$4) -> 0 | G13: =IF(G12="","",G12*Ayarlar!$B$4) -> 0 | H13: =IF(H12="","",H12*Ayarlar!$B$4) -> 0 | I13: =IF(I12="","",I12*Ayarlar!$B$4) -> 0 | J13: =IF(J12="","",J12*Ayarlar!$B$4) -> 0 | K13: =IF(K12="","",K12*Ayarlar!$B$4) -> 0 | L13: =IF(L12="","",L12*Ayarlar!$B$4) -> 0 | ... AL13: =IF(AL12="","",AL12*Ayarlar!$B$4) -> 0
D14: Damga Vergisi | E14: =IF(E12="","",E12*Ayarlar!$B$2) -> 0 | F14: =IF(F12="","",F12*Ayarlar!$B$2) -> 0 | G14: =IF(G12="","",G12*Ayarlar!$B$2) -> 0 | H14: =IF(H12="","",H12*Ayarlar!$B$2) -> 0 | I14: =IF(I12="","",I12*Ayarlar!$B$2) -> 0 | J14: =IF(J12="","",J12*Ayarlar!$B$2) -> 0 | K14: =IF(K12="","",K12*Ayarlar!$B$2) -> 0 | L14: =IF(L12="","",L12*Ayarlar!$B$2) -> 0 | ... AL14: =IF(AL12="","",AL12*Ayarlar!$B$2) -> 0
D15: SGK Kesintisi (4/B) | E15: =IF(D2="4/B",IFERROR(E12*Ayarlar!$B$3,""),"") | F15: =IF(E2="4/B",IFERROR(F12*Ayarlar!$B$3,""),"") | G15: =IF(F2="4/B",IFERROR(G12*Ayarlar!$B$3,""),"") | H15: =IF(G2="4/B",IFERROR(H12*Ayarlar!$B$3,""),"") | I15: =IF(H2="4/B",IFERROR(I12*Ayarlar!$B$3,""),"") | J15: =IF(I2="4/B",IFERROR(J12*Ayarlar!$B$3,""),"") | K15: =IF(J2="4/B",IFERROR(K12*Ayarlar!$B$3,""),"") | L15: =IF(K2="4/B",IFERROR(L12*Ayarlar!$B$3,""),"") | ... AL15: =IF(AK2="4/B",IFERROR(AL12*Ayarlar!$B$3,""),"")
D16: Net (Faiz Öncesi) | E16: =IF(E12="","",E12-E13-E14) -> 0 | F16: =IF(F12="","",F12-F13-F14) -> 0 | G16: =IF(G12="","",G12-G13-G14) -> 0 | H16: =IF(H12="","",H12-H13-H14) -> 0 | I16: =IF(I12="","",I12-I13-I14) -> 0 | J16: =IF(J12="","",J12-J13-J14) -> 0 | K16: =IF(K12="","",K12-K13-K14) -> 0 | L16: =IF(L12="","",L12-L13-L14) -> 0 | ... AL16: =IF(AL12="","",AL12-AL13-AL14) -> 0
D17: Faiz Bitiş | E17: =IF(E9="","",Ayarlar!$B$1) -> 46142 | F17: =IF(F9="","",Ayarlar!$B$1) -> 46142 | G17: =IF(G9="","",Ayarlar!$B$1) -> 46142 | H17: =IF(H9="","",Ayarlar!$B$1) -> 46142 | I17: =IF(I9="","",Ayarlar!$B$1) -> 46142 | J17: =IF(J9="","",Ayarlar!$B$1) -> 46142 | K17: =IF(K9="","",Ayarlar!$B$1) -> 46142 | L17: =IF(L9="","",Ayarlar!$B$1) -> 46142 | ... AL17: =IF(AL9="","",Ayarlar!$B$1) -> 46142
D18: Faiz Başlangıç | E18: =IF(E9="","",EOMONTH(E9,0)) -> 45016 | F18: =IF(F9="","",EOMONTH(F9,0)) -> 45046 | G18: =IF(G9="","",EOMONTH(G9,0)) -> 45077 | H18: =IF(H9="","",EOMONTH(H9,0)) -> 45107 | I18: =IF(I9="","",EOMONTH(I9,0)) -> 45138 | J18: =IF(J9="","",EOMONTH(J9,0)) -> 45169 | K18: =IF(K9="","",EOMONTH(K9,0)) -> 45199 | L18: =IF(L9="","",EOMONTH(L9,0)) -> 45230 | ... AL18: =IF(AL9="","",EOMONTH(AL9,0)) -> 46022
D19: %9 Gün | E19: =IF(E17="","",MAX(0,MIN(E17,DATE(2024,6,1)) - E18)) -> 428 | F19: =IF(F17="","",MAX(0,MIN(F17,DATE(2024,6,1)) - F18)) -> 398 | G19: =IF(G17="","",MAX(0,MIN(G17,DATE(2024,6,1)) - G18)) -> 367 | H19: =IF(H17="","",MAX(0,MIN(H17,DATE(2024,6,1)) - H18)) -> 337 | I19: =IF(I17="","",MAX(0,MIN(I17,DATE(2024,6,1)) - I18)) -> 306 | J19: =IF(J17="","",MAX(0,MIN(J17,DATE(2024,6,1)) - J18)) -> 275 | K19: =IF(K17="","",MAX(0,MIN(K17,DATE(2024,6,1)) - K18)) -> 245 | L19: =IF(L17="","",MAX(0,MIN(L17,DATE(2024,6,1)) - L18)) -> 214 | ... AL19: =IF(AL17="","",MAX(0,MIN(AL17,DATE(2024,6,1)) - AL18)) -> 0
D20: %24 Gün | E20: =IF(E17="","",MAX(0,E17 - MAX(E18,DATE(2024,6,1)))) -> 698 | F20: =IF(F17="","",MAX(0,F17 - MAX(F18,DATE(2024,6,1)))) -> 698 | G20: =IF(G17="","",MAX(0,G17 - MAX(G18,DATE(2024,6,1)))) -> 698 | H20: =IF(H17="","",MAX(0,H17 - MAX(H18,DATE(2024,6,1)))) -> 698 | I20: =IF(I17="","",MAX(0,I17 - MAX(I18,DATE(2024,6,1)))) -> 698 | J20: =IF(J17="","",MAX(0,J17 - MAX(J18,DATE(2024,6,1)))) -> 698 | K20: =IF(K17="","",MAX(0,K17 - MAX(K18,DATE(2024,6,1)))) -> 698 | L20: =IF(L17="","",MAX(0,L17 - MAX(L18,DATE(2024,6,1)))) -> 698 | ... AL20: =IF(AL17="","",MAX(0,AL17 - MAX(AL18,DATE(2024,6,1)))) -> 120
D21: Faiz Oranı | E21: =IF(E17="","",0.09*E19/365+0.24*E20/365) -> 0.56449315 | F21: =IF(F17="","",0.09*F19/365+0.24*F20/365) -> 0.55709589 | G21: =IF(G17="","",0.09*G19/365+0.24*G20/365) -> 0.54945205 | H21: =IF(H17="","",0.09*H19/365+0.24*H20/365) -> 0.54205479 | I21: =IF(I17="","",0.09*I19/365+0.24*I20/365) -> 0.53441096 | J21: =IF(J17="","",0.09*J19/365+0.24*J20/365) -> 0.52676712 | K21: =IF(K17="","",0.09*K19/365+0.24*K20/365) -> 0.51936986 | L21: =IF(L17="","",0.09*L19/365+0.24*L20/365) -> 0.51172603 | ... AL21: =IF(AL17="","",0.09*AL19/365+0.24*AL20/365) -> 0.07890411
D22: Faiz Tutarı (Net üzerinden) | E22: =IF(E$16="","",E16*E21) -> 0 | F22: =IF(F$16="","",F16*F21) -> 0 | G22: =IF(G$16="","",G16*G21) -> 0 | H22: =IF(H$16="","",H16*H21) -> 0 | I22: =IF(I$16="","",I16*I21) -> 0 | J22: =IF(J$16="","",J16*J21) -> 0 | K22: =IF(K$16="","",K16*K21) -> 0 | L22: =IF(L$16="","",L16*L21) -> 0 | ... AL22: =IF(AL$16="","",AL16*AL21) -> 0
D23: Anapara (Brüt) + Faiz Toplamı | E23: =IF(E12="","",E12+E22) -> 0 | F23: =IF(F12="","",F12+F22) -> 0 | G23: =IF(G12="","",G12+G22) -> 0 | H23: =IF(H12="","",H12+H22) -> 0 | I23: =IF(I12="","",I12+I22) -> 0 | J23: =IF(J12="","",J12+J22) -> 0 | K23: =IF(K12="","",K12+K22) -> 0 | L23: =IF(L12="","",L12+L22) -> 0 | ... AL23: =IF(AL12="","",AL12+AL22) -> 0
D24: Ödenecek Toplam (Net + Faiz) | E24: =IF(E16="","",E16+E22) -> 0 | F24: =IF(F16="","",F16+F22) -> 0 | G24: =IF(G16="","",G16+G22) -> 0 | H24: =IF(H16="","",H16+H22) -> 0 | I24: =IF(I16="","",I16+I22) -> 0 | J24: =IF(J16="","",J16+J22) -> 0 | K24: =IF(K16="","",K16+K22) -> 0 | L24: =IF(L16="","",L16+L22) -> 0 | ... AL24: =IF(AL16="","",AL16+AL22) -> 0
D25: Katsayı | E25: =SUMIFS(Katsayilar!$C$2:$C$50,Katsayilar!$A$2:$A$50,"<="&DATE(YEAR(E9),MONTH(E9),1),Katsayilar!$B$2:$B$50,">="&DATE(YEAR(E9),MONTH(E9),1)) -> 0.433684 | I25: =SUMIFS(Katsayilar!$C$2:$C$50,Katsayilar!$A$2:$A$50,"<="&DATE(YEAR(I9),MONTH(I9),1),Katsayilar!$B$2:$B$50,">="&DATE(YEAR(I9),MONTH(I9),1)) -> 0.509796 | O25: =SUMIFS(Katsayilar!$C$2:$C$50,Katsayilar!$A$2:$A$50,"<="&DATE(YEAR(O9),MONTH(O9),1),Katsayilar!$B$2:$B$50,">="&DATE(YEAR(O9),MONTH(O9),1)) -> 0.760871 | U25: =SUMIFS(Katsayilar!$C$2:$C$50,Katsayilar!$A$2:$A$50,"<="&DATE(YEAR(U9),MONTH(U9),1),Katsayilar!$B$2:$B$50,">="&DATE(YEAR(U9),MONTH(U9),1)) -> 0.907796 | AA25: =SUMIFS(Katsayilar!$C$2:$C$50,Katsayilar!$A$2:$A$50,"<="&DATE(YEAR(AA9),MONTH(AA9),1),Katsayilar!$B$2:$B$50,">="&DATE(YEAR(AA9),MONTH(AA9),1)) -> 1.012556 | AG25: =SUMIFS(Katsayilar!$C$2:$C$50,Katsayilar!$A$2:$A$50,"<="&DATE(YEAR(AG9),MONTH(AG9),1),Katsayilar!$B$2:$B$50,">="&DATE(YEAR(AG9),MONTH(AG9),1)) -> 1.170211
D26: Brüt Kontrol Ödemesi | E26: =SUM(E12:H12) -> 0 | I26: =SUM(I12:N12) -> 0 | O26: =SUM(O12:T12) -> 0 | U26: =SUM(U12:Z12) -> 0 | AA26: =SUM(AA12:AF12) -> 0 | AG26: =SUM(AG12:AL12) -> 0 | AM26: =SUM(E26:AL26) -> 0
D27: Gelir Vergisi % 15 | E27: =SUM(E13:H13) -> 0 | I27: =SUM(I13:N13) -> 0 | O27: =SUM(O13:T13) -> 0 | U27: =SUM(U13:Z13) -> 0 | AA27: =SUM(AA13:AF13) -> 0 | AG27: =SUM(AG13:AL13) -> 0 | AM27: =SUM(E27:AL27) -> 0
D28: Damga Vergisi | E28: =SUM(E14:H14) -> 0 | I28: =SUM(I14:N14) -> 0 | O28: =SUM(O14:T14) -> 0 | U28: =SUM(U14:Z14) -> 0 | AA28: =SUM(AA14:AF14) -> 0 | AG28: =SUM(AG14:AL14) -> 0 | AM28: =SUM(E28:AL28) -> 0
D29: SGK Kesintisi (4/B) | E29: =SUM(E15:H15) -> 0 | I29: =SUM(I15:N15) -> 0 | O29: =SUM(O15:T15) -> 0 | U29: =SUM(U15:Z15) -> 0 | AA29: =SUM(AA15:AF15) -> 0 | AG29: =SUM(AG15:AL15) -> 0 | AM29: =SUM(E29:AL29) -> 0
D30: Net (Faiz Öncesi) | E30: =SUM(E16:H16) -> 0 | I30: =SUM(I16:N16) -> 0 | O30: =SUM(O16:T16) -> 0 | U30: =SUM(U16:Z16) -> 0 | AA30: =SUM(AA16:AF16) -> 0 | AG30: =SUM(AG16:AL16) -> 0 | AM30: =SUM(E30:AL30) -> 0
D31: Faiz Tutarı (Net üzerinden) | E31: =SUM(E22:H22) -> 0 | I31: =SUM(I22:N22) -> 0 | O31: =SUM(O22:T22) -> 0 | U31: =SUM(U22:Z22) -> 0 | AA31: =SUM(AA22:AF22) -> 0 | AG31: =SUM(AG22:AL22) -> 0 | AM31: =SUM(E31:AL31) -> 0
D32: Anapara (Brüt) + Faiz Toplamı | E32: =SUM(E23:H23) -> 0 | I32: =SUM(I23:N23) -> 0 | O32: =SUM(O23:T23) -> 0 | U32: =SUM(U23:Z23) -> 0 | AA32: =SUM(AA23:AF23) -> 0 | AG32: =SUM(AG23:AL23) -> 0 | AM32: =SUM(E32:AL32) -> 0
D33: Ödenecek Toplam (Net + Faiz) | E33: =SUM(E24:H24) -> 0 | I33: =SUM(I24:N24) -> 0 | O33: =SUM(O24:T24) -> 0 | U33: =SUM(U24:Z24) -> 0 | AA33: =SUM(AA24:AF24) -> 0 | AG33: =SUM(AG24:AL24) -> 0 | AM33: =SUM(E33:AL33) -> 0
A34: 2 | B34: ='VERİ GİRİŞİ'!B13 -> 0 | C34: ='VERİ GİRİŞİ'!C13 -> 0 | D34: AY | E34: 45016 | F34: 45044 | G34: 45047 | H34: 45078 | I34: 45108 | J34: 45139 | K34: 45170 | L34: 45200 | M34: 45231 | N34: 45261 | O34: 45292 | P34: 45323 | Q34: 45352 | R34: 45383 | S34: 45413 | T34: 45444 | U34: 45474 | V34: 45505 | W34: 45536 | X34: 45566 | Y34: 45597 | Z34: 45627 | AA34: 45658 | AB34: 45689 | AC34: 45717 | AD34: 45748 | AE34: 45778 | AF34: 45809 | AG34: 45839 | AH34: 45870 | AI34: 45901 | AJ34: 45931 | AK34: 45962 | AL34: 45992
D35: Gün Sayısı | E35: ='VERİ GİRİŞİ'!E13 -> 0 | F35: ='VERİ GİRİŞİ'!F13 -> 0 | G35: ='VERİ GİRİŞİ'!G13 -> 0 | H35: ='VERİ GİRİŞİ'!H13 -> 0 | I35: ='VERİ GİRİŞİ'!I13 -> 0 | J35: ='VERİ GİRİŞİ'!J13 -> 0 | K35: ='VERİ GİRİŞİ'!K13 -> 0 | L35: ='VERİ GİRİŞİ'!L13 -> 0 | ... AL35: ='VERİ GİRİŞİ'!AL13 -> 0
D36: Katsayı | E36: =SUMIFS(Katsayilar!$C$2:$C$50,Katsayilar!$A$2:$A$50,"<="&DATE(YEAR(E34),MONTH(E34),1),Katsayilar!$B$2:$B$50,">="&DATE(YEAR(E34),MONTH(E34),1)) -> 0.433684 | F36: =SUMIFS(Katsayilar!$C$2:$C$50,Katsayilar!$A$2:$A$50,"<="&DATE(YEAR(F34),MONTH(F34),1),Katsayilar!$B$2:$B$50,">="&DATE(YEAR(F34),MONTH(F34),1)) -> 0.433684 | G36: =SUMIFS(Katsayilar!$C$2:$C$50,Katsayilar!$A$2:$A$50,"<="&DATE(YEAR(G34),MONTH(G34),1),Katsayilar!$B$2:$B$50,">="&DATE(YEAR(G34),MONTH(G34),1)) -> 0.433684 | H36: =SUMIFS(Katsayilar!$C$2:$C$50,Katsayilar!$A$2:$A$50,"<="&DATE(YEAR(H34),MONTH(H34),1),Katsayilar!$B$2:$B$50,">="&DATE(YEAR(H34),MONTH(H34),1)) -> 0.433684 | I36: =SUMIFS(Katsayilar!$C$2:$C$50,Katsayilar!$A$2:$A$50,"<="&DATE(YEAR(I34),MONTH(I34),1),Katsayilar!$B$2:$B$50,">="&DATE(YEAR(I34),MONTH(I34),1)) -> 0.509796 | J36: =SUMIFS(Katsayilar!$C$2:$C$50,Katsayilar!$A$2:$A$50,"<="&DATE(YEAR(J34),MONTH(J34),1),Katsayilar!$B$2:$B$50,">="&DATE(YEAR(J34),MONTH(J34),1)) -> 0.509796 | K36: =SUMIFS(Katsayilar!$C$2:$C$50,Katsayilar!$A$2:$A$50,"<="&DATE(YEAR(K34),MONTH(K34),1),Katsayilar!$B$2:$B$50,">="&DATE(YEAR(K34),MONTH(K34),1)) -> 0.509796 | L36: =SUMIFS(Katsayilar!$C$2:$C$50,Katsayilar!$A$2:$A$50,"<="&DATE(YEAR(L34),MONTH(L34),1),Katsayilar!$B$2:$B$50,">="&DATE(YEAR(L34),MONTH(L34),1)) -> 0.509796 | ... AL36: =SUMIFS(Katsayilar!$C$2:$C$50,Katsayilar!$A$2:$A$50,"<="&DATE(YEAR(AL34),MONTH(AL34),1),Katsayilar!$B$2:$B$50,">="&DATE(YEAR(AL34),MONTH(AL34),1)) -> 1.170211
D37: Brüt Kontrol Ödemesi | E37: =IF(OR(E36="",E35=""),"",200*E36*E35) -> 0 | F37: =IF(OR(F36="",F35=""),"",200*F36*F35) -> 0 | G37: =IF(OR(G36="",G35=""),"",200*G36*G35) -> 0 | H37: =IF(OR(H36="",H35=""),"",200*H36*H35) -> 0 | I37: =IF(OR(I36="",I35=""),"",200*I36*I35) -> 0 | J37: =IF(OR(J36="",J35=""),"",200*J36*J35) -> 0 | K37: =IF(OR(K36="",K35=""),"",200*K36*K35) -> 0 | L37: =IF(OR(L36="",L35=""),"",200*L36*L35) -> 0 | ... AL37: =IF(OR(AL36="",AL35=""),"",200*AL36*AL35) -> 0
D38: Gelir Vergisi % 15 | E38: =IF(E37="","",E37*Ayarlar!$B$4) -> 0 | F38: =IF(F37="","",F37*Ayarlar!$B$4) -> 0 | G38: =IF(G37="","",G37*Ayarlar!$B$4) -> 0 | H38: =IF(H37="","",H37*Ayarlar!$B$4) -> 0 | I38: =IF(I37="","",I37*Ayarlar!$B$4) -> 0 | J38: =IF(J37="","",J37*Ayarlar!$B$4) -> 0 | K38: =IF(K37="","",K37*Ayarlar!$B$4) -> 0 | L38: =IF(L37="","",L37*Ayarlar!$B$4) -> 0 | ... AL38: =IF(AL37="","",AL37*Ayarlar!$B$4) -> 0
D39: Damga Vergisi | E39: =IF(E37="","",E37*Ayarlar!$B$2) -> 0 | F39: =IF(F37="","",F37*Ayarlar!$B$2) -> 0 | G39: =IF(G37="","",G37*Ayarlar!$B$2) -> 0 | H39: =IF(H37="","",H37*Ayarlar!$B$2) -> 0 | I39: =IF(I37="","",I37*Ayarlar!$B$2) -> 0 | J39: =IF(J37="","",J37*Ayarlar!$B$2) -> 0 | K39: =IF(K37="","",K37*Ayarlar!$B$2) -> 0 | L39: =IF(L37="","",L37*Ayarlar!$B$2) -> 0 | ... AL39: =IF(AL37="","",AL37*Ayarlar!$B$2) -> 0
D40: SGK Kesintisi (4/B) | E40: =IF(D27="4/B",IFERROR(E37*Ayarlar!$B$3,""),"") | F40: =IF(E27="4/B",IFERROR(F37*Ayarlar!$B$3,""),"") | G40: =IF(F27="4/B",IFERROR(G37*Ayarlar!$B$3,""),"") | H40: =IF(G27="4/B",IFERROR(H37*Ayarlar!$B$3,""),"") | I40: =IF(H27="4/B",IFERROR(I37*Ayarlar!$B$3,""),"") | J40: =IF(I27="4/B",IFERROR(J37*Ayarlar!$B$3,""),"") | K40: =IF(J27="4/B",IFERROR(K37*Ayarlar!$B$3,""),"") | L40: =IF(K27="4/B",IFERROR(L37*Ayarlar!$B$3,""),"") | ... AL40: =IF(AK27="4/B",IFERROR(AL37*Ayarlar!$B$3,""),"")
D41: Net (Faiz Öncesi) | E41: =IF(E37="","",E37-E38-E39) -> 0 | F41: =IF(F37="","",F37-F38-F39) -> 0 | G41: =IF(G37="","",G37-G38-G39) -> 0 | H41: =IF(H37="","",H37-H38-H39) -> 0 | I41: =IF(I37="","",I37-I38-I39) -> 0 | J41: =IF(J37="","",J37-J38-J39) -> 0 | K41: =IF(K37="","",K37-K38-K39) -> 0 | L41: =IF(L37="","",L37-L38-L39) -> 0 | ... AL41: =IF(AL37="","",AL37-AL38-AL39) -> 0
D42: Faiz Bitiş | E42: =IF(E34="","",Ayarlar!$B$1) -> 46142 | F42: =IF(F34="","",Ayarlar!$B$1) -> 46142 | G42: =IF(G34="","",Ayarlar!$B$1) -> 46142 | H42: =IF(H34="","",Ayarlar!$B$1) -> 46142 | I42: =IF(I34="","",Ayarlar!$B$1) -> 46142 | J42: =IF(J34="","",Ayarlar!$B$1) -> 46142 | K42: =IF(K34="","",Ayarlar!$B$1) -> 46142 | L42: =IF(L34="","",Ayarlar!$B$1) -> 46142 | ... AL42: =IF(AL34="","",Ayarlar!$B$1) -> 46142
D43: Faiz Başlangıç | E43: =IF(E34="","",EOMONTH(E34,0)) -> 45016 | F43: =IF(F34="","",EOMONTH(F34,0)) -> 45046 | G43: =IF(G34="","",EOMONTH(G34,0)) -> 45077 | H43: =IF(H34="","",EOMONTH(H34,0)) -> 45107 | I43: =IF(I34="","",EOMONTH(I34,0)) -> 45138 | J43: =IF(J34="","",EOMONTH(J34,0)) -> 45169 | K43: =IF(K34="","",EOMONTH(K34,0)) -> 45199 | L43: =IF(L34="","",EOMONTH(L34,0)) -> 45230 | ... AL43: =IF(AL34="","",EOMONTH(AL34,0)) -> 46022
D44: %9 Gün | E44: =IF(E42="","",MAX(0,MIN(E42,DATE(2024,6,1)) - E43)) -> 428 | F44: =IF(F42="","",MAX(0,MIN(F42,DATE(2024,6,1)) - F43)) -> 398 | G44: =IF(G42="","",MAX(0,MIN(G42,DATE(2024,6,1)) - G43)) -> 367 | H44: =IF(H42="","",MAX(0,MIN(H42,DATE(2024,6,1)) - H43)) -> 337 | I44: =IF(I42="","",MAX(0,MIN(I42,DATE(2024,6,1)) - I43)) -> 306 | J44: =IF(J42="","",MAX(0,MIN(J42,DATE(2024,6,1)) - J43)) -> 275 | K44: =IF(K42="","",MAX(0,MIN(K42,DATE(2024,6,1)) - K43)) -> 245 | L44: =IF(L42="","",MAX(0,MIN(L42,DATE(2024,6,1)) - L43)) -> 214 | ... AL44: =IF(AL42="","",MAX(0,MIN(AL42,DATE(2024,6,1)) - AL43)) -> 0
D45: %24 Gün | E45: =IF(E42="","",MAX(0,E42 - MAX(E43,DATE(2024,6,1)))) -> 698 | F45: =IF(F42="","",MAX(0,F42 - MAX(F43,DATE(2024,6,1)))) -> 698 | G45: =IF(G42="","",MAX(0,G42 - MAX(G43,DATE(2024,6,1)))) -> 698 | H45: =IF(H42="","",MAX(0,H42 - MAX(H43,DATE(2024,6,1)))) -> 698 | I45: =IF(I42="","",MAX(0,I42 - MAX(I43,DATE(2024,6,1)))) -> 698 | J45: =IF(J42="","",MAX(0,J42 - MAX(J43,DATE(2024,6,1)))) -> 698 | K45: =IF(K42="","",MAX(0,K42 - MAX(K43,DATE(2024,6,1)))) -> 698 | L45: =IF(L42="","",MAX(0,L42 - MAX(L43,DATE(2024,6,1)))) -> 698 | ... AL45: =IF(AL42="","",MAX(0,AL42 - MAX(AL43,DATE(2024,6,1)))) -> 120
D46: Faiz Oranı | E46: =IF(E42="","",0.09*E44/365+0.24*E45/365) -> 0.56449315 | F46: =IF(F42="","",0.09*F44/365+0.24*F45/365) -> 0.55709589 | G46: =IF(G42="","",0.09*G44/365+0.24*G45/365) -> 0.54945205 | H46: =IF(H42="","",0.09*H44/365+0.24*H45/365) -> 0.54205479 | I46: =IF(I42="","",0.09*I44/365+0.24*I45/365) -> 0.53441096 | J46: =IF(J42="","",0.09*J44/365+0.24*J45/365) -> 0.52676712 | K46: =IF(K42="","",0.09*K44/365+0.24*K45/365) -> 0.51936986 | L46: =IF(L42="","",0.09*L44/365+0.24*L45/365) -> 0.51172603 | ... AL46: =IF(AL42="","",0.09*AL44/365+0.24*AL45/365) -> 0.07890411
D47: Faiz Tutarı (Net üzerinden) | E47: =IF(E$41="","",E41*E46) -> 0 | F47: =IF(F$41="","",F41*F46) -> 0 | G47: =IF(G$41="","",G41*G46) -> 0 | H47: =IF(H$41="","",H41*H46) -> 0 | I47: =IF(I$41="","",I41*I46) -> 0 | J47: =IF(J$41="","",J41*J46) -> 0 | K47: =IF(K$41="","",K41*K46) -> 0 | L47: =IF(L$41="","",L41*L46) -> 0 | ... AL47: =IF(AL$41="","",AL41*AL46) -> 0
D48: Anapara (Brüt) + Faiz Toplamı | E48: =IF(E37="","",E37+E47) -> 0 | F48: =IF(F37="","",F37+F47) -> 0 | G48: =IF(G37="","",G37+G47) -> 0 | H48: =IF(H37="","",H37+H47) -> 0 | I48: =IF(I37="","",I37+I47) -> 0 | J48: =IF(J37="","",J37+J47) -> 0 | K48: =IF(K37="","",K37+K47) -> 0 | L48: =IF(L37="","",L37+L47) -> 0 | ... AL48: =IF(AL37="","",AL37+AL47) -> 0
D49: Ödenecek Toplam (Net + Faiz) | E49: =IF(E41="","",E41+E47) -> 0 | F49: =IF(F41="","",F41+F47) -> 0 | G49: =IF(G41="","",G41+G47) -> 0 | H49: =IF(H41="","",H41+H47) -> 0 | I49: =IF(I41="","",I41+I47) -> 0 | J49: =IF(J41="","",J41+J47) -> 0 | K49: =IF(K41="","",K41+K47) -> 0 | L49: =IF(L41="","",L41+L47) -> 0 | ... AL49: =IF(AL41="","",AL41+AL47) -> 0
D50: Katsayı | E50: =SUMIFS(Katsayilar!$C$2:$C$50,Katsayilar!$A$2:$A$50,"<="&DATE(YEAR(E34),MONTH(E34),1),Katsayilar!$B$2:$B$50,">="&DATE(YEAR(E34),MONTH(E34),1)) -> 0.433684 | I50: =SUMIFS(Katsayilar!$C$2:$C$50,Katsayilar!$A$2:$A$50,"<="&DATE(YEAR(I34),MONTH(I34),1),Katsayilar!$B$2:$B$50,">="&DATE(YEAR(I34),MONTH(I34),1)) -> 0.509796 | O50: =SUMIFS(Katsayilar!$C$2:$C$50,Katsayilar!$A$2:$A$50,"<="&DATE(YEAR(O34),MONTH(O34),1),Katsayilar!$B$2:$B$50,">="&DATE(YEAR(O34),MONTH(O34),1)) -> 0.760871 | U50: =SUMIFS(Katsayilar!$C$2:$C$50,Katsayilar!$A$2:$A$50,"<="&DATE(YEAR(U34),MONTH(U34),1),Katsayilar!$B$2:$B$50,">="&DATE(YEAR(U34),MONTH(U34),1)) -> 0.907796 | AA50: =SUMIFS(Katsayilar!$C$2:$C$50,Katsayilar!$A$2:$A$50,"<="&DATE(YEAR(AA34),MONTH(AA34),1),Katsayilar!$B$2:$B$50,">="&DATE(YEAR(AA34),MONTH(AA34),1)) -> 1.012556 | AG50: =SUMIFS(Katsayilar!$C$2:$C$50,Katsayilar!$A$2:$A$50,"<="&DATE(YEAR(AG34),MONTH(AG34),1),Katsayilar!$B$2:$B$50,">="&DATE(YEAR(AG34),MONTH(AG34),1)) -> 1.170211
D51: Brüt Kontrol Ödemesi | E51: =SUM(E37:H37) -> 0 | I51: =SUM(I37:N37) -> 0 | O51: =SUM(O37:T37) -> 0 | U51: =SUM(U37:Z37) -> 0 | AA51: =SUM(AA37:AF37) -> 0 | AG51: =SUM(AG37:AL37) -> 0 | AM51: =SUM(E51:AL51) -> 0
D52: Gelir Vergisi % 15 | E52: =SUM(E38:H38) -> 0 | I52: =SUM(I38:N38) -> 0 | O52: =SUM(O38:T38) -> 0 | U52: =SUM(U38:Z38) -> 0 | AA52: =SUM(AA38:AF38) -> 0 | AG52: =SUM(AG38:AL38) -> 0 | AM52: =SUM(E52:AL52) -> 0
D53: Damga Vergisi | E53: =SUM(E39:H39) -> 0 | I53: =SUM(I39:N39) -> 0 | O53: =SUM(O39:T39) -> 0 | U53: =SUM(U39:Z39) -> 0 | AA53: =SUM(AA39:AF39) -> 0 | AG53: =SUM(AG39:AL39) -> 0 | AM53: =SUM(E53:AL53) -> 0
D54: SGK Kesintisi (4/B) | E54: =SUM(E40:H40) -> 0 | I54: =SUM(I40:N40) -> 0 | O54: =SUM(O40:T40) -> 0 | U54: =SUM(U40:Z40) -> 0 | AA54: =SUM(AA40:AF40) -> 0 | AG54: =SUM(AG40:AL40) -> 0 | AM54: =SUM(E54:AL54) -> 0
D55: Net (Faiz Öncesi) | E55: =SUM(E41:H41) -> 0 | I55: =SUM(I41:N41) -> 0 | O55: =SUM(O41:T41) -> 0 | U55: =SUM(U41:Z41) -> 0 | AA55: =SUM(AA41:AF41) -> 0 | AG55: =SUM(AG41:AL41) -> 0 | AM55: =SUM(E55:AL55) -> 0
D56: Faiz Tutarı (Net üzerinden) | E56: =SUM(E47:H47) -> 0 | I56: =SUM(I47:N47) -> 0 | O56: =SUM(O47:T47) -> 0 | U56: =SUM(U47:Z47) -> 0 | AA56: =SUM(AA47:AF47) -> 0 | AG56: =SUM(AG47:AL47) -> 0 | AM56: =SUM(E56:AL56) -> 0
D57: Anapara (Brüt) + Faiz Toplamı | E57: =SUM(E48:H48) -> 0 | I57: =SUM(I48:N48) -> 0 | O57: =SUM(O48:T48) -> 0 | U57: =SUM(U48:Z48) -> 0 | AA57: =SUM(AA48:AF48) -> 0 | AG57: =SUM(AG48:AL48) -> 0 | AM57: =SUM(E57:AL57) -> 0
D58: Ödenecek Toplam (Net + Faiz) | E58: =SUM(E49:H49) -> 0 | I58: =SUM(I49:N49) -> 0 | O58: =SUM(O49:T49) -> 0 | U58: =SUM(U49:Z49) -> 0 | AA58: =SUM(AA49:AF49) -> 0 | AG58: =SUM(AG49:AL49) -> 0 | AM58: =SUM(E58:AL58) -> 0
A59: 3 | B59: ='VERİ GİRİŞİ'!B14 -> 0 | C59: ='VERİ GİRİŞİ'!C14 -> 0 | D59: AY | E59: 45016 | F59: 45044 | G59: 45047 | H59: 45078 | I59: 45108 | J59: 45139 | K59: 45170 | L59: 45200 | M59: 45231 | N59: 45261 | O59: 45292 | P59: 45323 | Q59: 45352 | R59: 45383 | S59: 45413 | T59: 45444 | U59: 45474 | V59: 45505 | W59: 45536 | X59: 45566 | Y59: 45597 | Z59: 45627 | AA59: 45658 | AB59: 45689 | AC59: 45717 | AD59: 45748 | AE59: 45778 | AF59: 45809 | AG59: 45839 | AH59: 45870 | AI59: 45901 | AJ59: 45931 | AK59: 45962 | AL59: 45992
D60: Gün Sayısı | E60: ='VERİ GİRİŞİ'!E14 -> 0 | F60: ='VERİ GİRİŞİ'!F14 -> 0 | G60: ='VERİ GİRİŞİ'!G14 -> 0 | H60: ='VERİ GİRİŞİ'!H14 -> 0 | I60: ='VERİ GİRİŞİ'!I14 -> 0 | J60: ='VERİ GİRİŞİ'!J14 -> 0 | K60: ='VERİ GİRİŞİ'!K14 -> 0 | L60: ='VERİ GİRİŞİ'!L14 -> 0 | ... AL60: ='VERİ GİRİŞİ'!AL14 -> 0
D61: Katsayı | E61: =SUMIFS(Katsayilar!$C$2:$C$50,Katsayilar!$A$2:$A$50,"<="&DATE(YEAR(E59),MONTH(E59),1),Katsayilar!$B$2:$B$50,">="&DATE(YEAR(E59),MONTH(E59),1)) -> 0.433684 | F61: =SUMIFS(Katsayilar!$C$2:$C$50,Katsayilar!$A$2:$A$50,"<="&DATE(YEAR(F59),MONTH(F59),1),Katsayilar!$B$2:$B$50,">="&DATE(YEAR(F59),MONTH(F59),1)) -> 0.433684 | G61: =SUMIFS(Katsayilar!$C$2:$C$50,Katsayilar!$A$2:$A$50,"<="&DATE(YEAR(G59),MONTH(G59),1),Katsayilar!$B$2:$B$50,">="&DATE(YEAR(G59),MONTH(G59),1)) -> 0.433684 | H61: =SUMIFS(Katsayilar!$C$2:$C$50,Katsayilar!$A$2:$A$50,"<="&DATE(YEAR(H59),MONTH(H59),1),Katsayilar!$B$2:$B$50,">="&DATE(YEAR(H59),MONTH(H59),1)) -> 0.433684 | I61: =SUMIFS(Katsayilar!$C$2:$C$50,Katsayilar!$A$2:$A$50,"<="&DATE(YEAR(I59),MONTH(I59),1),Katsayilar!$B$2:$B$50,">="&DATE(YEAR(I59),MONTH(I59),1)) -> 0.509796 | J61: =SUMIFS(Katsayilar!$C$2:$C$50,Katsayilar!$A$2:$A$50,"<="&DATE(YEAR(J59),MONTH(J59),1),Katsayilar!$B$2:$B$50,">="&DATE(YEAR(J59),MONTH(J59),1)) -> 0.509796 | K61: =SUMIFS(Katsayilar!$C$2:$C$50,Katsayilar!$A$2:$A$50,"<="&DATE(YEAR(K59),MONTH(K59),1),Katsayilar!$B$2:$B$50,">="&DATE(YEAR(K59),MONTH(K59),1)) -> 0.509796 | L61: =SUMIFS(Katsayilar!$C$2:$C$50,Katsayilar!$A$2:$A$50,"<="&DATE(YEAR(L59),MONTH(L59),1),Katsayilar!$B$2:$B$50,">="&DATE(YEAR(L59),MONTH(L59),1)) -> 0.509796 | ... AL61: =SUMIFS(Katsayilar!$C$2:$C$50,Katsayilar!$A$2:$A$50,"<="&DATE(YEAR(AL59),MONTH(AL59),1),Katsayilar!$B$2:$B$50,">="&DATE(YEAR(AL59),MONTH(AL59),1)) -> 1.170211
D62: Brüt Kontrol Ödemesi | E62: =IF(OR(E61="",E60=""),"",200*E61*E60) -> 0 | F62: =IF(OR(F61="",F60=""),"",200*F61*F60) -> 0 | G62: =IF(OR(G61="",G60=""),"",200*G61*G60) -> 0 | H62: =IF(OR(H61="",H60=""),"",200*H61*H60) -> 0 | I62: =IF(OR(I61="",I60=""),"",200*I61*I60) -> 0 | J62: =IF(OR(J61="",J60=""),"",200*J61*J60) -> 0 | K62: =IF(OR(K61="",K60=""),"",200*K61*K60) -> 0 | L62: =IF(OR(L61="",L60=""),"",200*L61*L60) -> 0 | ... AL62: =IF(OR(AL61="",AL60=""),"",200*AL61*AL60) -> 0
D63: Gelir Vergisi % 15 | E63: =IF(E62="","",E62*Ayarlar!$B$4) -> 0 | F63: =IF(F62="","",F62*Ayarlar!$B$4) -> 0 | G63: =IF(G62="","",G62*Ayarlar!$B$4) -> 0 | H63: =IF(H62="","",H62*Ayarlar!$B$4) -> 0 | I63: =IF(I62="","",I62*Ayarlar!$B$4) -> 0 | J63: =IF(J62="","",J62*Ayarlar!$B$4) -> 0 | K63: =IF(K62="","",K62*Ayarlar!$B$4) -> 0 | L63: =IF(L62="","",L62*Ayarlar!$B$4) -> 0 | ... AL63: =IF(AL62="","",AL62*Ayarlar!$B$4) -> 0
D64: Damga Vergisi | E64: =IF(E62="","",E62*Ayarlar!$B$2) -> 0 | F64: =IF(F62="","",F62*Ayarlar!$B$2) -> 0 | G64: =IF(G62="","",G62*Ayarlar!$B$2) -> 0 | H64: =IF(H62="","",H62*Ayarlar!$B$2) -> 0 | I64: =IF(I62="","",I62*Ayarlar!$B$2) -> 0 | J64: =IF(J62="","",J62*Ayarlar!$B$2) -> 0 | K64: =IF(K62="","",K62*Ayarlar!$B$2) -> 0 | L64: =IF(L62="","",L62*Ayarlar!$B$2) -> 0 | ... AL64: =IF(AL62="","",AL62*Ayarlar!$B$2) -> 0
D65: SGK Kesintisi (4/B) | E65: =IF(D52="4/B",IFERROR(E62*Ayarlar!$B$3,""),"") | F65: =IF(E52="4/B",IFERROR(F62*Ayarlar!$B$3,""),"") | G65: =IF(F52="4/B",IFERROR(G62*Ayarlar!$B$3,""),"") | H65: =IF(G52="4/B",IFERROR(H62*Ayarlar!$B$3,""),"") | I65: =IF(H52="4/B",IFERROR(I62*Ayarlar!$B$3,""),"") | J65: =IF(I52="4/B",IFERROR(J62*Ayarlar!$B$3,""),"") | K65: =IF(J52="4/B",IFERROR(K62*Ayarlar!$B$3,""),"") | L65: =IF(K52="4/B",IFERROR(L62*Ayarlar!$B$3,""),"") | ... AL65: =IF(AK52="4/B",IFERROR(AL62*Ayarlar!$B$3,""),"")
D66: Net (Faiz Öncesi) | E66: =IF(E62="","",E62-E63-E64) -> 0 | F66: =IF(F62="","",F62-F63-F64) -> 0 | G66: =IF(G62="","",G62-G63-G64) -> 0 | H66: =IF(H62="","",H62-H63-H64) -> 0 | I66: =IF(I62="","",I62-I63-I64) -> 0 | J66: =IF(J62="","",J62-J63-J64) -> 0 | K66: =IF(K62="","",K62-K63-K64) -> 0 | L66: =IF(L62="","",L62-L63-L64) -> 0 | ... AL66: =IF(AL62="","",AL62-AL63-AL64) -> 0
D67: Faiz Bitiş | E67: =IF(E59="","",Ayarlar!$B$1) -> 46142 | F67: =IF(F59="","",Ayarlar!$B$1) -> 46142 | G67: =IF(G59="","",Ayarlar!$B$1) -> 46142 | H67: =IF(H59="","",Ayarlar!$B$1) -> 46142 | I67: =IF(I59="","",Ayarlar!$B$1) -> 46142 | J67: =IF(J59="","",Ayarlar!$B$1) -> 46142 | K67: =IF(K59="","",Ayarlar!$B$1) -> 46142 | L67: =IF(L59="","",Ayarlar!$B$1) -> 46142 | ... AL67: =IF(AL59="","",Ayarlar!$B$1) -> 46142
D68: Faiz Başlangıç | E68: =IF(E59="","",EOMONTH(E59,0)) -> 45016 | F68: =IF(F59="","",EOMONTH(F59,0)) -> 45046 | G68: =IF(G59="","",EOMONTH(G59,0)) -> 45077 | H68: =IF(H59="","",EOMONTH(H59,0)) -> 45107 | I68: =IF(I59="","",EOMONTH(I59,0)) -> 45138 | J68: =IF(J59="","",EOMONTH(J59,0)) -> 45169 | K68: =IF(K59="","",EOMONTH(K59,0)) -> 45199 | L68: =IF(L59="","",EOMONTH(L59,0)) -> 45230 | ... AL68: =IF(AL59="","",EOMONTH(AL59,0)) -> 46022
D69: %9 Gün | E69: =IF(E67="","",MAX(0,MIN(E67,DATE(2024,6,1)) - E68)) -> 428 | F69: =IF(F67="","",MAX(0,MIN(F67,DATE(2024,6,1)) - F68)) -> 398 | G69: =IF(G67="","",MAX(0,MIN(G67,DATE(2024,6,1)) - G68)) -> 367 | H69: =IF(H67="","",MAX(0,MIN(H67,DATE(2024,6,1)) - H68)) -> 337 | I69: =IF(I67="","",MAX(0,MIN(I67,DATE(2024,6,1)) - I68)) -> 306 | J69: =IF(J67="","",MAX(0,MIN(J67,DATE(2024,6,1)) - J68)) -> 275 | K69: =IF(K67="","",MAX(0,MIN(K67,DATE(2024,6,1)) - K68)) -> 245 | L69: =IF(L67="","",MAX(0,MIN(L67,DATE(2024,6,1)) - L68)) -> 214 | ... AL69: =IF(AL67="","",MAX(0,MIN(AL67,DATE(2024,6,1)) - AL68)) -> 0
D70: %24 Gün | E70: =IF(E67="","",MAX(0,E67 - MAX(E68,DATE(2024,6,1)))) -> 698 | F70: =IF(F67="","",MAX(0,F67 - MAX(F68,DATE(2024,6,1)))) -> 698 | G70: =IF(G67="","",MAX(0,G67 - MAX(G68,DATE(2024,6,1)))) -> 698 | H70: =IF(H67="","",MAX(0,H67 - MAX(H68,DATE(2024,6,1)))) -> 698 | I70: =IF(I67="","",MAX(0,I67 - MAX(I68,DATE(2024,6,1)))) -> 698 | J70: =IF(J67="","",MAX(0,J67 - MAX(J68,DATE(2024,6,1)))) -> 698 | K70: =IF(K67="","",MAX(0,K67 - MAX(K68,DATE(2024,6,1)))) -> 698 | L70: =IF(L67="","",MAX(0,L67 - MAX(L68,DATE(2024,6,1)))) -> 698 | ... AL70: =IF(AL67="","",MAX(0,AL67 - MAX(AL68,DATE(2024,6,1)))) -> 120
D71: Faiz Oranı | E71: =IF(E67="","",0.09*E69/365+0.24*E70/365) -> 0.56449315 | F71: =IF(F67="","",0.09*F69/365+0.24*F70/365) -> 0.55709589 | G71: =IF(G67="","",0.09*G69/365+0.24*G70/365) -> 0.54945205 | H71: =IF(H67="","",0.09*H69/365+0.24*H70/365) -> 0.54205479 | I71: =IF(I67="","",0.09*I69/365+0.24*I70/365) -> 0.53441096 | J71: =IF(J67="","",0.09*J69/365+0.24*J70/365) -> 0.52676712 | K71: =IF(K67="","",0.09*K69/365+0.24*K70/365) -> 0.51936986 | L71: =IF(L67="","",0.09*L69/365+0.24*L70/365) -> 0.51172603 | ... AL71: =IF(AL67="","",0.09*AL69/365+0.24*AL70/365) -> 0.07890411
D72: Faiz Tutarı (Net üzerinden) | E72: =IF(E$66="","",E66*E71) -> 0 | F72: =IF(F$66="","",F66*F71) -> 0 | G72: =IF(G$66="","",G66*G71) -> 0 | H72: =IF(H$66="","",H66*H71) -> 0 | I72: =IF(I$66="","",I66*I71) -> 0 | J72: =IF(J$66="","",J66*J71) -> 0 | K72: =IF(K$66="","",K66*K71) -> 0 | L72: =IF(L$66="","",L66*L71) -> 0 | ... AL72: =IF(AL$66="","",AL66*AL71) -> 0
D73: Anapara (Brüt) + Faiz Toplamı | E73: =IF(E62="","",E62+E72) -> 0 | F73: =IF(F62="","",F62+F72) -> 0 | G73: =IF(G62="","",G62+G72) -> 0 | H73: =IF(H62="","",H62+H72) -> 0 | I73: =IF(I62="","",I62+I72) -> 0 | J73: =IF(J62="","",J62+J72) -> 0 | K73: =IF(K62="","",K62+K72) -> 0 | L73: =IF(L62="","",L62+L72) -> 0 | ... AL73: =IF(AL62="","",AL62+AL72) -> 0
D74: Ödenecek Toplam (Net + Faiz) | E74: =IF(E66="","",E66+E72) -> 0 | F74: =IF(F66="","",F66+F72) -> 0 | G74: =IF(G66="","",G66+G72) -> 0 | H74: =IF(H66="","",H66+H72) -> 0 | I74: =IF(I66="","",I66+I72) -> 0 | J74: =IF(J66="","",J66+J72) -> 0 | K74: =IF(K66="","",K66+K72) -> 0 | L74: =IF(L66="","",L66+L72) -> 0 | ... AL74: =IF(AL66="","",AL66+AL72) -> 0
D75: Katsayı | E75: =SUMIFS(Katsayilar!$C$2:$C$50,Katsayilar!$A$2:$A$50,"<="&DATE(YEAR(E59),MONTH(E59),1),Katsayilar!$B$2:$B$50,">="&DATE(YEAR(E59),MONTH(E59),1)) -> 0.433684 | I75: =SUMIFS(Katsayilar!$C$2:$C$50,Katsayilar!$A$2:$A$50,"<="&DATE(YEAR(I59),MONTH(I59),1),Katsayilar!$B$2:$B$50,">="&DATE(YEAR(I59),MONTH(I59),1)) -> 0.509796 | O75: =SUMIFS(Katsayilar!$C$2:$C$50,Katsayilar!$A$2:$A$50,"<="&DATE(YEAR(O59),MONTH(O59),1),Katsayilar!$B$2:$B$50,">="&DATE(YEAR(O59),MONTH(O59),1)) -> 0.760871 | U75: =SUMIFS(Katsayilar!$C$2:$C$50,Katsayilar!$A$2:$A$50,"<="&DATE(YEAR(U59),MONTH(U59),1),Katsayilar!$B$2:$B$50,">="&DATE(YEAR(U59),MONTH(U59),1)) -> 0.907796 | AA75: =SUMIFS(Katsayilar!$C$2:$C$50,Katsayilar!$A$2:$A$50,"<="&DATE(YEAR(AA59),MONTH(AA59),1),Katsayilar!$B$2:$B$50,">="&DATE(YEAR(AA59),MONTH(AA59),1)) -> 1.012556 | AG75: =SUMIFS(Katsayilar!$C$2:$C$50,Katsayilar!$A$2:$A$50,"<="&DATE(YEAR(AG59),MONTH(AG59),1),Katsayilar!$B$2:$B$50,">="&DATE(YEAR(AG59),MONTH(AG59),1)) -> 1.170211
D76: Brüt Kontrol Ödemesi | E76: =SUM(E62:H62) -> 0 | I76: =SUM(I62:N62) -> 0 | O76: =SUM(O62:T62) -> 0 | U76: =SUM(U62:Z62) -> 0 | AA76: =SUM(AA62:AF62) -> 0 | AG76: =SUM(AG62:AL62) -> 0 | AM76: =SUM(E76:AL76) -> 0
D77: Gelir Vergisi % 15 | E77: =SUM(E63:H63) -> 0 | I77: =SUM(I63:N63) -> 0 | O77: =SUM(O63:T63) -> 0 | U77: =SUM(U63:Z63) -> 0 | AA77: =SUM(AA63:AF63) -> 0 | AG77: =SUM(AG63:AL63) -> 0 | AM77: =SUM(E77:AL77) -> 0
D78: Damga Vergisi | E78: =SUM(E64:H64) -> 0 | I78: =SUM(I64:N64) -> 0 | O78: =SUM(O64:T64) -> 0 | U78: =SUM(U64:Z64) -> 0 | AA78: =SUM(AA64:AF64) -> 0 | AG78: =SUM(AG64:AL64) -> 0 | AM78: =SUM(E78:AL78) -> 0
D79: SGK Kesintisi (4/B) | E79: =SUM(E65:H65) -> 0 | I79: =SUM(I65:N65) -> 0 | O79: =SUM(O65:T65) -> 0 | U79: =SUM(U65:Z65) -> 0 | AA79: =SUM(AA65:AF65) -> 0 | AG79: =SUM(AG65:AL65) -> 0 | AM79: =SUM(E79:AL79) -> 0
D80: Net (Faiz Öncesi) | E80: =SUM(E66:H66) -> 0 | I80: =SUM(I66:N66) -> 0 | O80: =SUM(O66:T66) -> 0 | U80: =SUM(U66:Z66) -> 0 | AA80: =SUM(AA66:AF66) -> 0 | AG80: =SUM(AG66:AL66) -> 0 | AM80: =SUM(E80:AL80) -> 0
D81: Faiz Tutarı (Net üzerinden) | E81: =SUM(E72:H72) -> 0 | I81: =SUM(I72:N72) -> 0 | O81: =SUM(O72:T72) -> 0 | U81: =SUM(U72:Z72) -> 0 | AA81: =SUM(AA72:AF72) -> 0 | AG81: =SUM(AG72:AL72) -> 0 | AM81: =SUM(E81:AL81) -> 0
D82: Anapara (Brüt) + Faiz Toplamı | E82: =SUM(E73:H73) -> 0 | I82: =SUM(I73:N73) -> 0 | O82: =SUM(O73:T73) -> 0 | U82: =SUM(U73:Z73) -> 0 | AA82: =SUM(AA73:AF73) -> 0 | AG82: =SUM(AG73:AL73) -> 0 | AM82: =SUM(E82:AL82) -> 0
D83: Ödenecek Toplam (Net + Faiz) | E83: =SUM(E74:H74) -> 0 | I83: =SUM(I74:N74) -> 0 | O83: =SUM(O74:T74) -> 0 | U83: =SUM(U74:Z74) -> 0 | AA83: =SUM(AA74:AF74) -> 0 | AG83: =SUM(AG74:AL74) -> 0 | AM83: =SUM(E83:AL83) -> 0
A84: 4 | B84: ='VERİ GİRİŞİ'!B15 -> 0 | C84: ='VERİ GİRİŞİ'!C15 -> 0 | D84: AY | E84: 45016 | F84: 45044 | G84: 45047 | H84: 45078 | I84: 45108 | J84: 45139 | K84: 45170 | L84: 45200 | M84: 45231 | N84: 45261 | O84: 45292 | P84: 45323 | Q84: 45352 | R84: 45383 | S84: 45413 | T84: 45444 | U84: 45474 | V84: 45505 | W84: 45536 | X84: 45566 | Y84: 45597 | Z84: 45627 | AA84: 45658 | AB84: 45689 | AC84: 45717 | AD84: 45748 | AE84: 45778 | AF84: 45809 | AG84: 45839 | AH84: 45870 | AI84: 45901 | AJ84: 45931 | AK84: 45962 | AL84: 45992
D85: Gün Sayısı | E85: ='VERİ GİRİŞİ'!E15 -> 0 | F85: ='VERİ GİRİŞİ'!F15 -> 0 | G85: ='VERİ GİRİŞİ'!G15 -> 0 | H85: ='VERİ GİRİŞİ'!H15 -> 0 | I85: ='VERİ GİRİŞİ'!I15 -> 0 | J85: ='VERİ GİRİŞİ'!J15 -> 0 | K85: ='VERİ GİRİŞİ'!K15 -> 0 | L85: ='VERİ GİRİŞİ'!L15 -> 0 | ... AL85: ='VERİ GİRİŞİ'!AL15 -> 0
D86: Katsayı | E86: =SUMIFS(Katsayilar!$C$2:$C$50,Katsayilar!$A$2:$A$50,"<="&DATE(YEAR(E84),MONTH(E84),1),Katsayilar!$B$2:$B$50,">="&DATE(YEAR(E84),MONTH(E84),1)) -> 0.433684 | F86: =SUMIFS(Katsayilar!$C$2:$C$50,Katsayilar!$A$2:$A$50,"<="&DATE(YEAR(F84),MONTH(F84),1),Katsayilar!$B$2:$B$50,">="&DATE(YEAR(F84),MONTH(F84),1)) -> 0.433684 | G86: =SUMIFS(Katsayilar!$C$2:$C$50,Katsayilar!$A$2:$A$50,"<="&DATE(YEAR(G84),MONTH(G84),1),Katsayilar!$B$2:$B$50,">="&DATE(YEAR(G84),MONTH(G84),1)) -> 0.433684 | H86: =SUMIFS(Katsayilar!$C$2:$C$50,Katsayilar!$A$2:$A$50,"<="&DATE(YEAR(H84),MONTH(H84),1),Katsayilar!$B$2:$B$50,">="&DATE(YEAR(H84),MONTH(H84),1)) -> 0.433684 | I86: =SUMIFS(Katsayilar!$C$2:$C$50,Katsayilar!$A$2:$A$50,"<="&DATE(YEAR(I84),MONTH(I84),1),Katsayilar!$B$2:$B$50,">="&DATE(YEAR(I84),MONTH(I84),1)) -> 0.509796 | J86: =SUMIFS(Katsayilar!$C$2:$C$50,Katsayilar!$A$2:$A$50,"<="&DATE(YEAR(J84),MONTH(J84),1),Katsayilar!$B$2:$B$50,">="&DATE(YEAR(J84),MONTH(J84),1)) -> 0.509796 | K86: =SUMIFS(Katsayilar!$C$2:$C$50,Katsayilar!$A$2:$A$50,"<="&DATE(YEAR(K84),MONTH(K84),1),Katsayilar!$B$2:$B$50,">="&DATE(YEAR(K84),MONTH(K84),1)) -> 0.509796 | L86: =SUMIFS(Katsayilar!$C$2:$C$50,Katsayilar!$A$2:$A$50,"<="&DATE(YEAR(L84),MONTH(L84),1),Katsayilar!$B$2:$B$50,">="&DATE(YEAR(L84),MONTH(L84),1)) -> 0.509796 | ... AL86: =SUMIFS(Katsayilar!$C$2:$C$50,Katsayilar!$A$2:$A$50,"<="&DATE(YEAR(AL84),MONTH(AL84),1),Katsayilar!$B$2:$B$50,">="&DATE(YEAR(AL84),MONTH(AL84),1)) -> 1.170211
D87: Brüt Kontrol Ödemesi | E87: =IF(OR(E86="",E85=""),"",200*E86*E85) -> 0 | F87: =IF(OR(F86="",F85=""),"",200*F86*F85) -> 0 | G87: =IF(OR(G86="",G85=""),"",200*G86*G85) -> 0 | H87: =IF(OR(H86="",H85=""),"",200*H86*H85) -> 0 | I87: =IF(OR(I86="",I85=""),"",200*I86*I85) -> 0 | J87: =IF(OR(J86="",J85=""),"",200*J86*J85) -> 0 | K87: =IF(OR(K86="",K85=""),"",200*K86*K85) -> 0 | L87: =IF(OR(L86="",L85=""),"",200*L86*L85) -> 0 | ... AL87: =IF(OR(AL86="",AL85=""),"",200*AL86*AL85) -> 0
D88: Gelir Vergisi % 15 | E88: =IF(E87="","",E87*Ayarlar!$B$4) -> 0 | F88: =IF(F87="","",F87*Ayarlar!$B$4) -> 0 | G88: =IF(G87="","",G87*Ayarlar!$B$4) -> 0 | H88: =IF(H87="","",H87*Ayarlar!$B$4) -> 0 | I88: =IF(I87="","",I87*Ayarlar!$B$4) -> 0 | J88: =IF(J87="","",J87*Ayarlar!$B$4) -> 0 | K88: =IF(K87="","",K87*Ayarlar!$B$4) -> 0 | L88: =IF(L87="","",L87*Ayarlar!$B$4) -> 0 | ... AL88: =IF(AL87="","",AL87*Ayarlar!$B$4) -> 0
D89: Damga Vergisi | E89: =IF(E87="","",E87*Ayarlar!$B$2) -> 0 | F89: =IF(F87="","",F87*Ayarlar!$B$2) -> 0 | G89: =IF(G87="","",G87*Ayarlar!$B$2) -> 0 | H89: =IF(H87="","",H87*Ayarlar!$B$2) -> 0 | I89: =IF(I87="","",I87*Ayarlar!$B$2) -> 0 | J89: =IF(J87="","",J87*Ayarlar!$B$2) -> 0 | K89: =IF(K87="","",K87*Ayarlar!$B$2) -> 0 | L89: =IF(L87="","",L87*Ayarlar!$B$2) -> 0 | ... AL89: =IF(AL87="","",AL87*Ayarlar!$B$2) -> 0
D90: SGK Kesintisi (4/B) | E90: =IF(D77="4/B",IFERROR(E87*Ayarlar!$B$3,""),"") | F90: =IF(E77="4/B",IFERROR(F87*Ayarlar!$B$3,""),"") | G90: =IF(F77="4/B",IFERROR(G87*Ayarlar!$B$3,""),"") | H90: =IF(G77="4/B",IFERROR(H87*Ayarlar!$B$3,""),"") | I90: =IF(H77="4/B",IFERROR(I87*Ayarlar!$B$3,""),"") | J90: =IF(I77="4/B",IFERROR(J87*Ayarlar!$B$3,""),"") | K90: =IF(J77="4/B",IFERROR(K87*Ayarlar!$B$3,""),"") | L90: =IF(K77="4/B",IFERROR(L87*Ayarlar!$B$3,""),"") | ... AL90: =IF(AK77="4/B",IFERROR(AL87*Ayarlar!$B$3,""),"")
D91: Net (Faiz Öncesi) | E91: =IF(E87="","",E87-E88-E89) -> 0 | F91: =IF(F87="","",F87-F88-F89) -> 0 | G91: =IF(G87="","",G87-G88-G89) -> 0 | H91: =IF(H87="","",H87-H88-H89) -> 0 | I91: =IF(I87="","",I87-I88-I89) -> 0 | J91: =IF(J87="","",J87-J88-J89) -> 0 | K91: =IF(K87="","",K87-K88-K89) -> 0 | L91: =IF(L87="","",L87-L88-L89) -> 0 | ... AL91: =IF(AL87="","",AL87-AL88-AL89) -> 0
D92: Faiz Bitiş | E92: =IF(E84="","",Ayarlar!$B$1) -> 46142 | F92: =IF(F84="","",Ayarlar!$B$1) -> 46142 | G92: =IF(G84="","",Ayarlar!$B$1) -> 46142 | H92: =IF(H84="","",Ayarlar!$B$1) -> 46142 | I92: =IF(I84="","",Ayarlar!$B$1) -> 46142 | J92: =IF(J84="","",Ayarlar!$B$1) -> 46142 | K92: =IF(K84="","",Ayarlar!$B$1) -> 46142 | L92: =IF(L84="","",Ayarlar!$B$1) -> 46142 | ... AL92: =IF(AL84="","",Ayarlar!$B$1) -> 46142
D93: Faiz Başlangıç | E93: =IF(E84="","",EOMONTH(E84,0)) -> 45016 | F93: =IF(F84="","",EOMONTH(F84,0)) -> 45046 | G93: =IF(G84="","",EOMONTH(G84,0)) -> 45077 | H93: =IF(H84="","",EOMONTH(H84,0)) -> 45107 | I93: =IF(I84="","",EOMONTH(I84,0)) -> 45138 | J93: =IF(J84="","",EOMONTH(J84,0)) -> 45169 | K93: =IF(K84="","",EOMONTH(K84,0)) -> 45199 | L93: =IF(L84="","",EOMONTH(L84,0)) -> 45230 | ... AL93: =IF(AL84="","",EOMONTH(AL84,0)) -> 46022
D94: %9 Gün | E94: =IF(E92="","",MAX(0,MIN(E92,DATE(2024,6,1)) - E93)) -> 428 | F94: =IF(F92="","",MAX(0,MIN(F92,DATE(2024,6,1)) - F93)) -> 398 | G94: =IF(G92="","",MAX(0,MIN(G92,DATE(2024,6,1)) - G93)) -> 367 | H94: =IF(H92="","",MAX(0,MIN(H92,DATE(2024,6,1)) - H93)) -> 337 | I94: =IF(I92="","",MAX(0,MIN(I92,DATE(2024,6,1)) - I93)) -> 306 | J94: =IF(J92="","",MAX(0,MIN(J92,DATE(2024,6,1)) - J93)) -> 275 | K94: =IF(K92="","",MAX(0,MIN(K92,DATE(2024,6,1)) - K93)) -> 245 | L94: =IF(L92="","",MAX(0,MIN(L92,DATE(2024,6,1)) - L93)) -> 214 | ... AL94: =IF(AL92="","",MAX(0,MIN(AL92,DATE(2024,6,1)) - AL93)) -> 0
D95: %24 Gün | E95: =IF(E92="","",MAX(0,E92 - MAX(E93,DATE(2024,6,1)))) -> 698 | F95: =IF(F92="","",MAX(0,F92 - MAX(F93,DATE(2024,6,1)))) -> 698 | G95: =IF(G92="","",MAX(0,G92 - MAX(G93,DATE(2024,6,1)))) -> 698 | H95: =IF(H92="","",MAX(0,H92 - MAX(H93,DATE(2024,6,1)))) -> 698 | I95: =IF(I92="","",MAX(0,I92 - MAX(I93,DATE(2024,6,1)))) -> 698 | J95: =IF(J92="","",MAX(0,J92 - MAX(J93,DATE(2024,6,1)))) -> 698 | K95: =IF(K92="","",MAX(0,K92 - MAX(K93,DATE(2024,6,1)))) -> 698 | L95: =IF(L92="","",MAX(0,L92 - MAX(L93,DATE(2024,6,1)))) -> 698 | ... AL95: =IF(AL92="","",MAX(0,AL92 - MAX(AL93,DATE(2024,6,1)))) -> 120
D96: Faiz Oranı | E96: =IF(E92="","",0.09*E94/365+0.24*E95/365) -> 0.56449315 | F96: =IF(F92="","",0.09*F94/365+0.24*F95/365) -> 0.55709589 | G96: =IF(G92="","",0.09*G94/365+0.24*G95/365) -> 0.54945205 | H96: =IF(H92="","",0.09*H94/365+0.24*H95/365) -> 0.54205479 | I96: =IF(I92="","",0.09*I94/365+0.24*I95/365) -> 0.53441096 | J96: =IF(J92="","",0.09*J94/365+0.24*J95/365) -> 0.52676712 | K96: =IF(K92="","",0.09*K94/365+0.24*K95/365) -> 0.51936986 | L96: =IF(L92="","",0.09*L94/365+0.24*L95/365) -> 0.51172603 | ... AL96: =IF(AL92="","",0.09*AL94/365+0.24*AL95/365) -> 0.07890411
D97: Faiz Tutarı (Net üzerinden) | E97: =IF(E$91="","",E91*E96) -> 0 | F97: =IF(F$91="","",F91*F96) -> 0 | G97: =IF(G$91="","",G91*G96) -> 0 | H97: =IF(H$91="","",H91*H96) -> 0 | I97: =IF(I$91="","",I91*I96) -> 0 | J97: =IF(J$91="","",J91*J96) -> 0 | K97: =IF(K$91="","",K91*K96) -> 0 | L97: =IF(L$91="","",L91*L96) -> 0 | ... AL97: =IF(AL$91="","",AL91*AL96) -> 0
D98: Anapara (Brüt) + Faiz Toplamı | E98: =IF(E87="","",E87+E97) -> 0 | F98: =IF(F87="","",F87+F97) -> 0 | G98: =IF(G87="","",G87+G97) -> 0 | H98: =IF(H87="","",H87+H97) -> 0 | I98: =IF(I87="","",I87+I97) -> 0 | J98: =IF(J87="","",J87+J97) -> 0 | K98: =IF(K87="","",K87+K97) -> 0 | L98: =IF(L87="","",L87+L97) -> 0 | ... AL98: =IF(AL87="","",AL87+AL97) -> 0
D99: Ödenecek Toplam (Net + Faiz) | E99: =IF(E91="","",E91+E97) -> 0 | F99: =IF(F91="","",F91+F97) -> 0 | G99: =IF(G91="","",G91+G97) -> 0 | H99: =IF(H91="","",H91+H97) -> 0 | I99: =IF(I91="","",I91+I97) -> 0 | J99: =IF(J91="","",J91+J97) -> 0 | K99: =IF(K91="","",K91+K97) -> 0 | L99: =IF(L91="","",L91+L97) -> 0 | ... AL99: =IF(AL91="","",AL91+AL97) -> 0
D100: Katsayı | E100: =SUMIFS(Katsayilar!$C$2:$C$50,Katsayilar!$A$2:$A$50,"<="&DATE(YEAR(E84),MONTH(E84),1),Katsayilar!$B$2:$B$50,">="&DATE(YEAR(E84),MONTH(E84),1)) -> 0.433684 | I100: =SUMIFS(Katsayilar!$C$2:$C$50,Katsayilar!$A$2:$A$50,"<="&DATE(YEAR(I84),MONTH(I84),1),Katsayilar!$B$2:$B$50,">="&DATE(YEAR(I84),MONTH(I84),1)) -> 0.509796 | O100: =SUMIFS(Katsayilar!$C$2:$C$50,Katsayilar!$A$2:$A$50,"<="&DATE(YEAR(O84),MONTH(O84),1),Katsayilar!$B$2:$B$50,">="&DATE(YEAR(O84),MONTH(O84),1)) -> 0.760871 | U100: =SUMIFS(Katsayilar!$C$2:$C$50,Katsayilar!$A$2:$A$50,"<="&DATE(YEAR(U84),MONTH(U84),1),Katsayilar!$B$2:$B$50,">="&DATE(YEAR(U84),MONTH(U84),1)) -> 0.907796 | AA100: =SUMIFS(Katsayilar!$C$2:$C$50,Katsayilar!$A$2:$A$50,"<="&DATE(YEAR(AA84),MONTH(AA84),1),Katsayilar!$B$2:$B$50,">="&DATE(YEAR(AA84),MONTH(AA84),1)) -> 1.012556 | AG100: =SUMIFS(Katsayilar!$C$2:$C$50,Katsayilar!$A$2:$A$50,"<="&DATE(YEAR(AG84),MONTH(AG84),1),Katsayilar!$B$2:$B$50,">="&DATE(YEAR(AG84),MONTH(AG84),1)) -> 1.170211
D101: Brüt Kontrol Ödemesi | E101: =SUM(E87:H87) -> 0 | I101: =SUM(I87:N87) -> 0 | O101: =SUM(O87:T87) -> 0 | U101: =SUM(U87:Z87) -> 0 | AA101: =SUM(AA87:AF87) -> 0 | AG101: =SUM(AG87:AL87) -> 0 | AM101: =SUM(E101:AL101) -> 0
D102: Gelir Vergisi % 15 | E102: =SUM(E88:H88) -> 0 | I102: =SUM(I88:N88) -> 0 | O102: =SUM(O88:T88) -> 0 | U102: =SUM(U88:Z88) -> 0 | AA102: =SUM(AA88:AF88) -> 0 | AG102: =SUM(AG88:AL88) -> 0 | AM102: =SUM(E102:AL102) -> 0
D103: Damga Vergisi | E103: =SUM(E89:H89) -> 0 | I103: =SUM(I89:N89) -> 0 | O103: =SUM(O89:T89) -> 0 | U103: =SUM(U89:Z89) -> 0 | AA103: =SUM(AA89:AF89) -> 0 | AG103: =SUM(AG89:AL89) -> 0 | AM103: =SUM(E103:AL103) -> 0
...

Sheet ÇÖB Bordrosu
A5: =CONCATENATE('VERİ GİRİŞİ'!$B$1&" İLÇE TARIM VE ORMAN MÜDÜRLÜĞÜ GERİYE DÖNÜK EK ÖZEL HİZMET TAZMİNATI ÇEŞİTLİ ÖDEMELER BORDROSU") -> ÇİVRİL İLÇE TARIM VE ORMAN MÜDÜRLÜĞÜ GERİYE DÖNÜK EK ÖZEL HİZMET TAZMİNATI ÇEŞİTLİ ÖDEMELER BORDROSU
AH6: Tarih: | AK6: ='HESAPLAMA SAYFASI'!N3 -> 46142
A7: SIRA | B7: T.C NO | C7: ADI SOYADI | D7: Yıl | E7: 2023 | O7: 2024 | AA7: 2025 | AM7: TOPLAM
D8: Ay | E8: 3 | F8: 4 | G8: 5 | H8: 6 | I8: 7 | J8: 8 | K8: 9 | L8: 10 | M8: 11 | N8: 12 | O8: 1 | P8: 2 | Q8: 3 | R8: 4 | S8: 5 | T8: 6 | U8: 7 | V8: 8 | W8: 9 | X8: 10 | Y8: 11 | Z8: 12 | AA8: 1 | AB8: 2 | AC8: 3 | AD8: 4 | AE8: 5 | AF8: 6 | AG8: 7 | AH8: 8 | AI8: 9 | AJ8: 10 | AK8: 11 | AL8: 12
D9: KATSAYI | E9: =Katsayilar!C2 -> 0.433684 | I9: =Katsayilar!C3 -> 0.509796 | O9: =Katsayilar!C4 -> 0.760871 | U9: =Katsayilar!C5 -> 0.907796 | AA9: =Katsayilar!C6 -> 1.012556 | AG9: =Katsayilar!C7 -> 1.170211
D10: Günlük Gösterge Puanı | E10: 200 | I10: 200 | O10: 200 | U10: 200 | AA10: 200 | AG10: 200
D11: Faiz %9 Gün | E11: ='HESAPLAMA SAYFASI'!E19 -> 428 | F11: ='HESAPLAMA SAYFASI'!F19 -> 398 | G11: ='HESAPLAMA SAYFASI'!G19 -> 367 | H11: ='HESAPLAMA SAYFASI'!H19 -> 337 | I11: ='HESAPLAMA SAYFASI'!I19 -> 306 | J11: ='HESAPLAMA SAYFASI'!J19 -> 275 | K11: ='HESAPLAMA SAYFASI'!K19 -> 245 | L11: ='HESAPLAMA SAYFASI'!L19 -> 214 | ... AL11: ='HESAPLAMA SAYFASI'!AL19 -> 0
D12: Faiz %24 Gün | E12: ='HESAPLAMA SAYFASI'!E20 -> 698 | F12: ='HESAPLAMA SAYFASI'!F20 -> 698 | G12: ='HESAPLAMA SAYFASI'!G20 -> 698 | H12: ='HESAPLAMA SAYFASI'!H20 -> 698 | I12: ='HESAPLAMA SAYFASI'!I20 -> 698 | J12: ='HESAPLAMA SAYFASI'!J20 -> 698 | K12: ='HESAPLAMA SAYFASI'!K20 -> 698 | L12: ='HESAPLAMA SAYFASI'!L20 -> 698 | ... AL12: ='HESAPLAMA SAYFASI'!AL20 -> 120
D13: Faiz Oranı | E13: 0.50334247 | F13: 0.49594521 | G13: 0.48830137 | H13: 0.48090411 | I13: 0.47326027 | J13: 0.46561644 | K13: 0.45821918 | L13: 0.45057534 | M13: 0.44317808 | N13: 0.43553425 | O13: 0.42789041 | P13: 0.42073973 | Q13: 0.41309589 | R13: 0.40569863 | S13: 0.39805479 | T13: 0.37873973 | U13: 0.35835616 | V13: 0.3379726 | W13: 0.31824658 | X13: 0.29786301 | Y13: 0.27813699 | Z13: 0.25775342 | AA13: 0.23736986 | AB13: 0.2189589 | AC13: 0.19857534 | AD13: 0.17884932 | AE13: 0.15846575 | AF13: 0.13873973 | AG13: 0.11835616 | AH13: 0.097972603 | AI13: 0.078246575 | AJ13: 0.057863014 | AK13: 0.038136986 | AL13: 0.017753425
A14: ='HESAPLAMA SAYFASI'!A9 -> 1 | B14: ='HESAPLAMA SAYFASI'!B9 -> 0 | C14: ='HESAPLAMA SAYFASI'!C9 -> 0 | D14: Gün Sayısı | E14: ='HESAPLAMA SAYFASI'!E10 -> 0 | F14: ='HESAPLAMA SAYFASI'!F10 -> 0 | G14: ='HESAPLAMA SAYFASI'!G10 -> 0 | H14: ='HESAPLAMA SAYFASI'!H10 -> 0 | I14: ='HESAPLAMA SAYFASI'!I10 -> 0 | J14: ='HESAPLAMA SAYFASI'!J10 -> 0 | K14: ='HESAPLAMA SAYFASI'!K10 -> 0 | L14: ='HESAPLAMA SAYFASI'!L10 -> 0 | ... AL14: ='HESAPLAMA SAYFASI'!AL10 -> 0
D15: Brüt Kontrol Ödemesi | E15: ='HESAPLAMA SAYFASI'!E26 -> 0 | I15: ='HESAPLAMA SAYFASI'!I26 -> 0 | O15: ='HESAPLAMA SAYFASI'!O26 -> 0 | U15: ='HESAPLAMA SAYFASI'!U26 -> 0 | AA15: ='HESAPLAMA SAYFASI'!AA26 -> 0 | AG15: ='HESAPLAMA SAYFASI'!AG26 -> 0 | AM15: =SUM(E15:AL15) -> 0
D16: =Ayarlar!$A$4 -> Gelir Vergisi Oranı (0,15) | E16: ='HESAPLAMA SAYFASI'!E27 -> 0 | I16: ='HESAPLAMA SAYFASI'!I27 -> 0 | O16: ='HESAPLAMA SAYFASI'!O27 -> 0 | U16: ='HESAPLAMA SAYFASI'!U27 -> 0 | AA16: ='HESAPLAMA SAYFASI'!AA27 -> 0 | AG16: ='HESAPLAMA SAYFASI'!AG27 -> 0 | AM16: =SUM(E16:AL16) -> 0
D17: Damga Vergisi | E17: ='HESAPLAMA SAYFASI'!E28 -> 0 | I17: ='HESAPLAMA SAYFASI'!I28 -> 0 | O17: ='HESAPLAMA SAYFASI'!O28 -> 0 | U17: ='HESAPLAMA SAYFASI'!U28 -> 0 | AA17: ='HESAPLAMA SAYFASI'!AA28 -> 0 | AG17: ='HESAPLAMA SAYFASI'!AG28 -> 0 | AM17: =SUM(E17:AL17) -> 0
D18: Net (Faiz Öncesi) | E18: ='HESAPLAMA SAYFASI'!E30 -> 0 | I18: ='HESAPLAMA SAYFASI'!I30 -> 0 | O18: ='HESAPLAMA SAYFASI'!O30 -> 0 | U18: ='HESAPLAMA SAYFASI'!U30 -> 0 | AA18: ='HESAPLAMA SAYFASI'!AA30 -> 0 | AG18: ='HESAPLAMA SAYFASI'!AG30 -> 0 | AM18: =SUM(E18:AL18) -> 0
D19: Faiz Tutarı (Net üzerinden) | E19: ='HESAPLAMA SAYFASI'!E31 -> 0 | I19: ='HESAPLAMA SAYFASI'!I31 -> 0 | O19: ='HESAPLAMA SAYFASI'!O31 -> 0 | U19: ='HESAPLAMA SAYFASI'!U31 -> 0 | AA19: ='HESAPLAMA SAYFASI'!AA31 -> 0 | AG19: ='HESAPLAMA SAYFASI'!AG31 -> 0 | AM19: =SUM(E19:AL19) -> 0
D20: Ödenecek Toplam (Net + Faiz) | E20: ='HESAPLAMA SAYFASI'!E33 -> 0 | I20: ='HESAPLAMA SAYFASI'!I33 -> 0 | O20: ='HESAPLAMA SAYFASI'!O33 -> 0 | U20: ='HESAPLAMA SAYFASI'!U33 -> 0 | AA20: ='HESAPLAMA SAYFASI'!AA33 -> 0 | AG20: ='HESAPLAMA SAYFASI'!AG33 -> 0 | AM20: =SUM(E20:AL20) -> 0
A21: ='HESAPLAMA SAYFASI'!A34 -> 2 | B21: ='HESAPLAMA SAYFASI'!B34 -> 0 | C21: ='HESAPLAMA SAYFASI'!C34 -> 0 | D21: Gün Sayısı | E21: ='HESAPLAMA SAYFASI'!E35 -> 0 | F21: ='HESAPLAMA SAYFASI'!F35 -> 0 | G21: ='HESAPLAMA SAYFASI'!G35 -> 0 | H21: ='HESAPLAMA SAYFASI'!H35 -> 0 | I21: ='HESAPLAMA SAYFASI'!I35 -> 0 | J21: ='HESAPLAMA SAYFASI'!J35 -> 0 | K21: ='HESAPLAMA SAYFASI'!K35 -> 0 | L21: ='HESAPLAMA SAYFASI'!L35 -> 0 | ... AL21: ='HESAPLAMA SAYFASI'!AL35 -> 0
D22: Brüt Kontrol Ödemesi | E22: ='HESAPLAMA SAYFASI'!E51 -> 0 | I22: ='HESAPLAMA SAYFASI'!I51 -> 0 | O22: ='HESAPLAMA SAYFASI'!O51 -> 0 | U22: ='HESAPLAMA SAYFASI'!U51 -> 0 | AA22: ='HESAPLAMA SAYFASI'!AA51 -> 0 | AG22: ='HESAPLAMA SAYFASI'!AG51 -> 0 | AM22: =SUM(E22:AL22) -> 0
D23: =Ayarlar!$A$4 -> Gelir Vergisi Oranı (0,15) | E23: ='HESAPLAMA SAYFASI'!E52 -> 0 | I23: ='HESAPLAMA SAYFASI'!I52 -> 0 | O23: ='HESAPLAMA SAYFASI'!O52 -> 0 | U23: ='HESAPLAMA SAYFASI'!U52 -> 0 | AA23: ='HESAPLAMA SAYFASI'!AA52 -> 0 | AG23: ='HESAPLAMA SAYFASI'!AG52 -> 0 | AM23: =SUM(E23:AL23) -> 0
D24: Damga Vergisi | E24: ='HESAPLAMA SAYFASI'!E53 -> 0 | I24: ='HESAPLAMA SAYFASI'!I53 -> 0 | O24: ='HESAPLAMA SAYFASI'!O53 -> 0 | U24: ='HESAPLAMA SAYFASI'!U53 -> 0 | AA24: ='HESAPLAMA SAYFASI'!AA53 -> 0 | AG24: ='HESAPLAMA SAYFASI'!AG53 -> 0 | AM24: =SUM(E24:AL24) -> 0
D25: Net (Faiz Öncesi) | E25: ='HESAPLAMA SAYFASI'!E55 -> 0 | I25: ='HESAPLAMA SAYFASI'!I55 -> 0 | O25: ='HESAPLAMA SAYFASI'!O55 -> 0 | U25: ='HESAPLAMA SAYFASI'!U55 -> 0 | AA25: ='HESAPLAMA SAYFASI'!AA55 -> 0 | AG25: ='HESAPLAMA SAYFASI'!AG55 -> 0 | AM25: =SUM(E25:AL25) -> 0
D26: Faiz Tutarı (Net üzerinden) | E26: ='HESAPLAMA SAYFASI'!E56 -> 0 | I26: ='HESAPLAMA SAYFASI'!I56 -> 0 | O26: ='HESAPLAMA SAYFASI'!O56 -> 0 | U26: ='HESAPLAMA SAYFASI'!U56 -> 0 | AA26: ='HESAPLAMA SAYFASI'!AA56 -> 0 | AG26: ='HESAPLAMA SAYFASI'!AG56 -> 0 | AM26: =SUM(E26:AL26) -> 0
D27: Ödenecek Toplam (Net + Faiz) | E27: ='HESAPLAMA SAYFASI'!E58 -> 0 | I27: ='HESAPLAMA SAYFASI'!I58 -> 0 | O27: ='HESAPLAMA SAYFASI'!O58 -> 0 | U27: ='HESAPLAMA SAYFASI'!U58 -> 0 | AA27: ='HESAPLAMA SAYFASI'!AA58 -> 0 | AG27: ='HESAPLAMA SAYFASI'!AG58 -> 0 | AM27: =SUM(E27:AL27) -> 0
A28: ='HESAPLAMA SAYFASI'!A59 -> 3 | B28: ='HESAPLAMA SAYFASI'!B59 -> 0 | C28: ='HESAPLAMA SAYFASI'!C59 -> 0 | D28: Gün Sayısı | E28: ='HESAPLAMA SAYFASI'!E60 -> 0 | F28: ='HESAPLAMA SAYFASI'!F60 -> 0 | G28: ='HESAPLAMA SAYFASI'!G60 -> 0 | H28: ='HESAPLAMA SAYFASI'!H60 -> 0 | I28: ='HESAPLAMA SAYFASI'!I60 -> 0 | J28: ='HESAPLAMA SAYFASI'!J60 -> 0 | K28: ='HESAPLAMA SAYFASI'!K60 -> 0 | L28: ='HESAPLAMA SAYFASI'!L60 -> 0 | ... AL28: ='HESAPLAMA SAYFASI'!AL60 -> 0
D29: Brüt Kontrol Ödemesi | E29: ='HESAPLAMA SAYFASI'!E76 -> 0 | I29: ='HESAPLAMA SAYFASI'!I76 -> 0 | O29: ='HESAPLAMA SAYFASI'!O76 -> 0 | U29: ='HESAPLAMA SAYFASI'!U76 -> 0 | AA29: ='HESAPLAMA SAYFASI'!AA76 -> 0 | AG29: ='HESAPLAMA SAYFASI'!AG76 -> 0 | AM29: =SUM(E29:AL29) -> 0
D30: =Ayarlar!$A$4 -> Gelir Vergisi Oranı (0,15) | E30: ='HESAPLAMA SAYFASI'!E77 -> 0 | I30: ='HESAPLAMA SAYFASI'!I77 -> 0 | O30: ='HESAPLAMA SAYFASI'!O77 -> 0 | U30: ='HESAPLAMA SAYFASI'!U77 -> 0 | AA30: ='HESAPLAMA SAYFASI'!AA77 -> 0 | AG30: ='HESAPLAMA SAYFASI'!AG77 -> 0 | AM30: =SUM(E30:AL30) -> 0
D31: Damga Vergisi | E31: ='HESAPLAMA SAYFASI'!E78 -> 0 | I31: ='HESAPLAMA SAYFASI'!I78 -> 0 | O31: ='HESAPLAMA SAYFASI'!O78 -> 0 | U31: ='HESAPLAMA SAYFASI'!U78 -> 0 | AA31: ='HESAPLAMA SAYFASI'!AA78 -> 0 | AG31: ='HESAPLAMA SAYFASI'!AG78 -> 0 | AM31: =SUM(E31:AL31) -> 0
D32: Net (Faiz Öncesi) | E32: ='HESAPLAMA SAYFASI'!E80 -> 0 | I32: ='HESAPLAMA SAYFASI'!I80 -> 0 | O32: ='HESAPLAMA SAYFASI'!O80 -> 0 | U32: ='HESAPLAMA SAYFASI'!U80 -> 0 | AA32: ='HESAPLAMA SAYFASI'!AA80 -> 0 | AG32: ='HESAPLAMA SAYFASI'!AG80 -> 0 | AM32: =SUM(E32:AL32) -> 0
D33: Faiz Tutarı (Net üzerinden) | E33: ='HESAPLAMA SAYFASI'!E81 -> 0 | I33: ='HESAPLAMA SAYFASI'!I81 -> 0 | O33: ='HESAPLAMA SAYFASI'!O81 -> 0 | U33: ='HESAPLAMA SAYFASI'!U81 -> 0 | AA33: ='HESAPLAMA SAYFASI'!AA81 -> 0 | AG33: ='HESAPLAMA SAYFASI'!AG81 -> 0 | AM33: =SUM(E33:AL33) -> 0
D34: Ödenecek Toplam (Net + Faiz) | E34: ='HESAPLAMA SAYFASI'!E83 -> 0 | I34: ='HESAPLAMA SAYFASI'!I83 -> 0 | O34: ='HESAPLAMA SAYFASI'!O83 -> 0 | U34: ='HESAPLAMA SAYFASI'!U83 -> 0 | AA34: ='HESAPLAMA SAYFASI'!AA83 -> 0 | AG34: ='HESAPLAMA SAYFASI'!AG83 -> 0 | AM34: =SUM(E34:AL34) -> 0
A35: ='HESAPLAMA SAYFASI'!A84 -> 4 | B35: ='HESAPLAMA SAYFASI'!B84 -> 0 | C35: ='HESAPLAMA SAYFASI'!C84 -> 0 | D35: Gün Sayısı | E35: ='HESAPLAMA SAYFASI'!E85 -> 0 | F35: ='HESAPLAMA SAYFASI'!F85 -> 0 | G35: ='HESAPLAMA SAYFASI'!G85 -> 0 | H35: ='HESAPLAMA SAYFASI'!H85 -> 0 | I35: ='HESAPLAMA SAYFASI'!I85 -> 0 | J35: ='HESAPLAMA SAYFASI'!J85 -> 0 | K35: ='HESAPLAMA SAYFASI'!K85 -> 0 | L35: ='HESAPLAMA SAYFASI'!L85 -> 0 | ... AL35: ='HESAPLAMA SAYFASI'!AL85 -> 0
D36: Brüt Kontrol Ödemesi | E36: ='HESAPLAMA SAYFASI'!E101 -> 0 | I36: ='HESAPLAMA SAYFASI'!I101 -> 0 | O36: ='HESAPLAMA SAYFASI'!O101 -> 0 | U36: ='HESAPLAMA SAYFASI'!U101 -> 0 | AA36: ='HESAPLAMA SAYFASI'!AA101 -> 0 | AG36: ='HESAPLAMA SAYFASI'!AG101 -> 0 | AM36: =SUM(E36:AL36) -> 0
D37: =Ayarlar!$A$4 -> Gelir Vergisi Oranı (0,15) | E37: ='HESAPLAMA SAYFASI'!E102 -> 0 | I37: ='HESAPLAMA SAYFASI'!I102 -> 0 | O37: ='HESAPLAMA SAYFASI'!O102 -> 0 | U37: ='HESAPLAMA SAYFASI'!U102 -> 0 | AA37: ='HESAPLAMA SAYFASI'!AA102 -> 0 | AG37: ='HESAPLAMA SAYFASI'!AG102 -> 0 | AM37: =SUM(E37:AL37) -> 0
D38: Damga Vergisi | E38: ='HESAPLAMA SAYFASI'!E103 -> 0 | I38: ='HESAPLAMA SAYFASI'!I103 -> 0 | O38: ='HESAPLAMA SAYFASI'!O103 -> 0 | U38: ='HESAPLAMA SAYFASI'!U103 -> 0 | AA38: ='HESAPLAMA SAYFASI'!AA103 -> 0 | AG38: ='HESAPLAMA SAYFASI'!AG103 -> 0 | AM38: =SUM(E38:AL38) -> 0
D39: Net (Faiz Öncesi) | E39: ='HESAPLAMA SAYFASI'!E105 -> 0 | I39: ='HESAPLAMA SAYFASI'!I105 -> 0 | O39: ='HESAPLAMA SAYFASI'!O105 -> 0 | U39: ='HESAPLAMA SAYFASI'!U105 -> 0 | AA39: ='HESAPLAMA SAYFASI'!AA105 -> 0 | AG39: ='HESAPLAMA SAYFASI'!AG105 -> 0 | AM39: =SUM(E39:AL39) -> 0
D40: Faiz Tutarı (Net üzerinden) | E40: ='HESAPLAMA SAYFASI'!E106 -> 0 | I40: ='HESAPLAMA SAYFASI'!I106 -> 0 | O40: ='HESAPLAMA SAYFASI'!O106 -> 0 | U40: ='HESAPLAMA SAYFASI'!U106 -> 0 | AA40: ='HESAPLAMA SAYFASI'!AA106 -> 0 | AG40: ='HESAPLAMA SAYFASI'!AG106 -> 0 | AM40: =SUM(E40:AL40) -> 0
D41: Ödenecek Toplam (Net + Faiz) | E41: ='HESAPLAMA SAYFASI'!E108 -> 0 | I41: ='HESAPLAMA SAYFASI'!I108 -> 0 | O41: ='HESAPLAMA SAYFASI'!O108 -> 0 | U41: ='HESAPLAMA SAYFASI'!U108 -> 0 | AA41: ='HESAPLAMA SAYFASI'!AA108 -> 0 | AG41: ='HESAPLAMA SAYFASI'!AG108 -> 0 | AM41: =SUM(E41:AL41) -> 0
A42: ='HESAPLAMA SAYFASI'!A109 -> 5 | B42: ='HESAPLAMA SAYFASI'!B109 -> 0 | C42: ='HESAPLAMA SAYFASI'!C109 -> 0 | D42: Gün Sayısı | E42: ='HESAPLAMA SAYFASI'!E110 -> 0 | F42: ='HESAPLAMA SAYFASI'!F110 -> 0 | G42: ='HESAPLAMA SAYFASI'!G110 -> 0 | H42: ='HESAPLAMA SAYFASI'!H110 -> 0 | I42: ='HESAPLAMA SAYFASI'!I110 -> 0 | J42: ='HESAPLAMA SAYFASI'!J110 -> 0 | K42: ='HESAPLAMA SAYFASI'!K110 -> 0 | L42: ='HESAPLAMA SAYFASI'!L110 -> 0 | ... AL42: ='HESAPLAMA SAYFASI'!AL110 -> 0
D43: Brüt Kontrol Ödemesi | E43: ='HESAPLAMA SAYFASI'!E126 -> 0 | I43: ='HESAPLAMA SAYFASI'!I126 -> 0 | O43: ='HESAPLAMA SAYFASI'!O126 -> 0 | U43: ='HESAPLAMA SAYFASI'!U126 -> 0 | AA43: ='HESAPLAMA SAYFASI'!AA126 -> 0 | AG43: ='HESAPLAMA SAYFASI'!AG126 -> 0 | AM43: =SUM(E43:AL43) -> 0
D44: =Ayarlar!$A$4 -> Gelir Vergisi Oranı (0,15) | E44: ='HESAPLAMA SAYFASI'!E127 -> 0 | I44: ='HESAPLAMA SAYFASI'!I127 -> 0 | O44: ='HESAPLAMA SAYFASI'!O127 -> 0 | U44: ='HESAPLAMA SAYFASI'!U127 -> 0 | AA44: ='HESAPLAMA SAYFASI'!AA127 -> 0 | AG44: ='HESAPLAMA SAYFASI'!AG127 -> 0 | AM44: =SUM(E44:AL44) -> 0
D45: Damga Vergisi | E45: ='HESAPLAMA SAYFASI'!E128 -> 0 | I45: ='HESAPLAMA SAYFASI'!I128 -> 0 | O45: ='HESAPLAMA SAYFASI'!O128 -> 0 | U45: ='HESAPLAMA SAYFASI'!U128 -> 0 | AA45: ='HESAPLAMA SAYFASI'!AA128 -> 0 | AG45: ='HESAPLAMA SAYFASI'!AG128 -> 0 | AM45: =SUM(E45:AL45) -> 0
D46: Net (Faiz Öncesi) | E46: ='HESAPLAMA SAYFASI'!E130 -> 0 | I46: ='HESAPLAMA SAYFASI'!I130 -> 0 | O46: ='HESAPLAMA SAYFASI'!O130 -> 0 | U46: ='HESAPLAMA SAYFASI'!U130 -> 0 | AA46: ='HESAPLAMA SAYFASI'!AA130 -> 0 | AG46: ='HESAPLAMA SAYFASI'!AG130 -> 0 | AM46: =SUM(E46:AL46) -> 0
D47: Faiz Tutarı (Net üzerinden) | E47: ='HESAPLAMA SAYFASI'!E131 -> 0 | I47: ='HESAPLAMA SAYFASI'!I131 -> 0 | O47: ='HESAPLAMA SAYFASI'!O131 -> 0 | U47: ='HESAPLAMA SAYFASI'!U131 -> 0 | AA47: ='HESAPLAMA SAYFASI'!AA131 -> 0 | AG47: ='HESAPLAMA SAYFASI'!AG131 -> 0 | AM47: =SUM(E47:AL47) -> 0
D48: Ödenecek Toplam (Net + Faiz) | E48: ='HESAPLAMA SAYFASI'!E133 -> 0 | I48: ='HESAPLAMA SAYFASI'!I133 -> 0 | O48: ='HESAPLAMA SAYFASI'!O133 -> 0 | U48: ='HESAPLAMA SAYFASI'!U133 -> 0 | AA48: ='HESAPLAMA SAYFASI'!AA133 -> 0 | AG48: ='HESAPLAMA SAYFASI'!AG133 -> 0 | AM48: =SUM(E48:AL48) -> 0
A49: ='HESAPLAMA SAYFASI'!A134 -> 6 | B49: ='HESAPLAMA SAYFASI'!B134 -> 0 | C49: ='HESAPLAMA SAYFASI'!C134 -> 0 | D49: Gün Sayısı | E49: ='HESAPLAMA SAYFASI'!E135 -> 0 | F49: ='HESAPLAMA SAYFASI'!F135 -> 0 | G49: ='HESAPLAMA SAYFASI'!G135 -> 0 | H49: ='HESAPLAMA SAYFASI'!H135 -> 0 | I49: ='HESAPLAMA SAYFASI'!I135 -> 0 | J49: ='HESAPLAMA SAYFASI'!J135 -> 0 | K49: ='HESAPLAMA SAYFASI'!K135 -> 0 | L49: ='HESAPLAMA SAYFASI'!L135 -> 0 | ... AL49: ='HESAPLAMA SAYFASI'!AL135 -> 0
D50: Brüt Kontrol Ödemesi | E50: ='HESAPLAMA SAYFASI'!E151 -> 0 | I50: ='HESAPLAMA SAYFASI'!I151 -> 0 | O50: ='HESAPLAMA SAYFASI'!O151 -> 0 | U50: ='HESAPLAMA SAYFASI'!U151 -> 0 | AA50: ='HESAPLAMA SAYFASI'!AA151 -> 0 | AG50: ='HESAPLAMA SAYFASI'!AG151 -> 0 | AM50: =SUM(E50:AL50) -> 0
D51: =Ayarlar!$A$4 -> Gelir Vergisi Oranı (0,15) | E51: ='HESAPLAMA SAYFASI'!E152 -> 0 | I51: ='HESAPLAMA SAYFASI'!I152 -> 0 | O51: ='HESAPLAMA SAYFASI'!O152 -> 0 | U51: ='HESAPLAMA SAYFASI'!U152 -> 0 | AA51: ='HESAPLAMA SAYFASI'!AA152 -> 0 | AG51: ='HESAPLAMA SAYFASI'!AG152 -> 0 | AM51: =SUM(E51:AL51) -> 0
D52: Damga Vergisi | E52: ='HESAPLAMA SAYFASI'!E153 -> 0 | I52: ='HESAPLAMA SAYFASI'!I153 -> 0 | O52: ='HESAPLAMA SAYFASI'!O153 -> 0 | U52: ='HESAPLAMA SAYFASI'!U153 -> 0 | AA52: ='HESAPLAMA SAYFASI'!AA153 -> 0 | AG52: ='HESAPLAMA SAYFASI'!AG153 -> 0 | AM52: =SUM(E52:AL52) -> 0
D53: Net (Faiz Öncesi) | E53: ='HESAPLAMA SAYFASI'!E155 -> 0 | I53: ='HESAPLAMA SAYFASI'!I155 -> 0 | O53: ='HESAPLAMA SAYFASI'!O155 -> 0 | U53: ='HESAPLAMA SAYFASI'!U155 -> 0 | AA53: ='HESAPLAMA SAYFASI'!AA155 -> 0 | AG53: ='HESAPLAMA SAYFASI'!AG155 -> 0 | AM53: =SUM(E53:AL53) -> 0
D54: Faiz Tutarı (Net üzerinden) | E54: ='HESAPLAMA SAYFASI'!E156 -> 0 | I54: ='HESAPLAMA SAYFASI'!I156 -> 0 | O54: ='HESAPLAMA SAYFASI'!O156 -> 0 | U54: ='HESAPLAMA SAYFASI'!U156 -> 0 | AA54: ='HESAPLAMA SAYFASI'!AA156 -> 0 | AG54: ='HESAPLAMA SAYFASI'!AG156 -> 0 | AM54: =SUM(E54:AL54) -> 0
D55: Ödenecek Toplam (Net + Faiz) | E55: ='HESAPLAMA SAYFASI'!E158 -> 0 | I55: ='HESAPLAMA SAYFASI'!I158 -> 0 | O55: ='HESAPLAMA SAYFASI'!O158 -> 0 | U55: ='HESAPLAMA SAYFASI'!U158 -> 0 | AA55: ='HESAPLAMA SAYFASI'!AA158 -> 0 | AG55: ='HESAPLAMA SAYFASI'!AG158 -> 0 | AM55: =SUM(E55:AL55) -> 0
A56: ='HESAPLAMA SAYFASI'!A159 -> 7 | B56: ='HESAPLAMA SAYFASI'!B159 -> 0 | C56: ='HESAPLAMA SAYFASI'!C159 -> 0 | D56: Gün Sayısı | E56: ='HESAPLAMA SAYFASI'!E160 -> 0 | F56: ='HESAPLAMA SAYFASI'!F160 -> 0 | G56: ='HESAPLAMA SAYFASI'!G160 -> 0 | H56: ='HESAPLAMA SAYFASI'!H160 -> 0 | I56: ='HESAPLAMA SAYFASI'!I160 -> 0 | J56: ='HESAPLAMA SAYFASI'!J160 -> 0 | K56: ='HESAPLAMA SAYFASI'!K160 -> 0 | L56: ='HESAPLAMA SAYFASI'!L160 -> 0 | ... AL56: ='HESAPLAMA SAYFASI'!AL160 -> 0
D57: Brüt Kontrol Ödemesi | E57: ='HESAPLAMA SAYFASI'!E176 -> 0 | I57: ='HESAPLAMA SAYFASI'!I176 -> 0 | O57: ='HESAPLAMA SAYFASI'!O176 -> 0 | U57: ='HESAPLAMA SAYFASI'!U176 -> 0 | AA57: ='HESAPLAMA SAYFASI'!AA176 -> 0 | AG57: ='HESAPLAMA SAYFASI'!AG176 -> 0 | AM57: =SUM(E57:AL57) -> 0
D58: =Ayarlar!$A$4 -> Gelir Vergisi Oranı (0,15) | E58: ='HESAPLAMA SAYFASI'!E177 -> 0 | I58: ='HESAPLAMA SAYFASI'!I177 -> 0 | O58: ='HESAPLAMA SAYFASI'!O177 -> 0 | U58: ='HESAPLAMA SAYFASI'!U177 -> 0 | AA58: ='HESAPLAMA SAYFASI'!AA177 -> 0 | AG58: ='HESAPLAMA SAYFASI'!AG177 -> 0 | AM58: =SUM(E58:AL58) -> 0
D59: Damga Vergisi | E59: ='HESAPLAMA SAYFASI'!E178 -> 0 | I59: ='HESAPLAMA SAYFASI'!I178 -> 0 | O59: ='HESAPLAMA SAYFASI'!O178 -> 0 | U59: ='HESAPLAMA SAYFASI'!U178 -> 0 | AA59: ='HESAPLAMA SAYFASI'!AA178 -> 0 | AG59: ='HESAPLAMA SAYFASI'!AG178 -> 0 | AM59: =SUM(E59:AL59) -> 0
D60: Net (Faiz Öncesi) | E60: ='HESAPLAMA SAYFASI'!E180 -> 0 | I60: ='HESAPLAMA SAYFASI'!I180 -> 0 | O60: ='HESAPLAMA SAYFASI'!O180 -> 0 | U60: ='HESAPLAMA SAYFASI'!U180 -> 0 | AA60: ='HESAPLAMA SAYFASI'!AA180 -> 0 | AG60: ='HESAPLAMA SAYFASI'!AG180 -> 0 | AM60: =SUM(E60:AL60) -> 0
D61: Faiz Tutarı (Net üzerinden) | E61: ='HESAPLAMA SAYFASI'!E181 -> 0 | I61: ='HESAPLAMA SAYFASI'!I181 -> 0 | O61: ='HESAPLAMA SAYFASI'!O181 -> 0 | U61: ='HESAPLAMA SAYFASI'!U181 -> 0 | AA61: ='HESAPLAMA SAYFASI'!AA181 -> 0 | AG61: ='HESAPLAMA SAYFASI'!AG181 -> 0 | AM61: =SUM(E61:AL61) -> 0
D62: Ödenecek Toplam (Net + Faiz) | E62: ='HESAPLAMA SAYFASI'!E183 -> 0 | I62: ='HESAPLAMA SAYFASI'!I183 -> 0 | O62: ='HESAPLAMA SAYFASI'!O183 -> 0 | U62: ='HESAPLAMA SAYFASI'!U183 -> 0 | AA62: ='HESAPLAMA SAYFASI'!AA183 -> 0 | AG62: ='HESAPLAMA SAYFASI'!AG183 -> 0 | AM62: =SUM(E62:AL62) -> 0
A63: ='HESAPLAMA SAYFASI'!A184 -> 8 | B63: ='HESAPLAMA SAYFASI'!B184 -> 0 | C63: ='HESAPLAMA SAYFASI'!C184 -> 0 | D63: Gün Sayısı | E63: ='HESAPLAMA SAYFASI'!E185 -> 0 | F63: ='HESAPLAMA SAYFASI'!F185 -> 0 | G63: ='HESAPLAMA SAYFASI'!G185 -> 0 | H63: ='HESAPLAMA SAYFASI'!H185 -> 0 | I63: ='HESAPLAMA SAYFASI'!I185 -> 0 | J63: ='HESAPLAMA SAYFASI'!J185 -> 0 | K63: ='HESAPLAMA SAYFASI'!K185 -> 0 | L63: ='HESAPLAMA SAYFASI'!L185 -> 0 | ... AL63: ='HESAPLAMA SAYFASI'!AL185 -> 0
D64: Brüt Kontrol Ödemesi | E64: ='HESAPLAMA SAYFASI'!E201 -> 0 | I64: ='HESAPLAMA SAYFASI'!I201 -> 0 | O64: ='HESAPLAMA SAYFASI'!O201 -> 0 | U64: ='HESAPLAMA SAYFASI'!U201 -> 0 | AA64: ='HESAPLAMA SAYFASI'!AA201 -> 0 | AG64: ='HESAPLAMA SAYFASI'!AG201 -> 0 | AM64: =SUM(E64:AL64) -> 0
D65: =Ayarlar!$A$4 -> Gelir Vergisi Oranı (0,15) | E65: ='HESAPLAMA SAYFASI'!E202 -> 0 | I65: ='HESAPLAMA SAYFASI'!I202 -> 0 | O65: ='HESAPLAMA SAYFASI'!O202 -> 0 | U65: ='HESAPLAMA SAYFASI'!U202 -> 0 | AA65: ='HESAPLAMA SAYFASI'!AA202 -> 0 | AG65: ='HESAPLAMA SAYFASI'!AG202 -> 0 | AM65: =SUM(E65:AL65) -> 0
D66: Damga Vergisi | E66: ='HESAPLAMA SAYFASI'!E203 -> 0 | I66: ='HESAPLAMA SAYFASI'!I203 -> 0 | O66: ='HESAPLAMA SAYFASI'!O203 -> 0 | U66: ='HESAPLAMA SAYFASI'!U203 -> 0 | AA66: ='HESAPLAMA SAYFASI'!AA203 -> 0 | AG66: ='HESAPLAMA SAYFASI'!AG203 -> 0 | AM66: =SUM(E66:AL66) -> 0
D67: Net (Faiz Öncesi) | E67: ='HESAPLAMA SAYFASI'!E205 -> 0 | I67: ='HESAPLAMA SAYFASI'!I205 -> 0 | O67: ='HESAPLAMA SAYFASI'!O205 -> 0 | U67: ='HESAPLAMA SAYFASI'!U205 -> 0 | AA67: ='HESAPLAMA SAYFASI'!AA205 -> 0 | AG67: ='HESAPLAMA SAYFASI'!AG205 -> 0 | AM67: =SUM(E67:AL67) -> 0
D68: Faiz Tutarı (Net üzerinden) | E68: ='HESAPLAMA SAYFASI'!E206 -> 0 | I68: ='HESAPLAMA SAYFASI'!I206 -> 0 | O68: ='HESAPLAMA SAYFASI'!O206 -> 0 | U68: ='HESAPLAMA SAYFASI'!U206 -> 0 | AA68: ='HESAPLAMA SAYFASI'!AA206 -> 0 | AG68: ='HESAPLAMA SAYFASI'!AG206 -> 0 | AM68: =SUM(E68:AL68) -> 0
D69: Ödenecek Toplam (Net + Faiz) | E69: ='HESAPLAMA SAYFASI'!E208 -> 0 | I69: ='HESAPLAMA SAYFASI'!I208 -> 0 | O69: ='HESAPLAMA SAYFASI'!O208 -> 0 | U69: ='HESAPLAMA SAYFASI'!U208 -> 0 | AA69: ='HESAPLAMA SAYFASI'!AA208 -> 0 | AG69: ='HESAPLAMA SAYFASI'!AG208 -> 0 | AM69: =SUM(E69:AL69) -> 0
A70: ='HESAPLAMA SAYFASI'!A209 -> 9 | B70: ='HESAPLAMA SAYFASI'!B209 -> 0 | C70: ='HESAPLAMA SAYFASI'!C209 -> 0 | D70: Gün Sayısı | E70: ='HESAPLAMA SAYFASI'!E210 -> 0 | F70: ='HESAPLAMA SAYFASI'!F210 -> 0 | G70: ='HESAPLAMA SAYFASI'!G210 -> 0 | H70: ='HESAPLAMA SAYFASI'!H210 -> 0 | I70: ='HESAPLAMA SAYFASI'!I210 -> 0 | J70: ='HESAPLAMA SAYFASI'!J210 -> 0 | K70: ='HESAPLAMA SAYFASI'!K210 -> 0 | L70: ='HESAPLAMA SAYFASI'!L210 -> 0 | ... AL70: ='HESAPLAMA SAYFASI'!AL210 -> 0
D71: Brüt Kontrol Ödemesi | E71: ='HESAPLAMA SAYFASI'!E226 -> 0 | I71: ='HESAPLAMA SAYFASI'!I226 -> 0 | O71: ='HESAPLAMA SAYFASI'!O226 -> 0 | U71: ='HESAPLAMA SAYFASI'!U226 -> 0 | AA71: ='HESAPLAMA SAYFASI'!AA226 -> 0 | AG71: ='HESAPLAMA SAYFASI'!AG226 -> 0 | AM71: =SUM(E71:AL71) -> 0
D72: =Ayarlar!$A$4 -> Gelir Vergisi Oranı (0,15) | E72: ='HESAPLAMA SAYFASI'!E227 -> 0 | I72: ='HESAPLAMA SAYFASI'!I227 -> 0 | O72: ='HESAPLAMA SAYFASI'!O227 -> 0 | U72: ='HESAPLAMA SAYFASI'!U227 -> 0 | AA72: ='HESAPLAMA SAYFASI'!AA227 -> 0 | AG72: ='HESAPLAMA SAYFASI'!AG227 -> 0 | AM72: =SUM(E72:AL72) -> 0
D73: Damga Vergisi | E73: ='HESAPLAMA SAYFASI'!E228 -> 0 | I73: ='HESAPLAMA SAYFASI'!I228 -> 0 | O73: ='HESAPLAMA SAYFASI'!O228 -> 0 | U73: ='HESAPLAMA SAYFASI'!U228 -> 0 | AA73: ='HESAPLAMA SAYFASI'!AA228 -> 0 | AG73: ='HESAPLAMA SAYFASI'!AG228 -> 0 | AM73: =SUM(E73:AL73) -> 0
D74: Net (Faiz Öncesi) | E74: ='HESAPLAMA SAYFASI'!E230 -> 0 | I74: ='HESAPLAMA SAYFASI'!I230 -> 0 | O74: ='HESAPLAMA SAYFASI'!O230 -> 0 | U74: ='HESAPLAMA SAYFASI'!U230 -> 0 | AA74: ='HESAPLAMA SAYFASI'!AA230 -> 0 | AG74: ='HESAPLAMA SAYFASI'!AG230 -> 0 | AM74: =SUM(E74:AL74) -> 0
D75: Faiz Tutarı (Net üzerinden) | E75: ='HESAPLAMA SAYFASI'!E231 -> 0 | I75: ='HESAPLAMA SAYFASI'!I231 -> 0 | O75: ='HESAPLAMA SAYFASI'!O231 -> 0 | U75: ='HESAPLAMA SAYFASI'!U231 -> 0 | AA75: ='HESAPLAMA SAYFASI'!AA231 -> 0 | AG75: ='HESAPLAMA SAYFASI'!AG231 -> 0 | AM75: =SUM(E75:AL75) -> 0
D76: Ödenecek Toplam (Net + Faiz) | E76: ='HESAPLAMA SAYFASI'!E233 -> 0 | I76: ='HESAPLAMA SAYFASI'!I233 -> 0 | O76: ='HESAPLAMA SAYFASI'!O233 -> 0 | U76: ='HESAPLAMA SAYFASI'!U233 -> 0 | AA76: ='HESAPLAMA SAYFASI'!AA233 -> 0 | AG76: ='HESAPLAMA SAYFASI'!AG233 -> 0 | AM76: =SUM(E76:AL76) -> 0
A77: ='HESAPLAMA SAYFASI'!A234 -> 10 | B77: ='HESAPLAMA SAYFASI'!B234 -> 0 | C77: ='HESAPLAMA SAYFASI'!C234 -> 0 | D77: Gün Sayısı | E77: ='HESAPLAMA SAYFASI'!E235 -> 0 | F77: ='HESAPLAMA SAYFASI'!F235 -> 0 | G77: ='HESAPLAMA SAYFASI'!G235 -> 0 | H77: ='HESAPLAMA SAYFASI'!H235 -> 0 | I77: ='HESAPLAMA SAYFASI'!I235 -> 0 | J77: ='HESAPLAMA SAYFASI'!J235 -> 0 | K77: ='HESAPLAMA SAYFASI'!K235 -> 0 | L77: ='HESAPLAMA SAYFASI'!L235 -> 0 | ... AL77: ='HESAPLAMA SAYFASI'!AL235 -> 0
D78: Brüt Kontrol Ödemesi | E78: ='HESAPLAMA SAYFASI'!E251 -> 0 | I78: ='HESAPLAMA SAYFASI'!I251 -> 0 | O78: ='HESAPLAMA SAYFASI'!O251 -> 0 | U78: ='HESAPLAMA SAYFASI'!U251 -> 0 | AA78: ='HESAPLAMA SAYFASI'!AA251 -> 0 | AG78: ='HESAPLAMA SAYFASI'!AG251 -> 0 | AM78: =SUM(E78:AL78) -> 0
D79: =Ayarlar!$A$4 -> Gelir Vergisi Oranı (0,15) | E79: ='HESAPLAMA SAYFASI'!E252 -> 0 | I79: ='HESAPLAMA SAYFASI'!I252 -> 0 | O79: ='HESAPLAMA SAYFASI'!O252 -> 0 | U79: ='HESAPLAMA SAYFASI'!U252 -> 0 | AA79: ='HESAPLAMA SAYFASI'!AA252 -> 0 | AG79: ='HESAPLAMA SAYFASI'!AG252 -> 0 | AM79: =SUM(E79:AL79) -> 0
D80: Damga Vergisi | E80: ='HESAPLAMA SAYFASI'!E253 -> 0 | I80: ='HESAPLAMA SAYFASI'!I253 -> 0 | O80: ='HESAPLAMA SAYFASI'!O253 -> 0 | U80: ='HESAPLAMA SAYFASI'!U253 -> 0 | AA80: ='HESAPLAMA SAYFASI'!AA253 -> 0 | AG80: ='HESAPLAMA SAYFASI'!AG253 -> 0 | AM80: =SUM(E80:AL80) -> 0
D81: Net (Faiz Öncesi) | E81: ='HESAPLAMA SAYFASI'!E255 -> 0 | I81: ='HESAPLAMA SAYFASI'!I255 -> 0 | O81: ='HESAPLAMA SAYFASI'!O255 -> 0 | U81: ='HESAPLAMA SAYFASI'!U255 -> 0 | AA81: ='HESAPLAMA SAYFASI'!AA255 -> 0 | AG81: ='HESAPLAMA SAYFASI'!AG255 -> 0 | AM81: =SUM(E81:AL81) -> 0
D82: Faiz Tutarı (Net üzerinden) | E82: ='HESAPLAMA SAYFASI'!E256 -> 0 | I82: ='HESAPLAMA SAYFASI'!I256 -> 0 | O82: ='HESAPLAMA SAYFASI'!O256 -> 0 | U82: ='HESAPLAMA SAYFASI'!U256 -> 0 | AA82: ='HESAPLAMA SAYFASI'!AA256 -> 0 | AG82: ='HESAPLAMA SAYFASI'!AG256 -> 0 | AM82: =SUM(E82:AL82) -> 0
D83: Ödenecek Toplam (Net + Faiz) | E83: ='HESAPLAMA SAYFASI'!E258 -> 0 | I83: ='HESAPLAMA SAYFASI'!I258 -> 0 | O83: ='HESAPLAMA SAYFASI'!O258 -> 0 | U83: ='HESAPLAMA SAYFASI'!U258 -> 0 | AA83: ='HESAPLAMA SAYFASI'!AA258 -> 0 | AG83: ='HESAPLAMA SAYFASI'!AG258 -> 0 | AM83: =SUM(E83:AL83) -> 0
A84: ='HESAPLAMA SAYFASI'!A259 -> 11 | B84: ='HESAPLAMA SAYFASI'!B259 -> 0 | C84: ='HESAPLAMA SAYFASI'!C259 -> 0 | D84: Gün Sayısı | E84: ='HESAPLAMA SAYFASI'!E260 -> 0 | F84: ='HESAPLAMA SAYFASI'!F260 -> 0 | G84: ='HESAPLAMA SAYFASI'!G260 -> 0 | H84: ='HESAPLAMA SAYFASI'!H260 -> 0 | I84: ='HESAPLAMA SAYFASI'!I260 -> 0 | J84: ='HESAPLAMA SAYFASI'!J260 -> 0 | K84: ='HESAPLAMA SAYFASI'!K260 -> 0 | L84: ='HESAPLAMA SAYFASI'!L260 -> 0 | ... AL84: ='HESAPLAMA SAYFASI'!AL260 -> 0
D85: Brüt Kontrol Ödemesi | E85: ='HESAPLAMA SAYFASI'!E276 -> 0 | I85: ='HESAPLAMA SAYFASI'!I276 -> 0 | O85: ='HESAPLAMA SAYFASI'!O276 -> 0 | U85: ='HESAPLAMA SAYFASI'!U276 -> 0 | AA85: ='HESAPLAMA SAYFASI'!AA276 -> 0 | AG85: ='HESAPLAMA SAYFASI'!AG276 -> 0 | AM85: =SUM(E85:AL85) -> 0
D86: =Ayarlar!$A$4 -> Gelir Vergisi Oranı (0,15) | E86: ='HESAPLAMA SAYFASI'!E277 -> 0 | I86: ='HESAPLAMA SAYFASI'!I277 -> 0 | O86: ='HESAPLAMA SAYFASI'!O277 -> 0 | U86: ='HESAPLAMA SAYFASI'!U277 -> 0 | AA86: ='HESAPLAMA SAYFASI'!AA277 -> 0 | AG86: ='HESAPLAMA SAYFASI'!AG277 -> 0 | AM86: =SUM(E86:AL86) -> 0
D87: Damga Vergisi | E87: ='HESAPLAMA SAYFASI'!E278 -> 0 | I87: ='HESAPLAMA SAYFASI'!I278 -> 0 | O87: ='HESAPLAMA SAYFASI'!O278 -> 0 | U87: ='HESAPLAMA SAYFASI'!U278 -> 0 | AA87: ='HESAPLAMA SAYFASI'!AA278 -> 0 | AG87: ='HESAPLAMA SAYFASI'!AG278 -> 0 | AM87: =SUM(E87:AL87) -> 0
D88: Net (Faiz Öncesi) | E88: ='HESAPLAMA SAYFASI'!E280 -> 0 | I88: ='HESAPLAMA SAYFASI'!I280 -> 0 | O88: ='HESAPLAMA SAYFASI'!O280 -> 0 | U88: ='HESAPLAMA SAYFASI'!U280 -> 0 | AA88: ='HESAPLAMA SAYFASI'!AA280 -> 0 | AG88: ='HESAPLAMA SAYFASI'!AG280 -> 0 | AM88: =SUM(E88:AL88) -> 0
D89: Faiz Tutarı (Net üzerinden) | E89: ='HESAPLAMA SAYFASI'!E281 -> 0 | I89: ='HESAPLAMA SAYFASI'!I281 -> 0 | O89: ='HESAPLAMA SAYFASI'!O281 -> 0 | U89: ='HESAPLAMA SAYFASI'!U281 -> 0 | AA89: ='HESAPLAMA SAYFASI'!AA281 -> 0 | AG89: ='HESAPLAMA SAYFASI'!AG281 -> 0 | AM89: =SUM(E89:AL89) -> 0
D90: Ödenecek Toplam (Net + Faiz) | E90: ='HESAPLAMA SAYFASI'!E283 -> 0 | I90: ='HESAPLAMA SAYFASI'!I283 -> 0 | O90: ='HESAPLAMA SAYFASI'!O283 -> 0 | U90: ='HESAPLAMA SAYFASI'!U283 -> 0 | AA90: ='HESAPLAMA SAYFASI'!AA283 -> 0 | AG90: ='HESAPLAMA SAYFASI'!AG283 -> 0 | AM90: =SUM(E90:AL90) -> 0
A91: ='HESAPLAMA SAYFASI'!A284 -> 12 | B91: ='HESAPLAMA SAYFASI'!B284 -> 0 | C91: ='HESAPLAMA SAYFASI'!C284 -> 0 | D91: Gün Sayısı | E91: ='HESAPLAMA SAYFASI'!E285 -> 0 | F91: ='HESAPLAMA SAYFASI'!F285 -> 0 | G91: ='HESAPLAMA SAYFASI'!G285 -> 0 | H91: ='HESAPLAMA SAYFASI'!H285 -> 0 | I91: ='HESAPLAMA SAYFASI'!I285 -> 0 | J91: ='HESAPLAMA SAYFASI'!J285 -> 0 | K91: ='HESAPLAMA SAYFASI'!K285 -> 0 | L91: ='HESAPLAMA SAYFASI'!L285 -> 0 | ... AL91: ='HESAPLAMA SAYFASI'!AL285 -> 0
D92: Brüt Kontrol Ödemesi | E92: ='HESAPLAMA SAYFASI'!E301 -> 0 | I92: ='HESAPLAMA SAYFASI'!I301 -> 0 | O92: ='HESAPLAMA SAYFASI'!O301 -> 0 | U92: ='HESAPLAMA SAYFASI'!U301 -> 0 | AA92: ='HESAPLAMA SAYFASI'!AA301 -> 0 | AG92: ='HESAPLAMA SAYFASI'!AG301 -> 0 | AM92: =SUM(E92:AL92) -> 0
D93: =Ayarlar!$A$4 -> Gelir Vergisi Oranı (0,15) | E93: ='HESAPLAMA SAYFASI'!E302 -> 0 | I93: ='HESAPLAMA SAYFASI'!I302 -> 0 | O93: ='HESAPLAMA SAYFASI'!O302 -> 0 | U93: ='HESAPLAMA SAYFASI'!U302 -> 0 | AA93: ='HESAPLAMA SAYFASI'!AA302 -> 0 | AG93: ='HESAPLAMA SAYFASI'!AG302 -> 0 | AM93: =SUM(E93:AL93) -> 0
D94: Damga Vergisi | E94: ='HESAPLAMA SAYFASI'!E303 -> 0 | I94: ='HESAPLAMA SAYFASI'!I303 -> 0 | O94: ='HESAPLAMA SAYFASI'!O303 -> 0 | U94: ='HESAPLAMA SAYFASI'!U303 -> 0 | AA94: ='HESAPLAMA SAYFASI'!AA303 -> 0 | AG94: ='HESAPLAMA SAYFASI'!AG303 -> 0 | AM94: =SUM(E94:AL94) -> 0
D95: Net (Faiz Öncesi) | E95: ='HESAPLAMA SAYFASI'!E305 -> 0 | I95: ='HESAPLAMA SAYFASI'!I305 -> 0 | O95: ='HESAPLAMA SAYFASI'!O305 -> 0 | U95: ='HESAPLAMA SAYFASI'!U305 -> 0 | AA95: ='HESAPLAMA SAYFASI'!AA305 -> 0 | AG95: ='HESAPLAMA SAYFASI'!AG305 -> 0 | AM95: =SUM(E95:AL95) -> 0
D96: Faiz Tutarı (Net üzerinden) | E96: ='HESAPLAMA SAYFASI'!E306 -> 0 | I96: ='HESAPLAMA SAYFASI'!I306 -> 0 | O96: ='HESAPLAMA SAYFASI'!O306 -> 0 | U96: ='HESAPLAMA SAYFASI'!U306 -> 0 | AA96: ='HESAPLAMA SAYFASI'!AA306 -> 0 | AG96: ='HESAPLAMA SAYFASI'!AG306 -> 0 | AM96: =SUM(E96:AL96) -> 0
D97: Ödenecek Toplam (Net + Faiz) | E97: ='HESAPLAMA SAYFASI'!E308 -> 0 | I97: ='HESAPLAMA SAYFASI'!I308 -> 0 | O97: ='HESAPLAMA SAYFASI'!O308 -> 0 | U97: ='HESAPLAMA SAYFASI'!U308 -> 0 | AA97: ='HESAPLAMA SAYFASI'!AA308 -> 0 | AG97: ='HESAPLAMA SAYFASI'!AG308 -> 0 | AM97: =SUM(E97:AL97) -> 0
A98: ='HESAPLAMA SAYFASI'!A309 -> 13 | B98: ='HESAPLAMA SAYFASI'!B309 -> 0 | C98: ='HESAPLAMA SAYFASI'!C309 -> 0 | D98: Gün Sayısı | E98: ='HESAPLAMA SAYFASI'!E310 -> 0 | F98: ='HESAPLAMA SAYFASI'!F310 -> 0 | G98: ='HESAPLAMA SAYFASI'!G310 -> 0 | H98: ='HESAPLAMA SAYFASI'!H310 -> 0 | I98: ='HESAPLAMA SAYFASI'!I310 -> 0 | J98: ='HESAPLAMA SAYFASI'!J310 -> 0 | K98: ='HESAPLAMA SAYFASI'!K310 -> 0 | L98: ='HESAPLAMA SAYFASI'!L310 -> 0 | ... AL98: ='HESAPLAMA SAYFASI'!AL310 -> 0
D99: Brüt Kontrol Ödemesi | E99: ='HESAPLAMA SAYFASI'!E326 -> 0 | I99: ='HESAPLAMA SAYFASI'!I326 -> 0 | O99: ='HESAPLAMA SAYFASI'!O326 -> 0 | U99: ='HESAPLAMA SAYFASI'!U326 -> 0 | AA99: ='HESAPLAMA SAYFASI'!AA326 -> 0 | AG99: ='HESAPLAMA SAYFASI'!AG326 -> 0 | AM99: =SUM(E99:AL99) -> 0
D100: =Ayarlar!$A$4 -> Gelir Vergisi Oranı (0,15) | E100: ='HESAPLAMA SAYFASI'!E327 -> 0 | I100: ='HESAPLAMA SAYFASI'!I327 -> 0 | O100: ='HESAPLAMA SAYFASI'!O327 -> 0 | U100: ='HESAPLAMA SAYFASI'!U327 -> 0 | AA100: ='HESAPLAMA SAYFASI'!AA327 -> 0 | AG100: ='HESAPLAMA SAYFASI'!AG327 -> 0 | AM100: =SUM(E100:AL100) -> 0
D101: Damga Vergisi | E101: ='HESAPLAMA SAYFASI'!E328 -> 0 | I101: ='HESAPLAMA SAYFASI'!I328 -> 0 | O101: ='HESAPLAMA SAYFASI'!O328 -> 0 | U101: ='HESAPLAMA SAYFASI'!U328 -> 0 | AA101: ='HESAPLAMA SAYFASI'!AA328 -> 0 | AG101: ='HESAPLAMA SAYFASI'!AG328 -> 0 | AM101: =SUM(E101:AL101) -> 0
D102: Net (Faiz Öncesi) | E102: ='HESAPLAMA SAYFASI'!E330 -> 0 | I102: ='HESAPLAMA SAYFASI'!I330 -> 0 | O102: ='HESAPLAMA SAYFASI'!O330 -> 0 | U102: ='HESAPLAMA SAYFASI'!U330 -> 0 | AA102: ='HESAPLAMA SAYFASI'!AA330 -> 0 | AG102: ='HESAPLAMA SAYFASI'!AG330 -> 0 | AM102: =SUM(E102:AL102) -> 0
D103: Faiz Tutarı (Net üzerinden) | E103: ='HESAPLAMA SAYFASI'!E331 -> 0 | I103: ='HESAPLAMA SAYFASI'!I331 -> 0 | O103: ='HESAPLAMA SAYFASI'!O331 -> 0 | U103: ='HESAPLAMA SAYFASI'!U331 -> 0 | AA103: ='HESAPLAMA SAYFASI'!AA331 -> 0 | AG103: ='HESAPLAMA SAYFASI'!AG331 -> 0 | AM103: =SUM(E103:AL103) -> 0
D104: Ödenecek Toplam (Net + Faiz) | E104: ='HESAPLAMA SAYFASI'!E333 -> 0 | I104: ='HESAPLAMA SAYFASI'!I333 -> 0 | O104: ='HESAPLAMA SAYFASI'!O333 -> 0 | U104: ='HESAPLAMA SAYFASI'!U333 -> 0 | AA104: ='HESAPLAMA SAYFASI'!AA333 -> 0 | AG104: ='HESAPLAMA SAYFASI'!AG333 -> 0 | AM104: =SUM(E104:AL104) -> 0
...

Sheet Banka Listesi
A1: =CONCATENATE('VERİ GİRİŞİ'!$B$1&" İLÇE TARIM VE ORMAN MÜDÜRLÜĞÜ") -> ÇİVRİL İLÇE TARIM VE ORMAN MÜDÜRLÜĞÜ
A3: GERİYE DÖNÜK EK ÖZEL HİZMET TAZMİNATI BANKA LİSTESİ DÖKÜMÜ
A8: Sıra No | B8: TC Kimlik No | C8: Ad Soyad | D8: İban | E8: Net Ödeme (₺)
A9: 1 | B9: =IF('VERİ GİRİŞİ'!B12="","",'VERİ GİRİŞİ'!B12) | C9: =IF('VERİ GİRİŞİ'!C12="","",'VERİ GİRİŞİ'!C12) | D9: =IF('VERİ GİRİŞİ'!D12="","",'VERİ GİRİŞİ'!D12) | E9: ='ÇÖB Bordrosu'!AM20 -> 0
A10: 2 | B10: =IF('VERİ GİRİŞİ'!B13="","",'VERİ GİRİŞİ'!B13) | C10: =IF('VERİ GİRİŞİ'!C13="","",'VERİ GİRİŞİ'!C13) | D10: =IF('VERİ GİRİŞİ'!D13="","",'VERİ GİRİŞİ'!D13) | E10: ='ÇÖB Bordrosu'!AM27 -> 0
A11: 3 | B11: =IF('VERİ GİRİŞİ'!B14="","",'VERİ GİRİŞİ'!B14) | C11: =IF('VERİ GİRİŞİ'!C14="","",'VERİ GİRİŞİ'!C14) | D11: =IF('VERİ GİRİŞİ'!D14="","",'VERİ GİRİŞİ'!D14) | E11: ='ÇÖB Bordrosu'!AM34 -> 0
A12: 4 | B12: =IF('VERİ GİRİŞİ'!B15="","",'VERİ GİRİŞİ'!B15) | C12: =IF('VERİ GİRİŞİ'!C15="","",'VERİ GİRİŞİ'!C15) | D12: =IF('VERİ GİRİŞİ'!D15="","",'VERİ GİRİŞİ'!D15) | E12: ='ÇÖB Bordrosu'!AM41 -> 0
A13: 5 | B13: =IF('VERİ GİRİŞİ'!B16="","",'VERİ GİRİŞİ'!B16) | C13: =IF('VERİ GİRİŞİ'!C16="","",'VERİ GİRİŞİ'!C16) | D13: =IF('VERİ GİRİŞİ'!D16="","",'VERİ GİRİŞİ'!D16) | E13: ='ÇÖB Bordrosu'!AM48 -> 0
A14: 6 | B14: =IF('VERİ GİRİŞİ'!B17="","",'VERİ GİRİŞİ'!B17) | C14: =IF('VERİ GİRİŞİ'!C17="","",'VERİ GİRİŞİ'!C17) | D14: =IF('VERİ GİRİŞİ'!D17="","",'VERİ GİRİŞİ'!D17) | E14: ='ÇÖB Bordrosu'!AM55 -> 0
A15: 7 | B15: =IF('VERİ GİRİŞİ'!B18="","",'VERİ GİRİŞİ'!B18) | C15: =IF('VERİ GİRİŞİ'!C18="","",'VERİ GİRİŞİ'!C18) | D15: =IF('VERİ GİRİŞİ'!D18="","",'VERİ GİRİŞİ'!D18) | E15: ='ÇÖB Bordrosu'!AM62 -> 0
A16: 8 | B16: =IF('VERİ GİRİŞİ'!B19="","",'VERİ GİRİŞİ'!B19) | C16: =IF('VERİ GİRİŞİ'!C19="","",'VERİ GİRİŞİ'!C19) | D16: =IF('VERİ GİRİŞİ'!D19="","",'VERİ GİRİŞİ'!D19) | E16: ='ÇÖB Bordrosu'!AM69 -> 0
A17: 9 | B17: =IF('VERİ GİRİŞİ'!B20="","",'VERİ GİRİŞİ'!B20) | C17: =IF('VERİ GİRİŞİ'!C20="","",'VERİ GİRİŞİ'!C20) | D17: =IF('VERİ GİRİŞİ'!D20="","",'VERİ GİRİŞİ'!D20) | E17: ='ÇÖB Bordrosu'!AM76 -> 0
A18: 10 | B18: =IF('VERİ GİRİŞİ'!B21="","",'VERİ GİRİŞİ'!B21) | C18: =IF('VERİ GİRİŞİ'!C21="","",'VERİ GİRİŞİ'!C21) | D18: =IF('VERİ GİRİŞİ'!D21="","",'VERİ GİRİŞİ'!D21) | E18: ='ÇÖB Bordrosu'!AM83 -> 0
A19: 11 | B19: =IF('VERİ GİRİŞİ'!B22="","",'VERİ GİRİŞİ'!B22) | C19: =IF('VERİ GİRİŞİ'!C22="","",'VERİ GİRİŞİ'!C22) | D19: =IF('VERİ GİRİŞİ'!D22="","",'VERİ GİRİŞİ'!D22) | E19: ='ÇÖB Bordrosu'!AM90 -> 0
A20: 12 | B20: =IF('VERİ GİRİŞİ'!B23="","",'VERİ GİRİŞİ'!B23) | C20: =IF('VERİ GİRİŞİ'!C23="","",'VERİ GİRİŞİ'!C23) | D20: =IF('VERİ GİRİŞİ'!D23="","",'VERİ GİRİŞİ'!D23) | E20: ='ÇÖB Bordrosu'!AM97 -> 0
A21: 13 | B21: =IF('VERİ GİRİŞİ'!B24="","",'VERİ GİRİŞİ'!B24) | C21: =IF('VERİ GİRİŞİ'!C24="","",'VERİ GİRİŞİ'!C24) | D21: =IF('VERİ GİRİŞİ'!D24="","",'VERİ GİRİŞİ'!D24) | E21: ='ÇÖB Bordrosu'!AM104 -> 0
A22: 14 | B22: =IF('VERİ GİRİŞİ'!B25="","",'VERİ GİRİŞİ'!B25) | C22: =IF('VERİ GİRİŞİ'!C25="","",'VERİ GİRİŞİ'!C25) | D22: =IF('VERİ GİRİŞİ'!D25="","",'VERİ GİRİŞİ'!D25) | E22: ='ÇÖB Bordrosu'!AM111 -> 0
A23: 15 | B23: =IF('VERİ GİRİŞİ'!B26="","",'VERİ GİRİŞİ'!B26) | C23: =IF('VERİ GİRİŞİ'!C26="","",'VERİ GİRİŞİ'!C26) | D23: =IF('VERİ GİRİŞİ'!D26="","",'VERİ GİRİŞİ'!D26) | E23: ='ÇÖB Bordrosu'!AM118 -> 0
A24: 16 | B24: =IF('VERİ GİRİŞİ'!B27="","",'VERİ GİRİŞİ'!B27) | C24: =IF('VERİ GİRİŞİ'!C27="","",'VERİ GİRİŞİ'!C27) | D24: =IF('VERİ GİRİŞİ'!D27="","",'VERİ GİRİŞİ'!D27) | E24: ='ÇÖB Bordrosu'!AM125 -> 0
A25: 17 | B25: =IF('VERİ GİRİŞİ'!B28="","",'VERİ GİRİŞİ'!B28) | C25: =IF('VERİ GİRİŞİ'!C28="","",'VERİ GİRİŞİ'!C28) | D25: =IF('VERİ GİRİŞİ'!D28="","",'VERİ GİRİŞİ'!D28) | E25: ='ÇÖB Bordrosu'!AM132 -> 0
A26: 18 | B26: =IF('VERİ GİRİŞİ'!B29="","",'VERİ GİRİŞİ'!B29) | C26: =IF('VERİ GİRİŞİ'!C29="","",'VERİ GİRİŞİ'!C29) | D26: =IF('VERİ GİRİŞİ'!D29="","",'VERİ GİRİŞİ'!D29) | E26: ='ÇÖB Bordrosu'!AM139 -> 0
A27: 19 | B27: =IF('VERİ GİRİŞİ'!B30="","",'VERİ GİRİŞİ'!B30) | C27: =IF('VERİ GİRİŞİ'!C30="","",'VERİ GİRİŞİ'!C30) | D27: =IF('VERİ GİRİŞİ'!D30="","",'VERİ GİRİŞİ'!D30) | E27: ='ÇÖB Bordrosu'!AM146 -> 0
A28: 20 | B28: =IF('VERİ GİRİŞİ'!B31="","",'VERİ GİRİŞİ'!B31) | C28: =IF('VERİ GİRİŞİ'!C31="","",'VERİ GİRİŞİ'!C31) | D28: =IF('VERİ GİRİŞİ'!D31="","",'VERİ GİRİŞİ'!D31) | E28: ='ÇÖB Bordrosu'!AM153 -> 0
A29: 21 | B29: =IF('VERİ GİRİŞİ'!B32="","",'VERİ GİRİŞİ'!B32) | C29: =IF('VERİ GİRİŞİ'!C32="","",'VERİ GİRİŞİ'!C32) | D29: =IF('VERİ GİRİŞİ'!D32="","",'VERİ GİRİŞİ'!D32) | E29: ='ÇÖB Bordrosu'!AM160 -> 0
A30: 22 | B30: =IF('VERİ GİRİŞİ'!B33="","",'VERİ GİRİŞİ'!B33) | C30: =IF('VERİ GİRİŞİ'!C33="","",'VERİ GİRİŞİ'!C33) | D30: =IF('VERİ GİRİŞİ'!D33="","",'VERİ GİRİŞİ'!D33) | E30: ='ÇÖB Bordrosu'!AM167 -> 0
A31: 23 | B31: =IF('VERİ GİRİŞİ'!B34="","",'VERİ GİRİŞİ'!B34) | C31: =IF('VERİ GİRİŞİ'!C34="","",'VERİ GİRİŞİ'!C34) | D31: =IF('VERİ GİRİŞİ'!D34="","",'VERİ GİRİŞİ'!D34) | E31: ='ÇÖB Bordrosu'!AM174 -> 0
A32: 24 | B32: =IF('VERİ GİRİŞİ'!B35="","",'VERİ GİRİŞİ'!B35) | C32: =IF('VERİ GİRİŞİ'!C35="","",'VERİ GİRİŞİ'!C35) | D32: =IF('VERİ GİRİŞİ'!D35="","",'VERİ GİRİŞİ'!D35) | E32: ='ÇÖB Bordrosu'!AM181 -> 0
A33: 25 | B33: =IF('VERİ GİRİŞİ'!B36="","",'VERİ GİRİŞİ'!B36) | C33: =IF('VERİ GİRİŞİ'!C36="","",'VERİ GİRİŞİ'!C36) | D33: =IF('VERİ GİRİŞİ'!D36="","",'VERİ GİRİŞİ'!D36) | E33: ='ÇÖB Bordrosu'!AM188 -> 0
A34: TOPLAM | E34: =SUM(E9:E33) -> 0
C36: Gerçekleştirme Görevlisi | E36: Harcama Yetkilisi
B37: Tarih: | D37: Tarih:
B38: Adı Soyadı: | D38: Adı Soyadı:
B39: İmza: | D39: İmza:

Sheet HARCAMA TALİMATI
A1: HARCAMA TALİMATI
A3: SAYI : | H3: =TODAY() -> 46142
A4: =CONCATENATE("Harcama Talebinde Bulunan Birim: "&PROPER('VERİ GİRİŞİ'!B1)&" İlçe Tarım ve Orman Müdürlüğü") -> Harcama Talebinde Bulunan Birim: Çivril İlçe Tarım ve Orman Müdürlüğü
A8: =CONCATENATE('VERİ GİRİŞİ'!B1&" İLÇE TARIM VE ORMAN MÜDÜRLÜĞÜ" ) -> ÇİVRİL İLÇE TARIM VE ORMAN MÜDÜRLÜĞÜ
A9: Y A P I L A C A K H A R C A M A N I N | B9: Gerekçesi ve Hukuki Dayanağı | F9: 2006/10344 Sayılı Bakanlar Kururu Kararı
B11: Konusu/Nev'i | F11: 2023-2024-2025 Yılı Kontrol Görevi Ödemesi
B12: Niteliği | F12: =F11 -> 2023-2024-2025 Yılı Kontrol Görevi Ödemesi
B15: Miktarı | F15: =CONCATENATE(COUNTA('VERİ GİRİŞİ'!$C$12:$C$36)," personel") -> 0 personel
B17: Gerçekleştirme Süresi | F17: 2026
B20: Tutarı veya Belirlenmişse Yaklaşık Bedeli | F20: ='ÇÖB Bordrosu'!AM189+'ÇÖB Bordrosu'!AM193 -> 0 | J20: 20
F22: Mevcuutur
B23: Kullanılabilir Ödenek Tutarı | F23: Mevcuttur
B25: Ödeneğin Bütçe Tertibi | F25: 39.108.563.653.23.67.01.01.01.20.01
B27: Gerçekleştirme Görevlisi Adı Soyad | F27: ='VERİ GİRİŞİ'!$U$1 -> 0
B29: Gerçekleştirme Görevlisi Ünvanı | F29: ='VERİ GİRİŞİ'!$U$2 -> 0
A30: AÇIKLAMALAR
A31: 2006/10344 Sayılı Bakanlar Kururu Kararı Devlet Memurlarına Ödenecek Zam ve Tazminatlara ilişkin karar uyarınca Özel Hizmet Tazminatı II Sayılı Cetvel E bendi Teknik Hizmetler sınıfı 6. maddesi gereği Bakanlar Kurulu Kararı ile Teknik Hizmetler sınıfı kadrolarında fiilen çalışanlar için geçmişe dönük ödenmeyen Ek Özel Hizmet Tazminatlarının Danıştay 12. Dairesi nezdinde açılan dava sonucunda Danıştay 12. Dairesi tarafından (Esas No: 2023/1980, Karar No:2025/3371) “Tarım ve Orman Bakanlığı Rehberlik ve Teftiş Başkanlığının, Bakan oluruyla yürürlüğe konulan 15/02/2023 tarih ve 238/31 sayılı Genel Yazısı'nın, kontrol hizmetleri ilave ödemesiyle ilgili hususları düzenleyen (3) numaralı maddesinin (b) bendindeki, “ek özel hizmet (arazi) tazminatından yararlanılan günler için kontrol hizmetleri ilave ödemesinin yapılmaması” ibaresinin İPTALİNE Karar verilmiştir. Bu nedenle Kontrol Görevi ve Ek Özel Hizmet Tazminaatının Faizli olarak dilekçe ile talep edene Faizli olarak, Faizsiz olarak dilekçe ile talep edene faizsiz olarak ödenmesi hususunu;
A38: Yukarıda belirtilen harcamanın yaptırılması hususunda olurlarınıza arz ederim.
G39: OLUR
G40: =TODAY() -> 46142
B42: Teklif Eden Yetkilinin | G42: Harcama Yetkilisi
B43: Gerçekleştirme Görevlisi
F44: İmzası :
A45: =CONCATENATE("Adı Soyadı : "&F27) -> Adı Soyadı : 0
A46: İmzası : | F46: Adı Soyadı : | H46: ='VERİ GİRİŞİ'!$AD$1 -> 0
A48: =CONCATENATE("Ünvanı: "&F29) -> Ünvanı: 0 | F48: Ünvanı : | H48: ='VERİ GİRİŞİ'!$AD$2 -> 0
